Back to Multiple platform build/check report for BioC 3.12
[A]BCDEFGHIJKLMNOPQRSTUVWXYZ

CHECK report for alpine on malbec1

This page was generated on 2020-10-14 11:09:53 -0400 (Wed, 14 Oct 2020).

TO THE DEVELOPERS/MAINTAINERS OF THE alpine PACKAGE: Please make sure to use the following settings in order to reproduce any error or warning you see on this page.
Package 45/1930HostnameOS / ArchINSTALLBUILDCHECKBUILD BIN
alpine 1.15.0
Michael Love
Snapshot Date: 2020-10-13 14:40:34 -0400 (Tue, 13 Oct 2020)
URL: https://git.bioconductor.org/packages/alpine
Branch: master
Last Commit: ba310e3
Last Changed Date: 2020-04-27 15:00:57 -0400 (Mon, 27 Apr 2020)
malbec1 Linux (Ubuntu 18.04.4 LTS) / x86_64  OK  OK [ OK ]UNNEEDED, same version exists in internal repository
nebbiolo1 Linux (Ubuntu 20.04.1 LTS) / x86_64  OK  ERROR  skipped 
tokay1 Windows Server 2012 R2 Standard / x64  OK  OK  OK  NA 
riesling1 Windows Server 2019 Standard / x64  OK  OK  OK  OK 
merida1 macOS 10.14.6 Mojave / x86_64  OK  OK  OK  NA 

Summary

Package: alpine
Version: 1.15.0
Command: /home/biocbuild/bbs-3.12-bioc/R/bin/R CMD check --install=check:alpine.install-out.txt --library=/home/biocbuild/bbs-3.12-bioc/R/library --no-vignettes --timings alpine_1.15.0.tar.gz
StartedAt: 2020-10-14 03:45:34 -0400 (Wed, 14 Oct 2020)
EndedAt: 2020-10-14 03:53:42 -0400 (Wed, 14 Oct 2020)
EllapsedTime: 488.0 seconds
RetCode: 0
Status:  OK 
CheckDir: alpine.Rcheck
Warnings: 0

Command output

##############################################################################
##############################################################################
###
### Running command:
###
###   /home/biocbuild/bbs-3.12-bioc/R/bin/R CMD check --install=check:alpine.install-out.txt --library=/home/biocbuild/bbs-3.12-bioc/R/library --no-vignettes --timings alpine_1.15.0.tar.gz
###
##############################################################################
##############################################################################


* using log directory ‘/home/biocbuild/bbs-3.12-bioc/meat/alpine.Rcheck’
* using R version 4.0.3 (2020-10-10)
* using platform: x86_64-pc-linux-gnu (64-bit)
* using session charset: UTF-8
* using option ‘--no-vignettes’
* checking for file ‘alpine/DESCRIPTION’ ... OK
* this is package ‘alpine’ version ‘1.15.0’
* checking package namespace information ... OK
* checking package dependencies ... OK
* checking if this is a source package ... OK
* checking if there is a namespace ... OK
* checking for hidden files and directories ... OK
* checking for portable file names ... OK
* checking for sufficient/correct file permissions ... OK
* checking whether package ‘alpine’ can be installed ... OK
* checking installed package size ... OK
* checking package directory ... OK
* checking ‘build’ directory ... OK
* checking DESCRIPTION meta-information ... OK
* checking top-level files ... OK
* checking for left-over files ... OK
* checking index information ... OK
* checking package subdirectories ... OK
* checking R files for non-ASCII characters ... OK
* checking R files for syntax errors ... OK
* checking whether the package can be loaded ... OK
* checking whether the package can be loaded with stated dependencies ... OK
* checking whether the package can be unloaded cleanly ... OK
* checking whether the namespace can be loaded with stated dependencies ... OK
* checking whether the namespace can be unloaded cleanly ... OK
* checking dependencies in R code ... NOTE
Unexported object imported by a ':::' call: ‘S4Vectors:::fancy_mseq’
  See the note in ?`:::` about the use of this operator.
* checking S3 generic/method consistency ... OK
* checking replacement functions ... OK
* checking foreign function calls ... OK
* checking R code for possible problems ... OK
* checking Rd files ... OK
* checking Rd metadata ... OK
* checking Rd cross-references ... OK
* checking for missing documentation entries ... OK
* checking for code/documentation mismatches ... OK
* checking Rd \usage sections ... OK
* checking Rd contents ... OK
* checking for unstated dependencies in examples ... OK
* checking contents of ‘data’ directory ... OK
* checking data for non-ASCII characters ... OK
* checking data for ASCII and uncompressed saves ... OK
* checking files in ‘vignettes’ ... OK
* checking examples ... OK
Examples with CPU (user + system) or elapsed time > 5s
                    user system elapsed
fitBiasModels     20.196  0.752  21.362
estimateAbundance 17.948  0.848  51.645
predictCoverage    9.748  0.300  10.330
getFragmentWidths  5.352  0.044   5.606
getReadLength      4.812  0.048   5.108
* checking for unstated dependencies in ‘tests’ ... OK
* checking tests ...
  Running ‘testthat.R’
 OK
* checking for unstated dependencies in vignettes ... OK
* checking package vignettes in ‘inst/doc’ ... OK
* checking running R code from vignettes ... SKIPPED
* checking re-building of vignette outputs ... SKIPPED
* checking PDF version of manual ... OK
* DONE

Status: 1 NOTE
See
  ‘/home/biocbuild/bbs-3.12-bioc/meat/alpine.Rcheck/00check.log’
for details.



Installation output

alpine.Rcheck/00install.out

##############################################################################
##############################################################################
###
### Running command:
###
###   /home/biocbuild/bbs-3.12-bioc/R/bin/R CMD INSTALL alpine
###
##############################################################################
##############################################################################


* installing to library ‘/home/biocbuild/bbs-3.12-bioc/R/library’
* installing *source* package ‘alpine’ ...
** using staged installation
** R
** data
** inst
** byte-compile and prepare package for lazy loading
** help
*** installing help indices
** building package indices
** installing vignettes
** testing if installed package can be loaded from temporary location
** testing if installed package can be loaded from final location
** testing if installed package keeps a record of temporary installation path
* DONE (alpine)

Tests output

alpine.Rcheck/tests/testthat.Rout


R version 4.0.3 (2020-10-10) -- "Bunny-Wunnies Freak Out"
Copyright (C) 2020 The R Foundation for Statistical Computing
Platform: x86_64-pc-linux-gnu (64-bit)

R is free software and comes with ABSOLUTELY NO WARRANTY.
You are welcome to redistribute it under certain conditions.
Type 'license()' or 'licence()' for distribution details.

R is a collaborative project with many contributors.
Type 'contributors()' for more information and
'citation()' on how to cite R or R packages in publications.

Type 'demo()' for some demos, 'help()' for on-line help, or
'help.start()' for an HTML browser interface to help.
Type 'q()' to quit R.

> library(testthat)
> library(alpine)
> test_check("alpine")
══ testthat results  ═══════════════════════════════════════════════════════════
[ OK: 1 | SKIPPED: 0 | WARNINGS: 4 | FAILED: 0 ]
> 
> proc.time()
   user  system elapsed 
 61.596   2.152  67.205 

Example timings

alpine.Rcheck/alpine-Ex.timings

nameusersystemelapsed
buildFragtypes3.4120.1003.723
estimateAbundance17.948 0.84851.645
extractAlpine0.0240.0000.023
fitBiasModels20.196 0.75221.362
getFragmentWidths5.3520.0445.606
getReadLength4.8120.0485.108
mergeGenes0.5000.0040.505
normalizeDESeq0.0000.0000.001
plotFragLen0.0240.0000.024
plotGC0.0360.0000.038
plotGRL0.2080.0000.206
plotOrder00.0840.0000.084
plotRelPos0.0360.0040.040
predictCoverage 9.748 0.30010.330
splitGenesAcrossChroms0.4920.0000.495
splitLongGenes0.5720.0000.572