Back to Multiple platform build/check report for BioC 3.12
[A]BCDEFGHIJKLMNOPQRSTUVWXYZ

BUILD report for ASpli on malbec1

This page was generated on 2020-08-09 11:26:32 -0400 (Sun, 09 Aug 2020).

TO THE DEVELOPERS/MAINTAINERS OF THE ASpli PACKAGE: Please make sure to use the following settings in order to reproduce any error or warning you see on this page.
Package 89/1882HostnameOS / ArchINSTALLBUILDCHECKBUILD BIN
ASpli 1.99.2
Estefania Mancini
Snapshot Date: 2020-08-08 14:51:01 -0400 (Sat, 08 Aug 2020)
URL: https://git.bioconductor.org/packages/ASpli
Branch: master
Last Commit: dda9b82
Last Changed Date: 2020-07-21 10:22:53 -0400 (Tue, 21 Jul 2020)
malbec1 Linux (Ubuntu 18.04.4 LTS) / x86_64  OK [ OK ] OK UNNEEDED, same version exists in internal repository
nebbiolo1 Linux (Ubuntu 20.04.1 LTS) / x86_64  OK  OK  OK 
tokay1 Windows Server 2012 R2 Standard / x64  OK  OK  OK  OK UNNEEDED, same version exists in internal repository
merida1 macOS 10.14.6 Mojave / x86_64  OK  OK  OK  OK UNNEEDED, same version exists in internal repository

Summary

Package: ASpli
Version: 1.99.2
Command: /home/biocbuild/bbs-3.12-bioc/R/bin/R CMD build --keep-empty-dirs --no-resave-data ASpli
StartedAt: 2020-08-08 20:05:31 -0400 (Sat, 08 Aug 2020)
EndedAt: 2020-08-08 20:09:06 -0400 (Sat, 08 Aug 2020)
EllapsedTime: 215.2 seconds
RetCode: 0
Status:  OK 
PackageFile: ASpli_1.99.2.tar.gz
PackageFileSize: 3.961 MiB

Command output

##############################################################################
##############################################################################
###
### Running command:
###
###   /home/biocbuild/bbs-3.12-bioc/R/bin/R CMD build --keep-empty-dirs --no-resave-data ASpli
###
##############################################################################
##############################################################################


* checking for file ‘ASpli/DESCRIPTION’ ... OK
* preparing ‘ASpli’:
* checking DESCRIPTION meta-information ... OK
* installing the package to build vignettes
* creating vignettes ... OK
* checking for LF line-endings in source and make files and shell scripts
* checking for empty or unneeded directories
* building ‘ASpli_1.99.2.tar.gz’