Back to Multiple platform build/check report for BioC 3.12 |
|
This page was generated on 2021-05-06 12:31:02 -0400 (Thu, 06 May 2021).
To the developers/maintainers of the ENCODExplorer package: Please make sure to use the following settings in order to reproduce any error or warning you see on this page. |
Package 544/1974 | Hostname | OS / Arch | INSTALL | BUILD | CHECK | BUILD BIN | ||||||||
ENCODExplorer 2.16.0 (landing page) Charles Joly Beauparlant
| malbec1 | Linux (Ubuntu 18.04.5 LTS) / x86_64 | OK | OK | ERROR | |||||||||
tokay1 | Windows Server 2012 R2 Standard / x64 | OK | OK | ERROR | OK | |||||||||
merida1 | macOS 10.14.6 Mojave / x86_64 | OK | OK | ERROR | OK | |||||||||
Package: ENCODExplorer |
Version: 2.16.0 |
Command: rm -rf ENCODExplorer.buildbin-libdir && mkdir ENCODExplorer.buildbin-libdir && C:\Users\biocbuild\bbs-3.12-bioc\R\bin\R.exe CMD INSTALL --merge-multiarch --build --library=ENCODExplorer.buildbin-libdir ENCODExplorer_2.16.0.tar.gz |
StartedAt: 2021-05-06 08:59:44 -0400 (Thu, 06 May 2021) |
EndedAt: 2021-05-06 09:00:45 -0400 (Thu, 06 May 2021) |
EllapsedTime: 60.3 seconds |
RetCode: 0 |
Status: OK |
PackageFile: ENCODExplorer_2.16.0.zip |
PackageFileSize: 1.398 MiB |
############################################################################## ############################################################################## ### ### Running command: ### ### rm -rf ENCODExplorer.buildbin-libdir && mkdir ENCODExplorer.buildbin-libdir && C:\Users\biocbuild\bbs-3.12-bioc\R\bin\R.exe CMD INSTALL --merge-multiarch --build --library=ENCODExplorer.buildbin-libdir ENCODExplorer_2.16.0.tar.gz ### ############################################################################## ############################################################################## install for i386 * installing *source* package 'ENCODExplorer' ... ** using staged installation ** R ** inst ** byte-compile and prepare package for lazy loading ** help *** installing help indices converting help for package 'ENCODExplorer' finding HTML links ... done ENCODEBindingConsensus-class html finding level-2 HTML links ... done ENCODEExpressionSummary-class html ENCODESummary-class html ENCODExplorer html GenomicOverlaps-class html GenomicOverlaps html buildConsensusPeaks html buildExpressionSummary html choose_interactive_value html combined_regions-GenomicOverlaps-method html combined_regions-set-GenomicOverlaps-GRanges-method html consensus_indices html consensus_regions html createDesign html downloadEncode html download_dt_file html download_single_file html fuzzySearch html get_encode_df html get_encode_df_demo html get_encode_df_full html initial_regions-GenomicOverlaps-method html intersect_indices html intersect_matrix html intersect_regions html length-GenomicOverlaps-method html names-GenomicOverlaps-method html names-set-GenomicOverlaps-character-method html pairwise_overlap html queryConsensusPeaks html queryEncode html queryEncodeGeneric html queryExpressionGeneric html queryGeneExpression html queryTranscriptExpression html searchEncode html searchToquery html shinyEncode html split_by_metadata html union_indices html union_regions html ** building package indices ** installing vignettes ** testing if installed package can be loaded from temporary location ** testing if installed package can be loaded from final location ** testing if installed package keeps a record of temporary installation path install for x64 * installing *source* package 'ENCODExplorer' ... ** testing if installed package can be loaded * MD5 sums packaged installation of 'ENCODExplorer' as ENCODExplorer_2.16.0.zip * DONE (ENCODExplorer)