Back to Multiple platform build/check report for BioC 3.12
[A]BCDEFGHIJKLMNOPQRSTUVWXYZ

BUILD BIN report for AssessORF on tokay1

This page was generated on 2020-08-07 12:16:08 -0400 (Fri, 07 Aug 2020).

TO THE DEVELOPERS/MAINTAINERS OF THE AssessORF PACKAGE: Please make sure to use the following settings in order to reproduce any error or warning you see on this page.
Package 90/1882HostnameOS / ArchINSTALLBUILDCHECKBUILD BIN
AssessORF 1.7.0
Deepank Korandla
Snapshot Date: 2020-08-06 14:50:46 -0400 (Thu, 06 Aug 2020)
URL: https://git.bioconductor.org/packages/AssessORF
Branch: master
Last Commit: aa30dab
Last Changed Date: 2020-04-27 15:21:14 -0400 (Mon, 27 Apr 2020)
malbec1 Linux (Ubuntu 18.04.4 LTS) / x86_64  OK  OK  OK UNNEEDED, same version exists in internal repository
tokay1 Windows Server 2012 R2 Standard / x64  OK  OK  OK [ OK ]UNNEEDED, same version exists in internal repository
merida1 macOS 10.14.6 Mojave / x86_64  OK  OK  OK  OK UNNEEDED, same version exists in internal repository

Summary

Package: AssessORF
Version: 1.7.0
Command: rm -rf AssessORF.buildbin-libdir && mkdir AssessORF.buildbin-libdir && C:\Users\biocbuild\bbs-3.12-bioc\R\bin\R.exe CMD INSTALL --merge-multiarch --build --library=AssessORF.buildbin-libdir AssessORF_1.7.0.tar.gz
StartedAt: 2020-08-07 08:28:45 -0400 (Fri, 07 Aug 2020)
EndedAt: 2020-08-07 08:29:33 -0400 (Fri, 07 Aug 2020)
EllapsedTime: 48.0 seconds
RetCode: 0
Status:  OK  
PackageFile: AssessORF_1.7.0.zip
PackageFileSize: 4.722 MiB

Command output

##############################################################################
##############################################################################
###
### Running command:
###
###   rm -rf AssessORF.buildbin-libdir && mkdir AssessORF.buildbin-libdir && C:\Users\biocbuild\bbs-3.12-bioc\R\bin\R.exe CMD INSTALL --merge-multiarch --build --library=AssessORF.buildbin-libdir AssessORF_1.7.0.tar.gz
###
##############################################################################
##############################################################################



install for i386

* installing *source* package 'AssessORF' ...
** using staged installation
** R
** inst
** byte-compile and prepare package for lazy loading
** help
*** installing help indices
  converting help for package 'AssessORF'
    finding HTML links ... done
    AssessGenes                             html  
    Assessment-class                        html  
    CompareAssessmentResults                html  
    MapAssessmentData                       html  
    ScoreAssessmentResults                  html  
    as.matrix.Assessment                    html  
    mosaicplot.Assessment                   html  
    plot.Assessment                         html  
    print.Assessment                        html  
** building package indices
** installing vignettes
** testing if installed package can be loaded from temporary location
** testing if installed package can be loaded from final location
** testing if installed package keeps a record of temporary installation path

install for x64

* installing *source* package 'AssessORF' ...
** testing if installed package can be loaded
* MD5 sums
packaged installation of 'AssessORF' as AssessORF_1.7.0.zip
* DONE (AssessORF)