Back to Multiple platform build/check report for BioC 3.12
[A]BCDEFGHIJKLMNOPQRSTUVWXYZ

INSTALL report for ACME on merida1

This page was generated on 2020-08-12 11:53:00 -0400 (Wed, 12 Aug 2020).

TO THE DEVELOPERS/MAINTAINERS OF THE ACME PACKAGE: Please make sure to use the following settings in order to reproduce any error or warning you see on this page.
Package 14/1885HostnameOS / ArchINSTALLBUILDCHECKBUILD BIN
ACME 2.45.0
Sean Davis
Snapshot Date: 2020-08-11 14:50:16 -0400 (Tue, 11 Aug 2020)
URL: https://git.bioconductor.org/packages/ACME
Branch: master
Last Commit: 58f42e2
Last Changed Date: 2020-04-27 14:15:01 -0400 (Mon, 27 Apr 2020)
malbec1 Linux (Ubuntu 18.04.4 LTS) / x86_64  OK  OK  WARNINGS UNNEEDED, same version exists in internal repository
nebbiolo1 Linux (Ubuntu 20.04.1 LTS) / x86_64  OK  OK  WARNINGS 
tokay1 Windows Server 2012 R2 Standard / x64  OK  OK  WARNINGS  OK UNNEEDED, same version exists in internal repository
merida1 macOS 10.14.6 Mojave / x86_64 [ OK ] OK  OK  OK UNNEEDED, same version exists in internal repository

Summary

Package: ACME
Version: 2.45.0
Command: /Library/Frameworks/R.framework/Versions/Current/Resources/bin/R CMD INSTALL ACME
StartedAt: 2020-08-11 16:11:52 -0400 (Tue, 11 Aug 2020)
EndedAt: 2020-08-11 16:12:44 -0400 (Tue, 11 Aug 2020)
EllapsedTime: 51.7 seconds
RetCode: 0
Status:  OK 

Command output

##############################################################################
##############################################################################
###
### Running command:
###
###   /Library/Frameworks/R.framework/Versions/Current/Resources/bin/R CMD INSTALL ACME
###
##############################################################################
##############################################################################


* installing to library ‘/Library/Frameworks/R.framework/Versions/4.0/Resources/library’
* installing *source* package ‘ACME’ ...
** using staged installation
** libs
clang -mmacosx-version-min=10.13 -I"/Library/Frameworks/R.framework/Resources/include" -DNDEBUG   -I/usr/local/include   -fPIC  -Wall -g -O2  -c windowChisq.c -o windowChisq.o
windowChisq.c:57:71: warning: & has lower precedence than >; > will be evaluated first [-Wparentheses]
    while((xlocations[i]-xlocations[firstprobe-1] < (halfWindowSize)) &
                                                                      ^
windowChisq.c:57:71: note: place parentheses around the '>' expression to silence this warning
    while((xlocations[i]-xlocations[firstprobe-1] < (halfWindowSize)) &
                                                                      ^
windowChisq.c:57:71: note: place parentheses around the & expression to evaluate it first
    while((xlocations[i]-xlocations[firstprobe-1] < (halfWindowSize)) &
                                                                      ^
          (
windowChisq.c:62:70: warning: & has lower precedence than <; < will be evaluated first [-Wparentheses]
    while((xlocations[lastprobe+1]-xlocations[i] < (halfWindowSize)) &
                                                                     ^
windowChisq.c:62:70: note: place parentheses around the '<' expression to silence this warning
    while((xlocations[lastprobe+1]-xlocations[i] < (halfWindowSize)) &
                                                                     ^
windowChisq.c:62:70: note: place parentheses around the & expression to evaluate it first
    while((xlocations[lastprobe+1]-xlocations[i] < (halfWindowSize)) &
                                                                     ^
          (
windowChisq.c:21:11: warning: unused variable 'xa' [-Wunused-variable]
  double *xa,*xlocations,*xchivals;
          ^
windowChisq.c:86:20: warning: incompatible function pointer types initializing 'DL_FUNC' (aka 'void *(*)()') with an expression of type 'SEXP (*)(SEXP, SEXP, SEXP, SEXP, SEXP)' (aka 'struct SEXPREC *(*)(struct SEXPREC *, struct SEXPREC *, struct SEXPREC *, struct SEXPREC *, struct SEXPREC *)') [-Wincompatible-function-pointer-types]
    {"windowChisq",&windowChisq,5},
                   ^~~~~~~~~~~~
4 warnings generated.
clang -mmacosx-version-min=10.13 -dynamiclib -Wl,-headerpad_max_install_names -undefined dynamic_lookup -single_module -multiply_defined suppress -L/Library/Frameworks/R.framework/Resources/lib -L/usr/local/lib -o ACME.so windowChisq.o -F/Library/Frameworks/R.framework/.. -framework R -Wl,-framework -Wl,CoreFoundation
installing to /Library/Frameworks/R.framework/Versions/4.0/Resources/library/00LOCK-ACME/00new/ACME/libs
** R
** data
** inst
** byte-compile and prepare package for lazy loading
** help
*** installing help indices
** building package indices
** installing vignettes
** testing if installed package can be loaded from temporary location
** checking absolute paths in shared objects and dynamic libraries
** testing if installed package can be loaded from final location
** testing if installed package keeps a record of temporary installation path
* DONE (ACME)