Back to Multiple platform build/check report for BioC 3.12
A[B]CDEFGHIJKLMNOPQRSTUVWXYZ

BUILD report for bgx on merida1

This page was generated on 2020-10-22 12:38:25 -0400 (Thu, 22 Oct 2020).

TO THE DEVELOPERS/MAINTAINERS OF THE bgx PACKAGE: Please make sure to use the following settings in order to reproduce any error or warning you see on this page.
Package 140/1952HostnameOS / ArchINSTALLBUILDCHECKBUILD BIN
bgx 1.55.1
Ernest Turro
Snapshot Date: 2020-10-21 14:52:01 -0400 (Wed, 21 Oct 2020)
URL: https://git.bioconductor.org/packages/bgx
Branch: master
Last Commit: 0cafffa
Last Changed Date: 2020-09-08 16:06:00 -0400 (Tue, 08 Sep 2020)
malbec1 Linux (Ubuntu 18.04.4 LTS) / x86_64  OK  OK  OK UNNEEDED, same version exists in internal repository
nebbiolo1 Linux (Ubuntu 20.04.1 LTS) / x86_64  OK  OK  OK 
tokay1 Windows Server 2012 R2 Standard / x64  OK  OK  OK  OK UNNEEDED, same version exists in internal repository
riesling1 Windows Server 2019 Standard / x64  OK  OK  OK  OK 
merida1 macOS 10.14.6 Mojave / x86_64  OK [ OK ] WARNINGS  OK UNNEEDED, same version exists in internal repository

Summary

Package: bgx
Version: 1.55.1
Command: /Library/Frameworks/R.framework/Versions/Current/Resources/bin/R CMD build --keep-empty-dirs --no-resave-data bgx
StartedAt: 2020-10-21 18:20:20 -0400 (Wed, 21 Oct 2020)
EndedAt: 2020-10-21 18:21:55 -0400 (Wed, 21 Oct 2020)
EllapsedTime: 94.6 seconds
RetCode: 0
Status:  OK 
PackageFile: bgx_1.55.1.tar.gz
PackageFileSize: 1.233 MiB

Command output

##############################################################################
##############################################################################
###
### Running command:
###
###   /Library/Frameworks/R.framework/Versions/Current/Resources/bin/R CMD build --keep-empty-dirs --no-resave-data bgx
###
##############################################################################
##############################################################################


* checking for file ‘bgx/DESCRIPTION’ ... OK
* preparing ‘bgx’:
* checking DESCRIPTION meta-information ... OK
* cleaning src
* installing the package to build vignettes
* creating vignettes ... OK
* cleaning src
* checking for LF line-endings in source and make files and shell scripts
* checking for empty or unneeded directories
* building ‘bgx_1.55.1.tar.gz’