Back to Multiple platform build/check report for BioC 3.12
AB[C]DEFGHIJKLMNOPQRSTUVWXYZ

BUILD BIN report for ChIPComp on merida1

This page was generated on 2021-02-22 12:42:06 -0500 (Mon, 22 Feb 2021).

To the developers/maintainers of the ChIPComp package:
Please make sure to use the following settings in order to reproduce any error or warning you see on this page.
Package 283/1974HostnameOS / ArchINSTALLBUILDCHECKBUILD BIN
ChIPComp 1.20.0
Li Chen
Snapshot Date: 2021-02-21 14:52:07 -0500 (Sun, 21 Feb 2021)
URL: https://git.bioconductor.org/packages/ChIPComp
Branch: RELEASE_3_12
Last Commit: 9dbb9ed
Last Changed Date: 2020-10-27 11:07:24 -0500 (Tue, 27 Oct 2020)
malbec1Linux (Ubuntu 18.04.5 LTS) / x86_64  OK    OK    OK  UNNEEDED, same version exists in internal repository
nebbiolo1Linux (Ubuntu 20.04.2 LTS) / x86_64  OK    OK    OK  
tokay1Windows Server 2012 R2 Standard / x64  OK    OK    OK    OK  UNNEEDED, same version exists in internal repository
merida1macOS 10.14.6 Mojave / x86_64  OK    OK    OK    OK  UNNEEDED, same version exists in internal repository

Summary

Package: ChIPComp
Version: 1.20.0
Command: rm -rf ChIPComp.buildbin-libdir && mkdir ChIPComp.buildbin-libdir && /Users/biocbuild/BBS/utils/build-universal.sh ChIPComp_1.20.0.tar.gz /Library/Frameworks/R.framework/Versions/Current/Resources/bin/R ChIPComp.buildbin-libdir
StartedAt: 2021-02-22 08:10:37 -0500 (Mon, 22 Feb 2021)
EndedAt: 2021-02-22 08:11:25 -0500 (Mon, 22 Feb 2021)
EllapsedTime: 48.4 seconds
RetCode: 0
Status:   OK  
PackageFile: ChIPComp_1.20.0.tgz
PackageFileSize: 629.9 KiB

Command output

##############################################################################
##############################################################################
###
### Running command:
###
###   rm -rf ChIPComp.buildbin-libdir && mkdir ChIPComp.buildbin-libdir && /Users/biocbuild/BBS/utils/build-universal.sh ChIPComp_1.20.0.tar.gz /Library/Frameworks/R.framework/Versions/Current/Resources/bin/R ChIPComp.buildbin-libdir
###
##############################################################################
##############################################################################


>>>>>>> 
>>>>>>> INSTALLATION WITH 'R CMD INSTALL --preclean --no-multiarch --library=ChIPComp.buildbin-libdir ChIPComp_1.20.0.tar.gz'
>>>>>>> 

* installing *source* package ‘ChIPComp’ ...
** using staged installation
** libs
clang -mmacosx-version-min=10.13 -I"/Library/Frameworks/R.framework/Resources/include" -DNDEBUG   -I/usr/local/include   -fPIC  -Wall -g -O2  -c mva.c -o mva.o
clang -mmacosx-version-min=10.13 -dynamiclib -Wl,-headerpad_max_install_names -undefined dynamic_lookup -single_module -multiply_defined suppress -L/Library/Frameworks/R.framework/Resources/lib -L/usr/local/lib -o ChIPComp.so mva.o -F/Library/Frameworks/R.framework/.. -framework R -Wl,-framework -Wl,CoreFoundation
installing to /Users/biocbuild/bbs-3.12-bioc/meat/ChIPComp.buildbin-libdir/00LOCK-ChIPComp/00new/ChIPComp/libs
** R
** data
** inst
** byte-compile and prepare package for lazy loading
** help
*** installing help indices
** building package indices
** installing vignettes
** testing if installed package can be loaded from temporary location
** checking absolute paths in shared objects and dynamic libraries
** testing if installed package can be loaded from final location
** testing if installed package keeps a record of temporary installation path
* DONE (ChIPComp)


>>>>>>> 
>>>>>>> FIXING LINKS FOR ChIPComp.buildbin-libdir/ChIPComp/libs/ChIPComp.so
>>>>>>> 

install_name_tool -change "/usr/local/lib/libgcc_s.1.dylib" "/Library/Frameworks/R.framework/Versions/4.0/Resources/lib/libgcc_s.1.dylib" "ChIPComp.buildbin-libdir/ChIPComp/libs/ChIPComp.so"
install_name_tool -change "/usr/local/lib/libgfortran.5.dylib" "/Library/Frameworks/R.framework/Versions/4.0/Resources/lib/libgfortran.5.dylib" "ChIPComp.buildbin-libdir/ChIPComp/libs/ChIPComp.so"
install_name_tool -change "/usr/local/lib/libquadmath.0.dylib" "/Library/Frameworks/R.framework/Versions/4.0/Resources/lib/libquadmath.0.dylib" "ChIPComp.buildbin-libdir/ChIPComp/libs/ChIPComp.so"