Back to Multiple platform build/check report for BioC 3.12
[A]BCDEFGHIJKLMNOPQRSTUVWXYZ

BUILD report for ALPS on tokay1

This page was generated on 2020-08-07 12:18:54 -0400 (Fri, 07 Aug 2020).

TO THE DEVELOPERS/MAINTAINERS OF THE ALPS PACKAGE: Please make sure to use the following settings in order to reproduce any error or warning you see on this page.
Package 45/1882HostnameOS / ArchINSTALLBUILDCHECKBUILD BIN
ALPS 1.3.0
Venu Thatikonda
Snapshot Date: 2020-08-06 14:50:46 -0400 (Thu, 06 Aug 2020)
URL: https://git.bioconductor.org/packages/ALPS
Branch: master
Last Commit: 10e65ff
Last Changed Date: 2020-04-27 15:31:37 -0400 (Mon, 27 Apr 2020)
malbec1 Linux (Ubuntu 18.04.4 LTS) / x86_64  OK  OK  OK UNNEEDED, same version exists in internal repository
tokay1 Windows Server 2012 R2 Standard / x64  OK [ OK ] OK  OK UNNEEDED, same version exists in internal repository
merida1 macOS 10.14.6 Mojave / x86_64  OK  OK  OK  OK UNNEEDED, same version exists in internal repository

Summary

Package: ALPS
Version: 1.3.0
Command: chmod a+r ALPS -R && C:\Users\biocbuild\bbs-3.12-bioc\R\bin\R.exe --arch x64 CMD build --keep-empty-dirs --no-resave-data ALPS
StartedAt: 2020-08-06 22:59:18 -0400 (Thu, 06 Aug 2020)
EndedAt: 2020-08-06 23:03:10 -0400 (Thu, 06 Aug 2020)
EllapsedTime: 232.4 seconds
RetCode: 0
Status:  OK  
PackageFile: ALPS_1.3.0.tar.gz
PackageFileSize: 2.704 MiB

Command output

##############################################################################
##############################################################################
###
### Running command:
###
###   chmod a+r ALPS -R && C:\Users\biocbuild\bbs-3.12-bioc\R\bin\R.exe --arch x64 CMD build --keep-empty-dirs --no-resave-data ALPS
###
##############################################################################
##############################################################################


* checking for file 'ALPS/DESCRIPTION' ... OK
* preparing 'ALPS':
* checking DESCRIPTION meta-information ... OK
* installing the package to build vignettes
* creating vignettes ... OK
* checking for LF line-endings in source and make files and shell scripts
* checking for empty or unneeded directories
* building 'ALPS_1.3.0.tar.gz'