Back to Multiple platform build/check report for BioC 3.12
[A]BCDEFGHIJKLMNOPQRSTUVWXYZ

INSTALL report for AUCell on tokay1

This page was generated on 2020-08-09 12:12:28 -0400 (Sun, 09 Aug 2020).

TO THE DEVELOPERS/MAINTAINERS OF THE AUCell PACKAGE: Please make sure to use the following settings in order to reproduce any error or warning you see on this page.
Package 96/1882HostnameOS / ArchINSTALLBUILDCHECKBUILD BIN
AUCell 1.11.0
Sara Aibar
Snapshot Date: 2020-08-08 14:51:01 -0400 (Sat, 08 Aug 2020)
URL: https://git.bioconductor.org/packages/AUCell
Branch: master
Last Commit: a9afa79
Last Changed Date: 2020-04-27 15:10:23 -0400 (Mon, 27 Apr 2020)
malbec1 Linux (Ubuntu 18.04.4 LTS) / x86_64  OK  OK  OK UNNEEDED, same version exists in internal repository
nebbiolo1 Linux (Ubuntu 20.04.1 LTS) / x86_64  OK  OK  OK 
tokay1 Windows Server 2012 R2 Standard / x64 [ OK ] OK  OK  OK UNNEEDED, same version exists in internal repository
merida1 macOS 10.14.6 Mojave / x86_64  OK  OK  OK  OK UNNEEDED, same version exists in internal repository

Summary

Package: AUCell
Version: 1.11.0
Command: C:\cygwin\bin\curl.exe -O https://malbec1.bioconductor.org/BBS/3.12/bioc/src/contrib/AUCell_1.11.0.tar.gz && rm -rf AUCell.buildbin-libdir && mkdir AUCell.buildbin-libdir && C:\Users\biocbuild\bbs-3.12-bioc\R\bin\R.exe CMD INSTALL --merge-multiarch --build --library=AUCell.buildbin-libdir AUCell_1.11.0.tar.gz && C:\Users\biocbuild\bbs-3.12-bioc\R\bin\R.exe CMD INSTALL AUCell_1.11.0.zip && rm AUCell_1.11.0.tar.gz AUCell_1.11.0.zip
StartedAt: 2020-08-08 17:47:30 -0400 (Sat, 08 Aug 2020)
EndedAt: 2020-08-08 17:48:39 -0400 (Sat, 08 Aug 2020)
EllapsedTime: 68.8 seconds
RetCode: 0
Status:  OK  

Command output

##############################################################################
##############################################################################
###
### Running command:
###
###   C:\cygwin\bin\curl.exe -O https://malbec1.bioconductor.org/BBS/3.12/bioc/src/contrib/AUCell_1.11.0.tar.gz && rm -rf AUCell.buildbin-libdir && mkdir AUCell.buildbin-libdir && C:\Users\biocbuild\bbs-3.12-bioc\R\bin\R.exe CMD INSTALL --merge-multiarch --build --library=AUCell.buildbin-libdir AUCell_1.11.0.tar.gz && C:\Users\biocbuild\bbs-3.12-bioc\R\bin\R.exe CMD INSTALL AUCell_1.11.0.zip && rm AUCell_1.11.0.tar.gz AUCell_1.11.0.zip
###
##############################################################################
##############################################################################


  % Total    % Received % Xferd  Average Speed   Time    Time     Time  Current
                                 Dload  Upload   Total   Spent    Left  Speed

  0     0    0     0    0     0      0      0 --:--:-- --:--:-- --:--:--     0
100  165k  100  165k    0     0  4043k      0 --:--:-- --:--:-- --:--:-- 4480k

install for i386

* installing *source* package 'AUCell' ...
** using staged installation
** R
** inst
** byte-compile and prepare package for lazy loading
** help
*** installing help indices
  converting help for package 'AUCell'
    finding HTML links ... done
    AUCell_buildRankings                    html  
    finding level-2 HTML links ... done

    AUCell_calcAUC                          html  
    AUCell_createViewerApp                  html  
    AUCell_exploreThresholds                html  
    AUCell_plotHist                         html  
    AUCell_plotTSNE                         html  
    GeneSet-methods                         html  
    aucellResults-class                     html  
    orderAUC                                html  
    plotGeneCount                           html  
    plotTsne_cellProps                      html  
    updateAucellResults                     html  
** building package indices
** installing vignettes
** testing if installed package can be loaded from temporary location
** testing if installed package can be loaded from final location
** testing if installed package keeps a record of temporary installation path

install for x64

* installing *source* package 'AUCell' ...
** testing if installed package can be loaded
* MD5 sums
packaged installation of 'AUCell' as AUCell_1.11.0.zip
* DONE (AUCell)
* installing to library 'C:/Users/biocbuild/bbs-3.12-bioc/R/library'
package 'AUCell' successfully unpacked and MD5 sums checked