Back to Multiple platform build/check report for BioC 3.12
A[B]CDEFGHIJKLMNOPQRSTUVWXYZ

BUILD report for BrainSABER on tokay1

This page was generated on 2020-08-07 12:20:50 -0400 (Fri, 07 Aug 2020).

TO THE DEVELOPERS/MAINTAINERS OF THE BrainSABER PACKAGE: Please make sure to use the following settings in order to reproduce any error or warning you see on this page.
Package 193/1882HostnameOS / ArchINSTALLBUILDCHECKBUILD BIN
BrainSABER 0.99.4
USD Biomedical Engineering
Snapshot Date: 2020-08-06 14:50:46 -0400 (Thu, 06 Aug 2020)
URL: https://git.bioconductor.org/packages/BrainSABER
Branch: master
Last Commit: 4d2527c
Last Changed Date: 2020-04-20 22:30:39 -0400 (Mon, 20 Apr 2020)
malbec1 Linux (Ubuntu 18.04.4 LTS) / x86_64  OK  OK  OK UNNEEDED, same version exists in internal repository
tokay1 Windows Server 2012 R2 Standard / x64  OK [ OK ] OK  OK UNNEEDED, same version exists in internal repository
merida1 macOS 10.14.6 Mojave / x86_64  OK  OK  OK  OK UNNEEDED, same version exists in internal repository

Summary

Package: BrainSABER
Version: 0.99.4
Command: chmod a+r BrainSABER -R && C:\Users\biocbuild\bbs-3.12-bioc\R\bin\R.exe CMD build --keep-empty-dirs --no-resave-data BrainSABER
StartedAt: 2020-08-06 23:22:47 -0400 (Thu, 06 Aug 2020)
EndedAt: 2020-08-06 23:25:23 -0400 (Thu, 06 Aug 2020)
EllapsedTime: 156.1 seconds
RetCode: 0
Status:  OK  
PackageFile: BrainSABER_0.99.4.tar.gz
PackageFileSize: 1.215 MiB

Command output

##############################################################################
##############################################################################
###
### Running command:
###
###   chmod a+r BrainSABER -R && C:\Users\biocbuild\bbs-3.12-bioc\R\bin\R.exe CMD build --keep-empty-dirs --no-resave-data BrainSABER
###
##############################################################################
##############################################################################


* checking for file 'BrainSABER/DESCRIPTION' ... OK
* preparing 'BrainSABER':
* checking DESCRIPTION meta-information ... OK
* installing the package to build vignettes
* creating vignettes ... OK
* checking for LF line-endings in source and make files and shell scripts
* checking for empty or unneeded directories
* building 'BrainSABER_0.99.4.tar.gz'