Back to Multiple platform build/check report for BioC 3.12
AB[C]DEFGHIJKLMNOPQRSTUVWXYZ

INSTALL report for CCPROMISE on tokay1

This page was generated on 2020-08-10 12:21:36 -0400 (Mon, 10 Aug 2020).

TO THE DEVELOPERS/MAINTAINERS OF THE CCPROMISE PACKAGE: Please make sure to use the following settings in order to reproduce any error or warning you see on this page.
Package 235/1882HostnameOS / ArchINSTALLBUILDCHECKBUILD BIN
CCPROMISE 1.15.0
Xueyuan Cao
Snapshot Date: 2020-08-09 14:51:29 -0400 (Sun, 09 Aug 2020)
URL: https://git.bioconductor.org/packages/CCPROMISE
Branch: master
Last Commit: eafda50
Last Changed Date: 2020-04-27 15:03:28 -0400 (Mon, 27 Apr 2020)
malbec1 Linux (Ubuntu 18.04.4 LTS) / x86_64  OK  OK  WARNINGS UNNEEDED, same version exists in internal repository
nebbiolo1 Linux (Ubuntu 20.04.1 LTS) / x86_64  OK  OK  WARNINGS 
tokay1 Windows Server 2012 R2 Standard / x64 [ OK ] OK  WARNINGS  OK UNNEEDED, same version exists in internal repository
merida1 macOS 10.14.6 Mojave / x86_64  OK  OK  WARNINGS  OK UNNEEDED, same version exists in internal repository

Summary

Package: CCPROMISE
Version: 1.15.0
Command: C:\cygwin\bin\curl.exe -O https://malbec1.bioconductor.org/BBS/3.12/bioc/src/contrib/CCPROMISE_1.15.0.tar.gz && rm -rf CCPROMISE.buildbin-libdir && mkdir CCPROMISE.buildbin-libdir && C:\Users\biocbuild\bbs-3.12-bioc\R\bin\R.exe CMD INSTALL --merge-multiarch --build --library=CCPROMISE.buildbin-libdir CCPROMISE_1.15.0.tar.gz && C:\Users\biocbuild\bbs-3.12-bioc\R\bin\R.exe CMD INSTALL CCPROMISE_1.15.0.zip && rm CCPROMISE_1.15.0.tar.gz CCPROMISE_1.15.0.zip
StartedAt: 2020-08-09 17:49:33 -0400 (Sun, 09 Aug 2020)
EndedAt: 2020-08-09 17:50:00 -0400 (Sun, 09 Aug 2020)
EllapsedTime: 27.1 seconds
RetCode: 0
Status:  OK  

Command output

##############################################################################
##############################################################################
###
### Running command:
###
###   C:\cygwin\bin\curl.exe -O https://malbec1.bioconductor.org/BBS/3.12/bioc/src/contrib/CCPROMISE_1.15.0.tar.gz && rm -rf CCPROMISE.buildbin-libdir && mkdir CCPROMISE.buildbin-libdir && C:\Users\biocbuild\bbs-3.12-bioc\R\bin\R.exe CMD INSTALL --merge-multiarch --build --library=CCPROMISE.buildbin-libdir CCPROMISE_1.15.0.tar.gz && C:\Users\biocbuild\bbs-3.12-bioc\R\bin\R.exe CMD INSTALL CCPROMISE_1.15.0.zip && rm CCPROMISE_1.15.0.tar.gz CCPROMISE_1.15.0.zip
###
##############################################################################
##############################################################################


  % Total    % Received % Xferd  Average Speed   Time    Time     Time  Current
                                 Dload  Upload   Total   Spent    Left  Speed

  0     0    0     0    0     0      0      0 --:--:-- --:--:-- --:--:--     0
100  976k  100  976k    0     0  18.8M      0 --:--:-- --:--:-- --:--:-- 20.2M

install for i386

* installing *source* package 'CCPROMISE' ...
** using staged installation
** R
** data
** byte-compile and prepare package for lazy loading
Note: break used in wrong context: no loop is visible 
Note: break used in wrong context: no loop is visible 
Note: break used in wrong context: no loop is visible 
Note: break used in wrong context: no loop is visible 
** help
*** installing help indices
  converting help for package 'CCPROMISE'
    finding HTML links ... done
    CANN                                    html  
    CCPROMISE-package                       html  
    CCPROMISE                               html  
    PROMISE2                                html  
    PrbCor                                  html  
    PrbPROMISE                              html  
    exmplESet                               html  
    exmplGeneSet                            html  
    exmplMSet                               html  
    exmplPat                                html  
** building package indices
** installing vignettes
** testing if installed package can be loaded from temporary location
** testing if installed package can be loaded from final location
** testing if installed package keeps a record of temporary installation path

install for x64

* installing *source* package 'CCPROMISE' ...
** testing if installed package can be loaded
* MD5 sums
packaged installation of 'CCPROMISE' as CCPROMISE_1.15.0.zip
* DONE (CCPROMISE)
* installing to library 'C:/Users/biocbuild/bbs-3.12-bioc/R/library'
package 'CCPROMISE' successfully unpacked and MD5 sums checked