Back to Multiple platform build/check report for BioC 3.12
[A]BCDEFGHIJKLMNOPQRSTUVWXYZ

BUILD BIN report for aCGH on tokay1

This page was generated on 2020-09-20 10:14:50 -0400 (Sun, 20 Sep 2020).

TO THE DEVELOPERS/MAINTAINERS OF THE aCGH PACKAGE: Please make sure to use the following settings in order to reproduce any error or warning you see on this page.
Package 13/1912HostnameOS / ArchINSTALLBUILDCHECKBUILD BIN
aCGH 1.67.0
Peter Dimitrov
Snapshot Date: 2020-09-19 14:40:23 -0400 (Sat, 19 Sep 2020)
URL: https://git.bioconductor.org/packages/aCGH
Branch: master
Last Commit: a8f3d34
Last Changed Date: 2020-04-27 14:09:56 -0400 (Mon, 27 Apr 2020)
malbec1 Linux (Ubuntu 18.04.4 LTS) / x86_64  OK  OK  OK UNNEEDED, same version exists in internal repository
nebbiolo1 Linux (Ubuntu 20.04.1 LTS) / x86_64  OK  OK  OK 
tokay1 Windows Server 2012 R2 Standard / x64  OK  OK  OK [ OK ]UNNEEDED, same version exists in internal repository
riesling1 Windows Server 2019 Standard / x64  OK  OK  OK  OK 
merida1 macOS 10.14.6 Mojave / x86_64  OK  OK  OK  OK UNNEEDED, same version exists in internal repository

Summary

Package: aCGH
Version: 1.67.0
Command: rm -rf aCGH.buildbin-libdir && mkdir aCGH.buildbin-libdir && C:\Users\biocbuild\bbs-3.12-bioc\R\bin\R.exe CMD INSTALL --merge-multiarch --build --library=aCGH.buildbin-libdir aCGH_1.67.0.tar.gz
StartedAt: 2020-09-20 07:31:58 -0400 (Sun, 20 Sep 2020)
EndedAt: 2020-09-20 07:32:57 -0400 (Sun, 20 Sep 2020)
EllapsedTime: 59.1 seconds
RetCode: 0
Status:  OK  
PackageFile: aCGH_1.67.0.zip
PackageFileSize: 2.588 MiB

Command output

##############################################################################
##############################################################################
###
### Running command:
###
###   rm -rf aCGH.buildbin-libdir && mkdir aCGH.buildbin-libdir && C:\Users\biocbuild\bbs-3.12-bioc\R\bin\R.exe CMD INSTALL --merge-multiarch --build --library=aCGH.buildbin-libdir aCGH_1.67.0.tar.gz
###
##############################################################################
##############################################################################



install for i386

* installing *source* package 'aCGH' ...
** using staged installation
** libs
"C:/rtools40/mingw32/bin/"g++ -std=gnu++11  -I"C:/Users/BIOCBU~1/BBS-3~1.12-/R/include" -DNDEBUG -DUSEDOUBLE -g3    -I"C:/extsoft/include"     -O2 -Wall  -mfpmath=sse -msse2 -mstackrealign -c hmm.cpp -o hmm.o
C:/rtools40/mingw32/bin/g++ -std=gnu++11 -shared -s -static-libgcc -o aCGH.dll tmp.def hmm.o -lm -LC:/extsoft/lib/i386 -LC:/extsoft/lib -LC:/Users/BIOCBU~1/BBS-3~1.12-/R/bin/i386 -lR
installing to C:/Users/biocbuild/bbs-3.12-bioc/meat/aCGH.buildbin-libdir/00LOCK-aCGH/00new/aCGH/libs/i386
** R
** data
** demo
** inst
** byte-compile and prepare package for lazy loading
** help
*** installing help indices
  converting help for package 'aCGH'
    finding HTML links ... done
    aCGH                                    html  
    aCGH.process                            html  
    aCGH.read.Sprocs                        html  
    aCGH.test                               html  
    clusterGenome                           html  
    colorectal                              html  
    computeSD.func                          html  
    fga.func                                html  
    find.genomic.events                     html  
    find.hmm.states                         html  
    findAber.func                           html  
    findAmplif.func                         html  
    findOutliers.func                       html  
    findTrans.func                          html  
    gainLoss                                html  
    heatmap                                 html  
    human.chrom.info.Jul03                  html  
    human.chrom.info.May04                  html  
    impute.HMM                              html  
    impute.lowess                           html  
    mergeFunc                               html  
    mergeLevels                             html  
    plotFreqStat                            html  
    plotGenome                              html  
    plotHmmStates                           html  
    plotSummaryProfile                      html  
    states.hmm.func                         html  
    summarize.clones                        html  
    threshold.func                          html  
** building package indices
** installing vignettes
** testing if installed package can be loaded from temporary location
** testing if installed package can be loaded from final location
** testing if installed package keeps a record of temporary installation path

install for x64

* installing *source* package 'aCGH' ...
** libs
"C:/rtools40/mingw64/bin/"g++ -std=gnu++11  -I"C:/Users/BIOCBU~1/BBS-3~1.12-/R/include" -DNDEBUG -DUSEDOUBLE -g3    -I"C:/extsoft/include"     -O2 -Wall  -mfpmath=sse -msse2 -mstackrealign -c hmm.cpp -o hmm.o
C:/rtools40/mingw64/bin/g++ -std=gnu++11 -shared -s -static-libgcc -o aCGH.dll tmp.def hmm.o -lm -LC:/extsoft/lib/x64 -LC:/extsoft/lib -LC:/Users/BIOCBU~1/BBS-3~1.12-/R/bin/x64 -lR
installing to C:/Users/biocbuild/bbs-3.12-bioc/meat/aCGH.buildbin-libdir/aCGH/libs/x64
** testing if installed package can be loaded
* MD5 sums
packaged installation of 'aCGH' as aCGH_1.67.0.zip
* DONE (aCGH)