Back to Multiple platform build/check report for BioC 3.12
[A]BCDEFGHIJKLMNOPQRSTUVWXYZ

BUILD report for ADAMgui on merida1

This page was generated on 2020-08-06 12:28:06 -0400 (Thu, 06 Aug 2020).

TO THE DEVELOPERS/MAINTAINERS OF THE ADAMgui PACKAGE: Please make sure to use the following settings in order to reproduce any error or warning you see on this page.
Package 17/1882HostnameOS / ArchINSTALLBUILDCHECKBUILD BIN
ADAMgui 1.5.0
Jose Luiz Rybarczyk Filho
Snapshot Date: 2020-08-05 14:50:59 -0400 (Wed, 05 Aug 2020)
URL: https://git.bioconductor.org/packages/ADAMgui
Branch: master
Last Commit: e66306f
Last Changed Date: 2020-04-27 15:26:00 -0400 (Mon, 27 Apr 2020)
malbec1 Linux (Ubuntu 18.04.4 LTS) / x86_64  OK  OK  OK UNNEEDED, same version exists in internal repository
tokay1 Windows Server 2012 R2 Standard / x64  OK  OK  OK  OK UNNEEDED, same version exists in internal repository
merida1 macOS 10.14.6 Mojave / x86_64  OK [ OK ] OK  OK UNNEEDED, same version exists in internal repository

Summary

Package: ADAMgui
Version: 1.5.0
Command: /Library/Frameworks/R.framework/Versions/Current/Resources/bin/R CMD build --keep-empty-dirs --no-resave-data ADAMgui
StartedAt: 2020-08-05 21:24:58 -0400 (Wed, 05 Aug 2020)
EndedAt: 2020-08-05 21:25:45 -0400 (Wed, 05 Aug 2020)
EllapsedTime: 46.8 seconds
RetCode: 0
Status:  OK 
PackageFile: ADAMgui_1.5.0.tar.gz
PackageFileSize: 1.953 MiB

Command output

##############################################################################
##############################################################################
###
### Running command:
###
###   /Library/Frameworks/R.framework/Versions/Current/Resources/bin/R CMD build --keep-empty-dirs --no-resave-data ADAMgui
###
##############################################################################
##############################################################################


* checking for file ‘ADAMgui/DESCRIPTION’ ... OK
* preparing ‘ADAMgui’:
* checking DESCRIPTION meta-information ... OK
* installing the package to build vignettes
* creating vignettes ... OK
* checking for LF line-endings in source and make files and shell scripts
* checking for empty or unneeded directories
* looking to see if a ‘data/datalist’ file should be added
* building ‘ADAMgui_1.5.0.tar.gz’