Back to Multiple platform build/check report for BioC 3.12
A[B]CDEFGHIJKLMNOPQRSTUVWXYZ

BUILD report for bridge on malbec1

This page was generated on 2020-08-10 11:32:30 -0400 (Mon, 10 Aug 2020).

TO THE DEVELOPERS/MAINTAINERS OF THE bridge PACKAGE: Please make sure to use the following settings in order to reproduce any error or warning you see on this page.
Package 199/1882HostnameOS / ArchINSTALLBUILDCHECKBUILD BIN
bridge 1.53.0
Raphael Gottardo
Snapshot Date: 2020-08-09 14:51:29 -0400 (Sun, 09 Aug 2020)
URL: https://git.bioconductor.org/packages/bridge
Branch: master
Last Commit: 4f3dcc9
Last Changed Date: 2020-04-27 14:11:24 -0400 (Mon, 27 Apr 2020)
malbec1 Linux (Ubuntu 18.04.4 LTS) / x86_64  OK [ OK ] WARNINGS UNNEEDED, same version exists in internal repository
nebbiolo1 Linux (Ubuntu 20.04.1 LTS) / x86_64  OK  OK  WARNINGS 
tokay1 Windows Server 2012 R2 Standard / x64  OK  OK  WARNINGS  OK UNNEEDED, same version exists in internal repository
merida1 macOS 10.14.6 Mojave / x86_64  OK  OK  OK  OK UNNEEDED, same version exists in internal repository

Summary

Package: bridge
Version: 1.53.0
Command: /home/biocbuild/bbs-3.12-bioc/R/bin/R CMD build --keep-empty-dirs --no-resave-data bridge
StartedAt: 2020-08-09 17:34:41 -0400 (Sun, 09 Aug 2020)
EndedAt: 2020-08-09 17:34:57 -0400 (Sun, 09 Aug 2020)
EllapsedTime: 15.6 seconds
RetCode: 0
Status:  OK 
PackageFile: bridge_1.53.0.tar.gz
PackageFileSize: 533 KiB

Command output

##############################################################################
##############################################################################
###
### Running command:
###
###   /home/biocbuild/bbs-3.12-bioc/R/bin/R CMD build --keep-empty-dirs --no-resave-data bridge
###
##############################################################################
##############################################################################


* checking for file ‘bridge/DESCRIPTION’ ... OK
* preparing ‘bridge’:
* checking DESCRIPTION meta-information ... OK
* cleaning src
* installing the package to build vignettes
* creating vignettes ... OK
* cleaning src
* checking for LF line-endings in source and make files and shell scripts
* checking for empty or unneeded directories
* looking to see if a ‘data/datalist’ file should be added
* building ‘bridge_1.53.0.tar.gz’