Back to Multiple platform build/check report for BioC 3.12
AB[C]DEFGHIJKLMNOPQRSTUVWXYZ

CHECK report for CARNIVAL on tokay1

This page was generated on 2020-08-07 12:20:36 -0400 (Fri, 07 Aug 2020).

TO THE DEVELOPERS/MAINTAINERS OF THE CARNIVAL PACKAGE: Please make sure to use the following settings in order to reproduce any error or warning you see on this page.
Package 225/1882HostnameOS / ArchINSTALLBUILDCHECKBUILD BIN
CARNIVAL 1.1.0
Enio Gjerga
Snapshot Date: 2020-08-06 14:50:46 -0400 (Thu, 06 Aug 2020)
URL: https://git.bioconductor.org/packages/CARNIVAL
Branch: master
Last Commit: 09ec937
Last Changed Date: 2020-04-27 15:36:20 -0400 (Mon, 27 Apr 2020)
malbec1 Linux (Ubuntu 18.04.4 LTS) / x86_64  OK  OK  OK UNNEEDED, same version exists in internal repository
tokay1 Windows Server 2012 R2 Standard / x64  OK  OK [ OK ] OK UNNEEDED, same version exists in internal repository
merida1 macOS 10.14.6 Mojave / x86_64  OK  OK  OK  OK UNNEEDED, same version exists in internal repository

Summary

Package: CARNIVAL
Version: 1.1.0
Command: C:\Users\biocbuild\bbs-3.12-bioc\R\bin\R.exe CMD check --force-multiarch --install=check:CARNIVAL.install-out.txt --library=C:\Users\biocbuild\bbs-3.12-bioc\R\library --no-vignettes --timings CARNIVAL_1.1.0.tar.gz
StartedAt: 2020-08-07 06:21:03 -0400 (Fri, 07 Aug 2020)
EndedAt: 2020-08-07 06:25:06 -0400 (Fri, 07 Aug 2020)
EllapsedTime: 243.1 seconds
RetCode: 0
Status:  OK  
CheckDir: CARNIVAL.Rcheck
Warnings: 0

Command output

##############################################################################
##############################################################################
###
### Running command:
###
###   C:\Users\biocbuild\bbs-3.12-bioc\R\bin\R.exe CMD check --force-multiarch --install=check:CARNIVAL.install-out.txt --library=C:\Users\biocbuild\bbs-3.12-bioc\R\library --no-vignettes --timings CARNIVAL_1.1.0.tar.gz
###
##############################################################################
##############################################################################


* using log directory 'C:/Users/biocbuild/bbs-3.12-bioc/meat/CARNIVAL.Rcheck'
* using R version 4.0.2 (2020-06-22)
* using platform: x86_64-w64-mingw32 (64-bit)
* using session charset: ISO8859-1
* using option '--no-vignettes'
* checking for file 'CARNIVAL/DESCRIPTION' ... OK
* this is package 'CARNIVAL' version '1.1.0'
* package encoding: UTF-8
* checking package namespace information ... OK
* checking package dependencies ... OK
* checking if this is a source package ... OK
* checking if there is a namespace ... OK
* checking for hidden files and directories ... OK
* checking for portable file names ... OK
* checking whether package 'CARNIVAL' can be installed ... OK
* checking installed package size ... OK
* checking package directory ... OK
* checking 'build' directory ... OK
* checking DESCRIPTION meta-information ... OK
* checking top-level files ... OK
* checking for left-over files ... OK
* checking index information ... OK
* checking package subdirectories ... OK
* checking R files for non-ASCII characters ... OK
* checking R files for syntax errors ... OK
* loading checks for arch 'i386'
** checking whether the package can be loaded ... OK
** checking whether the package can be loaded with stated dependencies ... OK
** checking whether the package can be unloaded cleanly ... OK
** checking whether the namespace can be loaded with stated dependencies ... OK
** checking whether the namespace can be unloaded cleanly ... OK
* loading checks for arch 'x64'
** checking whether the package can be loaded ... OK
** checking whether the package can be loaded with stated dependencies ... OK
** checking whether the package can be unloaded cleanly ... OK
** checking whether the namespace can be loaded with stated dependencies ... OK
** checking whether the namespace can be unloaded cleanly ... OK
* checking dependencies in R code ... OK
* checking S3 generic/method consistency ... OK
* checking replacement functions ... OK
* checking foreign function calls ... OK
* checking R code for possible problems ... NOTE
Uniprot2GeneSymbol: no visible global function definition for
  'read.table'
WriteDOTfig: no visible global function definition for 'read.table'
checkInputObj: no visible global function definition for 'is'
checkMeasObj: no visible global function definition for 'is'
checkNetwork: no visible global function definition for 'is'
checkSolver: no visible global function definition for 'is'
checkWeightObj: no visible global function definition for 'is'
exportResultAllConditions: no visible global function definition for
  'exportResultAllConditionsCPLEX'
exportResultAllConditions: no visible global function definition for
  'exportResultAllConditionsCBC'
exportResultCBC: no visible global function definition for 'is'
exportResultCPLEX: no visible binding for global variable 'measurement'
exportResultCPLEX: no visible global function definition for
  'read.delim'
exportResultCPLEX: no visible global function definition for 'is'
exportResultLPSolve: no visible global function definition for 'is'
solveCARNIVAL: no visible binding for global variable 'variables'
Undefined global functions or variables:
  exportResultAllConditionsCBC exportResultAllConditionsCPLEX is
  measurement read.delim read.table variables
Consider adding
  importFrom("methods", "is")
  importFrom("utils", "read.delim", "read.table")
to your NAMESPACE file (and ensure that your DESCRIPTION Imports field
contains 'methods').
* checking Rd files ... OK
* checking Rd metadata ... OK
* checking Rd cross-references ... OK
* checking for missing documentation entries ... OK
* checking for code/documentation mismatches ... OK
* checking Rd \usage sections ... OK
* checking Rd contents ... OK
* checking for unstated dependencies in examples ... OK
* checking files in 'vignettes' ... OK
* checking examples ...
** running examples for arch 'i386' ... OK
** running examples for arch 'x64' ... OK
* checking for unstated dependencies in 'tests' ... OK
* checking tests ...
** running tests for arch 'i386' ...
  Running 'testthat.R'
 OK
** running tests for arch 'x64' ...
  Running 'testthat.R'
 OK
* checking for unstated dependencies in vignettes ... OK
* checking package vignettes in 'inst/doc' ... OK
* checking running R code from vignettes ... SKIPPED
* checking re-building of vignette outputs ... SKIPPED
* checking PDF version of manual ... OK
* DONE

Status: 1 NOTE
See
  'C:/Users/biocbuild/bbs-3.12-bioc/meat/CARNIVAL.Rcheck/00check.log'
for details.



Installation output

CARNIVAL.Rcheck/00install.out

##############################################################################
##############################################################################
###
### Running command:
###
###   C:\cygwin\bin\curl.exe -O https://malbec1.bioconductor.org/BBS/3.12/bioc/src/contrib/CARNIVAL_1.1.0.tar.gz && rm -rf CARNIVAL.buildbin-libdir && mkdir CARNIVAL.buildbin-libdir && C:\Users\biocbuild\bbs-3.12-bioc\R\bin\R.exe CMD INSTALL --merge-multiarch --build --library=CARNIVAL.buildbin-libdir CARNIVAL_1.1.0.tar.gz && C:\Users\biocbuild\bbs-3.12-bioc\R\bin\R.exe CMD INSTALL CARNIVAL_1.1.0.zip && rm CARNIVAL_1.1.0.tar.gz CARNIVAL_1.1.0.zip
###
##############################################################################
##############################################################################


  % Total    % Received % Xferd  Average Speed   Time    Time     Time  Current
                                 Dload  Upload   Total   Spent    Left  Speed

  0     0    0     0    0     0      0      0 --:--:-- --:--:-- --:--:--     0
100  784k  100  784k    0     0  14.1M      0 --:--:-- --:--:-- --:--:-- 15.0M

install for i386

* installing *source* package 'CARNIVAL' ...
** using staged installation
** R
** inst
** byte-compile and prepare package for lazy loading
** help
*** installing help indices
  converting help for package 'CARNIVAL'
    finding HTML links ... done
    runCARNIVAL                             html  
** building package indices
** installing vignettes
** testing if installed package can be loaded from temporary location
** testing if installed package can be loaded from final location
** testing if installed package keeps a record of temporary installation path

install for x64

* installing *source* package 'CARNIVAL' ...
** testing if installed package can be loaded
* MD5 sums
packaged installation of 'CARNIVAL' as CARNIVAL_1.1.0.zip
* DONE (CARNIVAL)
* installing to library 'C:/Users/biocbuild/bbs-3.12-bioc/R/library'
package 'CARNIVAL' successfully unpacked and MD5 sums checked

Tests output

CARNIVAL.Rcheck/tests_i386/testthat.Rout


R version 4.0.2 (2020-06-22) -- "Taking Off Again"
Copyright (C) 2020 The R Foundation for Statistical Computing
Platform: i386-w64-mingw32/i386 (32-bit)

R is free software and comes with ABSOLUTELY NO WARRANTY.
You are welcome to redistribute it under certain conditions.
Type 'license()' or 'licence()' for distribution details.

R is a collaborative project with many contributors.
Type 'contributors()' for more information and
'citation()' on how to cite R or R packages in publications.

Type 'demo()' for some demos, 'help()' for on-line help, or
'help.start()' for an HTML browser interface to help.
Type 'q()' to quit R.

> library(testthat)
> library(CARNIVAL)
> 
> test_check("CARNIVAL")
== testthat results  ===========================================================
[ OK: 1 | SKIPPED: 0 | WARNINGS: 0 | FAILED: 0 ]
> 
> proc.time()
   user  system elapsed 
   7.25    0.57    7.82 

CARNIVAL.Rcheck/tests_x64/testthat.Rout


R version 4.0.2 (2020-06-22) -- "Taking Off Again"
Copyright (C) 2020 The R Foundation for Statistical Computing
Platform: x86_64-w64-mingw32/x64 (64-bit)

R is free software and comes with ABSOLUTELY NO WARRANTY.
You are welcome to redistribute it under certain conditions.
Type 'license()' or 'licence()' for distribution details.

R is a collaborative project with many contributors.
Type 'contributors()' for more information and
'citation()' on how to cite R or R packages in publications.

Type 'demo()' for some demos, 'help()' for on-line help, or
'help.start()' for an HTML browser interface to help.
Type 'q()' to quit R.

> library(testthat)
> library(CARNIVAL)
> 
> test_check("CARNIVAL")
== testthat results  ===========================================================
[ OK: 1 | SKIPPED: 0 | WARNINGS: 0 | FAILED: 0 ]
> 
> proc.time()
   user  system elapsed 
  12.25    0.57   12.82 

Example timings

CARNIVAL.Rcheck/examples_i386/CARNIVAL-Ex.timings

nameusersystemelapsed
runCARNIVAL0.140.040.22

CARNIVAL.Rcheck/examples_x64/CARNIVAL-Ex.timings

nameusersystemelapsed
runCARNIVAL0.080.040.19