Back to Multiple platform build/check report for BioC 3.12
ABCDEFGHIJKLMN[O]PQRSTUVWXYZ

Multiple platform build/check report for BioC 3.12

All results for package oligo

This page was generated on 2021-04-13 12:11:36 -0400 (Tue, 13 Apr 2021).

Package 1246/1974HostnameOS / ArchINSTALLBUILDCHECKBUILD BIN
oligo 1.54.1  (landing page)
Benilton Carvalho
Snapshot Date: 2021-04-12 14:51:46 -0400 (Mon, 12 Apr 2021)
URL: https://git.bioconductor.org/packages/oligo
Branch: RELEASE_3_12
Last Commit: 4988b63
Last Changed Date: 2020-11-03 14:46:19 -0400 (Tue, 03 Nov 2020)
malbec1Linux (Ubuntu 18.04.5 LTS) / x86_64  OK    OK    WARNINGS  UNNEEDED, same version exists in internal repository
tokay1Windows Server 2012 R2 Standard / x64  OK    OK    WARNINGS    OK  UNNEEDED, same version exists in internal repository
merida1macOS 10.14.6 Mojave / x86_64  OK    OK    WARNINGS    OK  UNNEEDED, same version exists in internal repository

Results for Bioconductor software packages that depend directly on package oligo

QUICK STATSOS / ArchINSTALLBUILDCHECKBUILD BIN
malbec1Linux (Ubuntu 18.04.5 LTS) / x86_64
009
009
0018
tokay1Windows Server 2012 R2 Standard / x64
009
009
0036
009
merida1macOS 10.14.6 Mojave / x86_64
009
009
0027
009
Package 1/9HostnameOS / ArchINSTALLBUILDCHECKBUILD BIN
ArrayExpress 1.50.0  (landing page)
Suhaib Mohammed
Last Commit: 3a8e996
Last Changed Date: 2020-10-27 10:34:31 -0400
malbec1Linux (Ubuntu 18.04.5 LTS) / x86_64  OK    OK    OK  UNNEEDED, same version exists in internal repository
tokay1Windows Server 2012 R2 Standard / x64  OK    OK    OK    OK  UNNEEDED, same version exists in internal repository
merida1macOS 10.14.6 Mojave / x86_64  OK    OK    OK    OK  UNNEEDED, same version exists in internal repository
Package 2/9HostnameOS / ArchINSTALLBUILDCHECKBUILD BIN
cn.farms 1.38.0  (landing page)
Andreas Mitterecker
Last Commit: 4d1b4e0
Last Changed Date: 2020-10-27 10:40:46 -0400
malbec1Linux (Ubuntu 18.04.5 LTS) / x86_64  OK    OK    OK  UNNEEDED, same version exists in internal repository
tokay1Windows Server 2012 R2 Standard / x64  OK    OK    OK    OK  UNNEEDED, same version exists in internal repository
merida1macOS 10.14.6 Mojave / x86_64  OK    OK    OK    OK  UNNEEDED, same version exists in internal repository
Package 3/9HostnameOS / ArchINSTALLBUILDCHECKBUILD BIN
crossmeta 1.16.1  (landing page)
Alex Pickering
Last Commit: 02d63d6
Last Changed Date: 2020-11-02 13:21:38 -0400
malbec1Linux (Ubuntu 18.04.5 LTS) / x86_64  OK    OK    WARNINGS  UNNEEDED, same version exists in internal repository
tokay1Windows Server 2012 R2 Standard / x64  OK    OK    WARNINGS    OK  UNNEEDED, same version exists in internal repository
merida1macOS 10.14.6 Mojave / x86_64  OK    OK    WARNINGS    OK  UNNEEDED, same version exists in internal repository
Package 4/9HostnameOS / ArchINSTALLBUILDCHECKBUILD BIN
frma 1.42.0  (landing page)
Matthew N. McCall
Last Commit: 4a819d8
Last Changed Date: 2020-10-27 10:37:17 -0400
malbec1Linux (Ubuntu 18.04.5 LTS) / x86_64  OK    OK    OK  UNNEEDED, same version exists in internal repository
tokay1Windows Server 2012 R2 Standard / x64  OK    OK    OK    OK  UNNEEDED, same version exists in internal repository
merida1macOS 10.14.6 Mojave / x86_64  OK    OK    OK    OK  UNNEEDED, same version exists in internal repository
Package 5/9HostnameOS / ArchINSTALLBUILDCHECKBUILD BIN
ITALICS 2.50.0  (landing page)
Guillem Rigaill
Last Commit: d9e57ac
Last Changed Date: 2020-10-27 10:34:00 -0400
malbec1Linux (Ubuntu 18.04.5 LTS) / x86_64  OK    OK    OK  UNNEEDED, same version exists in internal repository
tokay1Windows Server 2012 R2 Standard / x64  OK    OK    OK    OK  UNNEEDED, same version exists in internal repository
merida1macOS 10.14.6 Mojave / x86_64  OK    OK    OK    OK  UNNEEDED, same version exists in internal repository
Package 6/9HostnameOS / ArchINSTALLBUILDCHECKBUILD BIN
mimager 1.14.0  (landing page)
Aaron Wolen
Last Commit: 79b8f00
Last Changed Date: 2020-10-27 11:20:46 -0400
malbec1Linux (Ubuntu 18.04.5 LTS) / x86_64  OK    OK    OK  UNNEEDED, same version exists in internal repository
tokay1Windows Server 2012 R2 Standard / x64  OK    OK    WARNINGS    OK  UNNEEDED, same version exists in internal repository
merida1macOS 10.14.6 Mojave / x86_64  OK    OK    OK    OK  UNNEEDED, same version exists in internal repository
Package 7/9HostnameOS / ArchINSTALLBUILDCHECKBUILD BIN
pdInfoBuilder 1.54.0  (landing page)
Benilton Carvalho
Last Commit: 7d43340
Last Changed Date: 2020-10-27 10:30:10 -0400
malbec1Linux (Ubuntu 18.04.5 LTS) / x86_64  OK    OK    OK  UNNEEDED, same version exists in internal repository
tokay1Windows Server 2012 R2 Standard / x64  OK    OK    OK    OK  UNNEEDED, same version exists in internal repository
merida1macOS 10.14.6 Mojave / x86_64  OK    OK    OK    OK  UNNEEDED, same version exists in internal repository
Package 8/9HostnameOS / ArchINSTALLBUILDCHECKBUILD BIN
puma 3.32.0  (landing page)
Xuejun Liu
Last Commit: 7b61bfc
Last Changed Date: 2020-10-27 10:31:19 -0400
malbec1Linux (Ubuntu 18.04.5 LTS) / x86_64  OK    OK    OK  UNNEEDED, same version exists in internal repository
tokay1Windows Server 2012 R2 Standard / x64  OK    OK    WARNINGS    OK  UNNEEDED, same version exists in internal repository
merida1macOS 10.14.6 Mojave / x86_64  OK    OK    WARNINGS    OK  UNNEEDED, same version exists in internal repository
Package 9/9HostnameOS / ArchINSTALLBUILDCHECKBUILD BIN
SCAN.UPC 2.32.0  (landing page)
Stephen R. Piccolo
Last Commit: ecb2414
Last Changed Date: 2020-10-27 10:47:27 -0400
malbec1Linux (Ubuntu 18.04.5 LTS) / x86_64  OK    OK    OK  UNNEEDED, same version exists in internal repository
tokay1Windows Server 2012 R2 Standard / x64  OK    OK    OK    OK  UNNEEDED, same version exists in internal repository
merida1macOS 10.14.6 Mojave / x86_64  OK    OK    OK    OK  UNNEEDED, same version exists in internal repository