Back to Multiple platform build/check report for BioC 3.12
[A]BCDEFGHIJKLMNOPQRSTUVWXYZ

BUILD report for ASGSCA on merida1

This page was generated on 2020-08-07 12:31:20 -0400 (Fri, 07 Aug 2020).

TO THE DEVELOPERS/MAINTAINERS OF THE ASGSCA PACKAGE: Please make sure to use the following settings in order to reproduce any error or warning you see on this page.
Package 86/1882HostnameOS / ArchINSTALLBUILDCHECKBUILD BIN
ASGSCA 1.23.0
Hela Romdhani
Snapshot Date: 2020-08-06 14:50:46 -0400 (Thu, 06 Aug 2020)
URL: https://git.bioconductor.org/packages/ASGSCA
Branch: master
Last Commit: 155e066
Last Changed Date: 2020-04-27 14:44:04 -0400 (Mon, 27 Apr 2020)
malbec1 Linux (Ubuntu 18.04.4 LTS) / x86_64  OK  OK  OK UNNEEDED, same version exists in internal repository
tokay1 Windows Server 2012 R2 Standard / x64  OK  OK  OK  OK UNNEEDED, same version exists in internal repository
merida1 macOS 10.14.6 Mojave / x86_64  OK [ OK ] OK  OK UNNEEDED, same version exists in internal repository

Summary

Package: ASGSCA
Version: 1.23.0
Command: /Library/Frameworks/R.framework/Versions/Current/Resources/bin/R CMD build --keep-empty-dirs --no-resave-data ASGSCA
StartedAt: 2020-08-06 19:21:59 -0400 (Thu, 06 Aug 2020)
EndedAt: 2020-08-06 19:26:45 -0400 (Thu, 06 Aug 2020)
EllapsedTime: 286.4 seconds
RetCode: 0
Status:  OK 
PackageFile: ASGSCA_1.23.0.tar.gz
PackageFileSize: 1.207 MiB

Command output

##############################################################################
##############################################################################
###
### Running command:
###
###   /Library/Frameworks/R.framework/Versions/Current/Resources/bin/R CMD build --keep-empty-dirs --no-resave-data ASGSCA
###
##############################################################################
##############################################################################


* checking for file ‘ASGSCA/DESCRIPTION’ ... OK
* preparing ‘ASGSCA’:
* checking DESCRIPTION meta-information ... OK
* installing the package to build vignettes
* creating vignettes ... OK
* checking for LF line-endings in source and make files and shell scripts
* checking for empty or unneeded directories
* looking to see if a ‘data/datalist’ file should be added
* building ‘ASGSCA_1.23.0.tar.gz’