Back to Multiple platform build/check report for BioC 3.12
[A]BCDEFGHIJKLMNOPQRSTUVWXYZ

BUILD report for AllelicImbalance on malbec1

This page was generated on 2021-01-22 11:50:53 -0500 (Fri, 22 Jan 2021).

TO THE DEVELOPERS/MAINTAINERS OF THE AllelicImbalance PACKAGE: Please make sure to use the following settings in order to reproduce any error or warning you see on this page.
Package 44/1974HostnameOS / ArchINSTALLBUILDCHECKBUILD BIN
AllelicImbalance 1.28.0
Jesper R Gadin
Snapshot Date: 2021-01-21 14:42:12 -0500 (Thu, 21 Jan 2021)
URL: https://git.bioconductor.org/packages/AllelicImbalance
Branch: RELEASE_3_12
Last Commit: ac5d13c
Last Changed Date: 2020-10-27 10:53:07 -0500 (Tue, 27 Oct 2020)
malbec1 Linux (Ubuntu 18.04.5 LTS) / x86_64  OK [ ERROR ] skipped 
nebbiolo1 Linux (Ubuntu 20.04.1 LTS) / x86_64  OK  OK  OK 
tokay1 Windows Server 2012 R2 Standard / x64  OK  OK  OK  OK UNNEEDED, same version exists in internal repository
merida1 macOS 10.14.6 Mojave / x86_64  OK  OK  OK  ERROR 

Summary

Package: AllelicImbalance
Version: 1.28.0
Command: /home/biocbuild/bbs-3.12-bioc/R/bin/R CMD build --keep-empty-dirs --no-resave-data AllelicImbalance
StartedAt: 2021-01-21 17:34:30 -0500 (Thu, 21 Jan 2021)
EndedAt: 2021-01-21 17:35:28 -0500 (Thu, 21 Jan 2021)
EllapsedTime: 58.4 seconds
RetCode: 1
Status:  ERROR 
PackageFile: None
PackageFileSize: NA

Command output

##############################################################################
##############################################################################
###
### Running command:
###
###   /home/biocbuild/bbs-3.12-bioc/R/bin/R CMD build --keep-empty-dirs --no-resave-data AllelicImbalance
###
##############################################################################
##############################################################################


* checking for file ‘AllelicImbalance/DESCRIPTION’ ... OK
* preparing ‘AllelicImbalance’:
* checking DESCRIPTION meta-information ... OK
* installing the package to build vignettes
      -----------------------------------
* installing *source* package ‘AllelicImbalance’ ...
** using staged installation
** R
** data
*** moving datasets to lazyload DB
** inst
** byte-compile and prepare package for lazy loading
Creating a generic function for 'chisq.test' from package 'stats' in package 'AllelicImbalance'
Creating a generic function for 'binom.test' from package 'stats' in package 'AllelicImbalance'
** help
*** installing help indices
** building package indices
** installing vignettes
** testing if installed package can be loaded from temporary location
** testing if installed package can be loaded from final location
Error: package or namespace load failed for ‘AllelicImbalance’:
 .onLoad failed in loadNamespace() for 'biomaRt', details:
  call: httr::set_config(new_config, override = FALSE)
  error: object 'new_config' not found
Error: loading failed
Execution halted
ERROR: loading failed
* removing ‘/tmp/RtmpBqTUOc/Rinst961669a1a92/AllelicImbalance’
      -----------------------------------
ERROR: package installation failed