Back to Multiple platform build/check report for BioC 3.12
AB[C]DEFGHIJKLMNOPQRSTUVWXYZ

BUILD report for ccfindR on tokay1

This page was generated on 2020-08-07 12:14:37 -0400 (Fri, 07 Aug 2020).

TO THE DEVELOPERS/MAINTAINERS OF THE ccfindR PACKAGE: Please make sure to use the following settings in order to reproduce any error or warning you see on this page.
Package 233/1882HostnameOS / ArchINSTALLBUILDCHECKBUILD BIN
ccfindR 1.9.0
Jun Woo
Snapshot Date: 2020-08-06 14:50:46 -0400 (Thu, 06 Aug 2020)
URL: https://git.bioconductor.org/packages/ccfindR
Branch: master
Last Commit: c67da9a
Last Changed Date: 2020-04-27 15:16:20 -0400 (Mon, 27 Apr 2020)
malbec1 Linux (Ubuntu 18.04.4 LTS) / x86_64  OK  OK  OK UNNEEDED, same version exists in internal repository
tokay1 Windows Server 2012 R2 Standard / x64  OK [ OK ] OK  OK UNNEEDED, same version exists in internal repository
merida1 macOS 10.14.6 Mojave / x86_64  OK  OK  OK  OK UNNEEDED, same version exists in internal repository

Summary

Package: ccfindR
Version: 1.9.0
Command: chmod a+r ccfindR -R && C:\Users\biocbuild\bbs-3.12-bioc\R\bin\R.exe CMD build --keep-empty-dirs --no-resave-data ccfindR
StartedAt: 2020-08-06 22:07:35 -0400 (Thu, 06 Aug 2020)
EndedAt: 2020-08-06 22:13:44 -0400 (Thu, 06 Aug 2020)
EllapsedTime: 368.4 seconds
RetCode: 0
Status:  OK  
PackageFile: ccfindR_1.9.0.tar.gz
PackageFileSize: 733.8 KiB

Command output

##############################################################################
##############################################################################
###
### Running command:
###
###   chmod a+r ccfindR -R && C:\Users\biocbuild\bbs-3.12-bioc\R\bin\R.exe CMD build --keep-empty-dirs --no-resave-data ccfindR
###
##############################################################################
##############################################################################


* checking for file 'ccfindR/DESCRIPTION' ... OK
* preparing 'ccfindR':
* checking DESCRIPTION meta-information ... OK
* cleaning src
* installing the package to process help pages
Loading required namespace: ccfindR
* saving partial Rd database
* creating vignettes ... OK
* cleaning src
* checking for LF line-endings in source and make files and shell scripts
* checking for empty or unneeded directories
* building 'ccfindR_1.9.0.tar.gz'