Back to Multiple platform build/check report for BioC 3.12
[A]BCDEFGHIJKLMNOPQRSTUVWXYZ

BUILD BIN report for ASpediaFI on tokay1

This page was generated on 2020-08-09 12:18:28 -0400 (Sun, 09 Aug 2020).

TO THE DEVELOPERS/MAINTAINERS OF THE ASpediaFI PACKAGE: Please make sure to use the following settings in order to reproduce any error or warning you see on this page.
Package 88/1882HostnameOS / ArchINSTALLBUILDCHECKBUILD BIN
ASpediaFI 1.3.0
Doyeong Yu
Snapshot Date: 2020-08-08 14:51:01 -0400 (Sat, 08 Aug 2020)
URL: https://git.bioconductor.org/packages/ASpediaFI
Branch: master
Last Commit: 1255415
Last Changed Date: 2020-04-27 15:31:42 -0400 (Mon, 27 Apr 2020)
malbec1 Linux (Ubuntu 18.04.4 LTS) / x86_64  OK  OK  OK UNNEEDED, same version exists in internal repository
nebbiolo1 Linux (Ubuntu 20.04.1 LTS) / x86_64  OK  OK  OK 
tokay1 Windows Server 2012 R2 Standard / x64  OK  OK  OK [ OK ]UNNEEDED, same version exists in internal repository
merida1 macOS 10.14.6 Mojave / x86_64  OK  OK  OK  OK UNNEEDED, same version exists in internal repository

Summary

Package: ASpediaFI
Version: 1.3.0
Command: rm -rf ASpediaFI.buildbin-libdir && mkdir ASpediaFI.buildbin-libdir && C:\Users\biocbuild\bbs-3.12-bioc\R\bin\R.exe CMD INSTALL --merge-multiarch --build --library=ASpediaFI.buildbin-libdir ASpediaFI_1.3.0.tar.gz
StartedAt: 2020-08-09 08:25:42 -0400 (Sun, 09 Aug 2020)
EndedAt: 2020-08-09 08:27:02 -0400 (Sun, 09 Aug 2020)
EllapsedTime: 79.8 seconds
RetCode: 0
Status:  OK  
PackageFile: ASpediaFI_1.3.0.zip
PackageFileSize: 3.363 MiB

Command output

##############################################################################
##############################################################################
###
### Running command:
###
###   rm -rf ASpediaFI.buildbin-libdir && mkdir ASpediaFI.buildbin-libdir && C:\Users\biocbuild\bbs-3.12-bioc\R\bin\R.exe CMD INSTALL --merge-multiarch --build --library=ASpediaFI.buildbin-libdir ASpediaFI_1.3.0.tar.gz
###
##############################################################################
##############################################################################



install for i386

* installing *source* package 'ASpediaFI' ...
** using staged installation
** R
** data
** inst
** byte-compile and prepare package for lazy loading
Creating a new generic function for 'as.table' in package 'ASpediaFI'
** help
*** installing help indices
  converting help for package 'ASpediaFI'
    finding HTML links ... done
    ASpediaFI-accessor                      html  
    ASpediaFI-class                         html  
    GSE114922.fpkm                          html  
    GSE114922.psi                           html  
    analyzeFI                               html  
    annotateASevents                        html  
    exportNetwork                           html  
    quantifyPSI                             html  
    visualize                               html  
** building package indices
** installing vignettes
** testing if installed package can be loaded from temporary location
** testing if installed package can be loaded from final location
** testing if installed package keeps a record of temporary installation path

install for x64

* installing *source* package 'ASpediaFI' ...
** testing if installed package can be loaded
* MD5 sums
packaged installation of 'ASpediaFI' as ASpediaFI_1.3.0.zip
* DONE (ASpediaFI)