Back to Multiple platform build/check report for BioC 3.12
[A]BCDEFGHIJKLMNOPQRSTUVWXYZ

BUILD report for AMOUNTAIN on tokay1

This page was generated on 2020-08-07 12:09:46 -0400 (Fri, 07 Aug 2020).

TO THE DEVELOPERS/MAINTAINERS OF THE AMOUNTAIN PACKAGE: Please make sure to use the following settings in order to reproduce any error or warning you see on this page.
Package 49/1882HostnameOS / ArchINSTALLBUILDCHECKBUILD BIN
AMOUNTAIN 1.15.0
Dong Li
Snapshot Date: 2020-08-06 14:50:46 -0400 (Thu, 06 Aug 2020)
URL: https://git.bioconductor.org/packages/AMOUNTAIN
Branch: master
Last Commit: 6e77341
Last Changed Date: 2020-04-27 14:59:13 -0400 (Mon, 27 Apr 2020)
malbec1 Linux (Ubuntu 18.04.4 LTS) / x86_64  OK  OK  OK UNNEEDED, same version exists in internal repository
tokay1 Windows Server 2012 R2 Standard / x64  OK [ OK ] OK  OK UNNEEDED, same version exists in internal repository
merida1 macOS 10.14.6 Mojave / x86_64  OK  OK  OK  OK UNNEEDED, same version exists in internal repository

Summary

Package: AMOUNTAIN
Version: 1.15.0
Command: chmod a+r AMOUNTAIN -R && C:\Users\biocbuild\bbs-3.12-bioc\R\bin\R.exe CMD build --keep-empty-dirs --no-resave-data AMOUNTAIN
StartedAt: 2020-08-06 21:16:30 -0400 (Thu, 06 Aug 2020)
EndedAt: 2020-08-06 21:17:04 -0400 (Thu, 06 Aug 2020)
EllapsedTime: 33.9 seconds
RetCode: 0
Status:  OK  
PackageFile: AMOUNTAIN_1.15.0.tar.gz
PackageFileSize: 1.079 MiB

Command output

##############################################################################
##############################################################################
###
### Running command:
###
###   chmod a+r AMOUNTAIN -R && C:\Users\biocbuild\bbs-3.12-bioc\R\bin\R.exe CMD build --keep-empty-dirs --no-resave-data AMOUNTAIN
###
##############################################################################
##############################################################################


* checking for file 'AMOUNTAIN/DESCRIPTION' ... OK
* preparing 'AMOUNTAIN':
* checking DESCRIPTION meta-information ... OK
* cleaning src
* installing the package to build vignettes
* creating vignettes ... OK
Warning: 'inst/doc' files
    'AMOUNTAIN.Rmd', 'AMOUNTAIN.html'
  ignored as vignettes have been rebuilt.
  Run R CMD build with --no-build-vignettes to prevent rebuilding.
* cleaning src
* checking for LF line-endings in source and make files and shell scripts
* checking for empty or unneeded directories
* building 'AMOUNTAIN_1.15.0.tar.gz'