Back to Multiple platform build/check report for BioC 3.12
A[B]CDEFGHIJKLMNOPQRSTUVWXYZ

BUILD report for BANDITS on malbec1

This page was generated on 2020-08-13 11:21:18 -0400 (Thu, 13 Aug 2020).

TO THE DEVELOPERS/MAINTAINERS OF THE BANDITS PACKAGE: Please make sure to use the following settings in order to reproduce any error or warning you see on this page.
Package 107/1885HostnameOS / ArchINSTALLBUILDCHECKBUILD BIN
BANDITS 1.5.1
Simone Tiberi
Snapshot Date: 2020-08-12 14:52:00 -0400 (Wed, 12 Aug 2020)
URL: https://git.bioconductor.org/packages/BANDITS
Branch: master
Last Commit: 757e4e5
Last Changed Date: 2020-07-16 06:33:37 -0400 (Thu, 16 Jul 2020)
malbec1 Linux (Ubuntu 18.04.4 LTS) / x86_64  OK [ OK ] OK UNNEEDED, same version exists in internal repository
nebbiolo1 Linux (Ubuntu 20.04.1 LTS) / x86_64  OK  OK  OK 
tokay1 Windows Server 2012 R2 Standard / x64  OK  OK  OK  OK UNNEEDED, same version exists in internal repository
merida1 macOS 10.14.6 Mojave / x86_64  OK  OK  OK  OK UNNEEDED, same version exists in internal repository

Summary

Package: BANDITS
Version: 1.5.1
Command: /home/biocbuild/bbs-3.12-bioc/R/bin/R CMD build --keep-empty-dirs --no-resave-data BANDITS
StartedAt: 2020-08-12 22:10:14 -0400 (Wed, 12 Aug 2020)
EndedAt: 2020-08-12 22:13:07 -0400 (Wed, 12 Aug 2020)
EllapsedTime: 172.9 seconds
RetCode: 0
Status:  OK 
PackageFile: BANDITS_1.5.1.tar.gz
PackageFileSize: 1.193 MiB

Command output

##############################################################################
##############################################################################
###
### Running command:
###
###   /home/biocbuild/bbs-3.12-bioc/R/bin/R CMD build --keep-empty-dirs --no-resave-data BANDITS
###
##############################################################################
##############################################################################


* checking for file ‘BANDITS/DESCRIPTION’ ... OK
* preparing ‘BANDITS’:
* checking DESCRIPTION meta-information ... OK
* cleaning src
* installing the package to process help pages
* saving partial Rd database
* creating vignettes ... OK
* cleaning src
* checking for LF line-endings in source and make files and shell scripts
* checking for empty or unneeded directories
* looking to see if a ‘data/datalist’ file should be added
* building ‘BANDITS_1.5.1.tar.gz’