Back to Multiple platform build/check report for BioC 3.12
ABCDEFGHIJKLMNOPQ[R]STUVWXYZ

BUILD report for RTCGAToolbox on tokay1

This page was generated on 2020-11-25 11:56:00 -0500 (Wed, 25 Nov 2020).

TO THE DEVELOPERS/MAINTAINERS OF THE RTCGAToolbox PACKAGE: Please make sure to use the following settings in order to reproduce any error or warning you see on this page.
Package 1592/1974HostnameOS / ArchINSTALLBUILDCHECKBUILD BIN
RTCGAToolbox 2.20.0
Marcel Ramos
Snapshot Date: 2020-11-24 14:40:26 -0500 (Tue, 24 Nov 2020)
URL: https://git.bioconductor.org/packages/RTCGAToolbox
Branch: RELEASE_3_12
Last Commit: 224bf4c
Last Changed Date: 2020-10-27 11:05:35 -0500 (Tue, 27 Oct 2020)
malbec1 Linux (Ubuntu 18.04.4 LTS) / x86_64  OK  OK  OK UNNEEDED, same version exists in internal repository
nebbiolo1 Linux (Ubuntu 20.04.1 LTS) / x86_64  OK  OK  OK 
tokay1 Windows Server 2012 R2 Standard / x64  OK [ OK ] OK  OK UNNEEDED, same version exists in internal repository
merida1 macOS 10.14.6 Mojave / x86_64  OK  OK  OK  OK UNNEEDED, same version exists in internal repository

Summary

Package: RTCGAToolbox
Version: 2.20.0
Command: chmod a+r RTCGAToolbox -R && C:\Users\biocbuild\bbs-3.12-bioc\R\bin\R.exe CMD build --keep-empty-dirs --no-resave-data RTCGAToolbox
StartedAt: 2020-11-24 23:24:44 -0500 (Tue, 24 Nov 2020)
EndedAt: 2020-11-24 23:25:43 -0500 (Tue, 24 Nov 2020)
EllapsedTime: 58.6 seconds
RetCode: 0
Status:  OK  
PackageFile: RTCGAToolbox_2.20.0.tar.gz
PackageFileSize: 4.692 MiB

Command output

##############################################################################
##############################################################################
###
### Running command:
###
###   chmod a+r RTCGAToolbox -R && C:\Users\biocbuild\bbs-3.12-bioc\R\bin\R.exe CMD build --keep-empty-dirs --no-resave-data RTCGAToolbox
###
##############################################################################
##############################################################################


* checking for file 'RTCGAToolbox/DESCRIPTION' ... OK
* preparing 'RTCGAToolbox':
* checking DESCRIPTION meta-information ... OK
* installing the package to build vignettes
* creating vignettes ... OK
* checking for LF line-endings in source and make files and shell scripts
* checking for empty or unneeded directories
* building 'RTCGAToolbox_2.20.0.tar.gz'