Back to Multiple platform build/check report for BioC 3.12
[A]BCDEFGHIJKLMNOPQRSTUVWXYZ

BUILD BIN report for a4Preproc on merida1

This page was generated on 2020-10-22 12:38:10 -0400 (Thu, 22 Oct 2020).

TO THE DEVELOPERS/MAINTAINERS OF THE a4Preproc PACKAGE: Please make sure to use the following settings in order to reproduce any error or warning you see on this page.
Package 5/1952HostnameOS / ArchINSTALLBUILDCHECKBUILD BIN
a4Preproc 1.37.0
Tobias Verbeke
Snapshot Date: 2020-10-21 14:52:01 -0400 (Wed, 21 Oct 2020)
URL: https://git.bioconductor.org/packages/a4Preproc
Branch: master
Last Commit: 950b2a6
Last Changed Date: 2020-04-27 14:25:20 -0400 (Mon, 27 Apr 2020)
malbec1 Linux (Ubuntu 18.04.4 LTS) / x86_64  OK  OK  OK UNNEEDED, same version exists in internal repository
nebbiolo1 Linux (Ubuntu 20.04.1 LTS) / x86_64  OK  OK  OK 
tokay1 Windows Server 2012 R2 Standard / x64  OK  OK  OK  OK UNNEEDED, same version exists in internal repository
riesling1 Windows Server 2019 Standard / x64  OK  OK  OK  OK 
merida1 macOS 10.14.6 Mojave / x86_64  OK  OK  OK [ OK ]UNNEEDED, same version exists in internal repository

Summary

Package: a4Preproc
Version: 1.37.0
Command: rm -rf a4Preproc.buildbin-libdir && mkdir a4Preproc.buildbin-libdir && /Users/biocbuild/BBS/utils/build-universal.sh a4Preproc_1.37.0.tar.gz /Library/Frameworks/R.framework/Versions/Current/Resources/bin/R a4Preproc.buildbin-libdir
StartedAt: 2020-10-22 07:03:00 -0400 (Thu, 22 Oct 2020)
EndedAt: 2020-10-22 07:03:31 -0400 (Thu, 22 Oct 2020)
EllapsedTime: 30.4 seconds
RetCode: 0
Status:  OK 
PackageFile: a4Preproc_1.37.0.tgz
PackageFileSize: 10.96 KiB

Command output

##############################################################################
##############################################################################
###
### Running command:
###
###   rm -rf a4Preproc.buildbin-libdir && mkdir a4Preproc.buildbin-libdir && /Users/biocbuild/BBS/utils/build-universal.sh a4Preproc_1.37.0.tar.gz /Library/Frameworks/R.framework/Versions/Current/Resources/bin/R a4Preproc.buildbin-libdir
###
##############################################################################
##############################################################################


>>>>>>> 
>>>>>>> INSTALLATION WITH 'R CMD INSTALL --preclean --no-multiarch --library=a4Preproc.buildbin-libdir a4Preproc_1.37.0.tar.gz'
>>>>>>> 

* installing *source* package ‘a4Preproc’ ...
** using staged installation
** R
** inst
** byte-compile and prepare package for lazy loading
** help
*** installing help indices
** building package indices
** testing if installed package can be loaded from temporary location
** testing if installed package can be loaded from final location
** testing if installed package keeps a record of temporary installation path
* DONE (a4Preproc)