Back to Multiple platform build/check report for BioC 3.12
AB[C]DEFGHIJKLMNOPQRSTUVWXYZ

BUILD BIN report for cbaf on tokay1

This page was generated on 2020-08-12 11:46:49 -0400 (Wed, 12 Aug 2020).

TO THE DEVELOPERS/MAINTAINERS OF THE cbaf PACKAGE: Please make sure to use the following settings in order to reproduce any error or warning you see on this page.
Package 231/1885HostnameOS / ArchINSTALLBUILDCHECKBUILD BIN
cbaf 1.11.1
Arman Shahrisa
Snapshot Date: 2020-08-11 14:50:16 -0400 (Tue, 11 Aug 2020)
URL: https://git.bioconductor.org/packages/cbaf
Branch: master
Last Commit: f400891
Last Changed Date: 2020-05-05 12:31:17 -0400 (Tue, 05 May 2020)
malbec1 Linux (Ubuntu 18.04.4 LTS) / x86_64  OK  OK  OK UNNEEDED, same version exists in internal repository
nebbiolo1 Linux (Ubuntu 20.04.1 LTS) / x86_64  OK  OK  OK 
tokay1 Windows Server 2012 R2 Standard / x64  ERROR  OK  ERROR [ ERROR ]
merida1 macOS 10.14.6 Mojave / x86_64  OK  OK  OK  OK UNNEEDED, same version exists in internal repository

Summary

Package: cbaf
Version: 1.11.1
Command: rm -rf cbaf.buildbin-libdir && mkdir cbaf.buildbin-libdir && C:\Users\biocbuild\bbs-3.12-bioc\R\bin\R.exe CMD INSTALL --merge-multiarch --build --library=cbaf.buildbin-libdir cbaf_1.11.1.tar.gz
StartedAt: 2020-08-12 08:42:30 -0400 (Wed, 12 Aug 2020)
EndedAt: 2020-08-12 08:43:14 -0400 (Wed, 12 Aug 2020)
EllapsedTime: 44.4 seconds
RetCode: 1
Status:  ERROR  
PackageFile: None
PackageFileSize: NA

Command output

##############################################################################
##############################################################################
###
### Running command:
###
###   rm -rf cbaf.buildbin-libdir && mkdir cbaf.buildbin-libdir && C:\Users\biocbuild\bbs-3.12-bioc\R\bin\R.exe CMD INSTALL --merge-multiarch --build --library=cbaf.buildbin-libdir cbaf_1.11.1.tar.gz
###
##############################################################################
##############################################################################



install for i386

* installing *source* package 'cbaf' ...
** using staged installation
** R
** inst
** byte-compile and prepare package for lazy loading
Error: .onLoad failed in loadNamespace() for 'rJava', details:
  call: library.dynam("rJava", pkgname, libname)
  error: DLL 'rJava' not found: maybe not installed for this architecture?
Execution halted
ERROR: lazy loading failed for package 'cbaf'
* removing 'C:/Users/biocbuild/bbs-3.12-bioc/meat/cbaf.buildbin-libdir/cbaf'