Back to Multiple platform build/check report for BioC 3.12
ABCDEFGHIJKLMNOPQ[R]STUVWXYZ

BUILD BIN report for RBM on merida1

This page was generated on 2020-11-23 12:26:50 -0500 (Mon, 23 Nov 2020).

TO THE DEVELOPERS/MAINTAINERS OF THE RBM PACKAGE: Please make sure to use the following settings in order to reproduce any error or warning you see on this page.
Package 1460/1974HostnameOS / ArchINSTALLBUILDCHECKBUILD BIN
RBM 1.22.0
Dongmei Li
Snapshot Date: 2020-11-22 14:42:09 -0500 (Sun, 22 Nov 2020)
URL: https://git.bioconductor.org/packages/RBM
Branch: RELEASE_3_12
Last Commit: f15d3de
Last Changed Date: 2020-10-27 11:04:01 -0500 (Tue, 27 Oct 2020)
malbec1 Linux (Ubuntu 18.04.4 LTS) / x86_64  OK  OK  OK UNNEEDED, same version exists in internal repository
nebbiolo1 Linux (Ubuntu 20.04.1 LTS) / x86_64  OK  OK  OK 
tokay1 Windows Server 2012 R2 Standard / x64  OK  OK  OK  OK UNNEEDED, same version exists in internal repository
merida1 macOS 10.14.6 Mojave / x86_64  OK  OK  OK [ OK ]UNNEEDED, same version exists in internal repository

Summary

Package: RBM
Version: 1.22.0
Command: rm -rf RBM.buildbin-libdir && mkdir RBM.buildbin-libdir && /Users/biocbuild/BBS/utils/build-universal.sh RBM_1.22.0.tar.gz /Library/Frameworks/R.framework/Versions/Current/Resources/bin/R RBM.buildbin-libdir
StartedAt: 2020-11-23 09:34:23 -0500 (Mon, 23 Nov 2020)
EndedAt: 2020-11-23 09:35:19 -0500 (Mon, 23 Nov 2020)
EllapsedTime: 56.0 seconds
RetCode: 0
Status:  OK 
PackageFile: RBM_1.22.0.tgz
PackageFileSize: 324 KiB

Command output

##############################################################################
##############################################################################
###
### Running command:
###
###   rm -rf RBM.buildbin-libdir && mkdir RBM.buildbin-libdir && /Users/biocbuild/BBS/utils/build-universal.sh RBM_1.22.0.tar.gz /Library/Frameworks/R.framework/Versions/Current/Resources/bin/R RBM.buildbin-libdir
###
##############################################################################
##############################################################################


>>>>>>> 
>>>>>>> INSTALLATION WITH 'R CMD INSTALL --preclean --no-multiarch --library=RBM.buildbin-libdir RBM_1.22.0.tar.gz'
>>>>>>> 

* installing *source* package ‘RBM’ ...
** using staged installation
** R
** data
** inst
** byte-compile and prepare package for lazy loading
** help
*** installing help indices
** building package indices
** installing vignettes
** testing if installed package can be loaded from temporary location
** testing if installed package can be loaded from final location
** testing if installed package keeps a record of temporary installation path
* DONE (RBM)