Back to Multiple platform build/check report for BioC 3.12
[A]BCDEFGHIJKLMNOPQRSTUVWXYZ

BUILD BIN report for AlphaBeta on tokay1

This page was generated on 2020-08-07 12:18:15 -0400 (Fri, 07 Aug 2020).

TO THE DEVELOPERS/MAINTAINERS OF THE AlphaBeta PACKAGE: Please make sure to use the following settings in order to reproduce any error or warning you see on this page.
Package 43/1882HostnameOS / ArchINSTALLBUILDCHECKBUILD BIN
AlphaBeta 1.3.3
Yadollah Shahryary Dizaji
Snapshot Date: 2020-08-06 14:50:46 -0400 (Thu, 06 Aug 2020)
URL: https://git.bioconductor.org/packages/AlphaBeta
Branch: master
Last Commit: 3497a14
Last Changed Date: 2020-06-06 09:46:58 -0400 (Sat, 06 Jun 2020)
malbec1 Linux (Ubuntu 18.04.4 LTS) / x86_64  OK  OK  OK UNNEEDED, same version exists in internal repository
tokay1 Windows Server 2012 R2 Standard / x64  OK  OK  OK [ OK ]UNNEEDED, same version exists in internal repository
merida1 macOS 10.14.6 Mojave / x86_64  OK  OK  OK  OK UNNEEDED, same version exists in internal repository

Summary

Package: AlphaBeta
Version: 1.3.3
Command: rm -rf AlphaBeta.buildbin-libdir && mkdir AlphaBeta.buildbin-libdir && C:\Users\biocbuild\bbs-3.12-bioc\R\bin\R.exe CMD INSTALL --merge-multiarch --build --library=AlphaBeta.buildbin-libdir AlphaBeta_1.3.3.tar.gz
StartedAt: 2020-08-07 08:37:04 -0400 (Fri, 07 Aug 2020)
EndedAt: 2020-08-07 08:37:39 -0400 (Fri, 07 Aug 2020)
EllapsedTime: 35.3 seconds
RetCode: 0
Status:  OK  
PackageFile: AlphaBeta_1.3.3.zip
PackageFileSize: 2.681 MiB

Command output

##############################################################################
##############################################################################
###
### Running command:
###
###   rm -rf AlphaBeta.buildbin-libdir && mkdir AlphaBeta.buildbin-libdir && C:\Users\biocbuild\bbs-3.12-bioc\R\bin\R.exe CMD INSTALL --merge-multiarch --build --library=AlphaBeta.buildbin-libdir AlphaBeta_1.3.3.tar.gz
###
##############################################################################
##############################################################################



install for i386

* installing *source* package 'AlphaBeta' ...
** using staged installation
** R
** inst
** byte-compile and prepare package for lazy loading
** help
*** installing help indices
  converting help for package 'AlphaBeta'
    finding HTML links ... done
    ABneutral                               html  
    ABneutralSOMA                           html  
    ABnull                                  html  
    ABplot                                  html  
    ABselectMM                              html  
    ABselectMMSOMA                          html  
    ABselectUU                              html  
    ABselectUUSOMA                          html  
    BOOTmodel                               html  
    FtestRSS                                html  
    buildPedigree                           html  
    dMatrix                                 html  
    plotPedigree                            html  
    rc.meth.lvl                             html  
** building package indices
** installing vignettes
** testing if installed package can be loaded from temporary location
** testing if installed package can be loaded from final location
** testing if installed package keeps a record of temporary installation path

install for x64

* installing *source* package 'AlphaBeta' ...
** testing if installed package can be loaded
* MD5 sums
packaged installation of 'AlphaBeta' as AlphaBeta_1.3.3.zip
* DONE (AlphaBeta)