Back to Multiple platform build/check report for BioC 3.12
AB[C]DEFGHIJKLMNOPQRSTUVWXYZ

BUILD report for CellScore on malbec1

This page was generated on 2020-10-29 12:15:31 -0400 (Thu, 29 Oct 2020).

TO THE DEVELOPERS/MAINTAINERS OF THE CellScore PACKAGE: Please make sure to use the following settings in order to reproduce any error or warning you see on this page.
Package 258/1974HostnameOS / ArchINSTALLBUILDCHECKBUILD BIN
CellScore 1.10.0
Nancy Mah
Snapshot Date: 2020-10-28 14:42:40 -0400 (Wed, 28 Oct 2020)
URL: https://git.bioconductor.org/packages/CellScore
Branch: RELEASE_3_12
Last Commit: a714c29
Last Changed Date: 2020-10-27 11:32:18 -0400 (Tue, 27 Oct 2020)
malbec1 Linux (Ubuntu 18.04.4 LTS) / x86_64  OK [ OK ] OK UNNEEDED, same version exists in internal repository
nebbiolo1 Linux (Ubuntu 20.04.1 LTS) / x86_64  OK  OK  OK 
tokay1 Windows Server 2012 R2 Standard / x64  OK  OK  OK  OK UNNEEDED, same version exists in internal repository
merida1 macOS 10.14.6 Mojave / x86_64  OK  OK  OK  OK UNNEEDED, same version exists in internal repository

Summary

Package: CellScore
Version: 1.10.0
Command: /home/biocbuild/bbs-3.12-bioc/R/bin/R CMD build --keep-empty-dirs --no-resave-data CellScore
StartedAt: 2020-10-28 18:24:52 -0400 (Wed, 28 Oct 2020)
EndedAt: 2020-10-28 18:27:55 -0400 (Wed, 28 Oct 2020)
EllapsedTime: 183.5 seconds
RetCode: 0
Status:  OK 
PackageFile: CellScore_1.10.0.tar.gz
PackageFileSize: 4.159 MiB

Command output

##############################################################################
##############################################################################
###
### Running command:
###
###   /home/biocbuild/bbs-3.12-bioc/R/bin/R CMD build --keep-empty-dirs --no-resave-data CellScore
###
##############################################################################
##############################################################################


* checking for file ‘CellScore/DESCRIPTION’ ... OK
* preparing ‘CellScore’:
* checking DESCRIPTION meta-information ... OK
* installing the package to build vignettes
* creating vignettes ... OK
Warning: ‘inst/doc’ files
    ‘CellScoreVignette.Rnw’, ‘CellScoreVignette.pdf’,  ‘CellScoreVignette.R’
  ignored as vignettes have been rebuilt.
  Run R CMD build with --no-build-vignettes to prevent rebuilding.
* checking for LF line-endings in source and make files and shell scripts
* checking for empty or unneeded directories
* building ‘CellScore_1.10.0.tar.gz’