Back to Multiple platform build/check report for BioC 3.12
[A]BCDEFGHIJKLMNOPQRSTUVWXYZ

BUILD report for affyPara on tokay1

This page was generated on 2020-08-10 12:11:43 -0400 (Mon, 10 Aug 2020).

TO THE DEVELOPERS/MAINTAINERS OF THE affyPara PACKAGE: Please make sure to use the following settings in order to reproduce any error or warning you see on this page.
Package 32/1882HostnameOS / ArchINSTALLBUILDCHECKBUILD BIN
affyPara 1.49.0
Markus Schmidberger
Snapshot Date: 2020-08-09 14:51:29 -0400 (Sun, 09 Aug 2020)
URL: https://git.bioconductor.org/packages/affyPara
Branch: master
Last Commit: 2af763a
Last Changed Date: 2020-04-27 14:16:46 -0400 (Mon, 27 Apr 2020)
malbec1 Linux (Ubuntu 18.04.4 LTS) / x86_64  OK  OK  OK UNNEEDED, same version exists in internal repository
nebbiolo1 Linux (Ubuntu 20.04.1 LTS) / x86_64  OK  OK  OK 
tokay1 Windows Server 2012 R2 Standard / x64  OK [ OK ] OK  OK UNNEEDED, same version exists in internal repository
merida1 macOS 10.14.6 Mojave / x86_64  OK  OK  OK  OK UNNEEDED, same version exists in internal repository

Summary

Package: affyPara
Version: 1.49.0
Command: chmod a+r affyPara -R && C:\Users\biocbuild\bbs-3.12-bioc\R\bin\R.exe CMD build --keep-empty-dirs --no-resave-data affyPara
StartedAt: 2020-08-09 19:19:58 -0400 (Sun, 09 Aug 2020)
EndedAt: 2020-08-09 19:20:29 -0400 (Sun, 09 Aug 2020)
EllapsedTime: 31.3 seconds
RetCode: 0
Status:  OK  
PackageFile: affyPara_1.49.0.tar.gz
PackageFileSize: 757 KiB

Command output

##############################################################################
##############################################################################
###
### Running command:
###
###   chmod a+r affyPara -R && C:\Users\biocbuild\bbs-3.12-bioc\R\bin\R.exe CMD build --keep-empty-dirs --no-resave-data affyPara
###
##############################################################################
##############################################################################


* checking for file 'affyPara/DESCRIPTION' ... OK
* preparing 'affyPara':
* checking DESCRIPTION meta-information ... OK
* installing the package to build vignettes
* creating vignettes ... OK
* checking for LF line-endings in source and make files and shell scripts
* checking for empty or unneeded directories
* building 'affyPara_1.49.0.tar.gz'