Back to Multiple platform build/check report for BioC 3.12
A[B]CDEFGHIJKLMNOPQRSTUVWXYZ

Multiple platform build/check report for BioC 3.12

Results for BUSpaRse

This page was generated on 2020-10-24 10:55:39 -0400 (Sat, 24 Oct 2020).

Package 221/1974HostnameOS / ArchINSTALLBUILDCHECKBUILD BIN
BUSpaRse 1.3.1
Lambda Moses
Snapshot Date: 2020-10-23 14:40:36 -0400 (Fri, 23 Oct 2020)
URL: https://git.bioconductor.org/packages/BUSpaRse
Branch: master
Last Commit: 3c9922c
Last Changed Date: 2020-06-02 19:36:58 -0400 (Tue, 02 Jun 2020)
malbec1 Linux (Ubuntu 18.04.4 LTS) / x86_64  OK  OK  OK UNNEEDED, same version exists in internal repository
nebbiolo1 Linux (Ubuntu 20.04.1 LTS) / x86_64  OK  OK  OK 
tokay1 Windows Server 2012 R2 Standard / x64  OK  OK  OK  OK UNNEEDED, same version exists in internal repository
riesling1 Windows Server 2019 Standard / x64  OK  OK  OK  OK 
merida1 macOS 10.14.6 Mojave / x86_64  OK  OK  OK  OK UNNEEDED, same version exists in internal repository