Back to Multiple platform build/check report for BioC 3.12
A[B]CDEFGHIJKLMNOPQRSTUVWXYZ

BUILD report for branchpointer on merida1

This page was generated on 2020-08-07 12:36:11 -0400 (Fri, 07 Aug 2020).

TO THE DEVELOPERS/MAINTAINERS OF THE branchpointer PACKAGE: Please make sure to use the following settings in order to reproduce any error or warning you see on this page.
Package 195/1882HostnameOS / ArchINSTALLBUILDCHECKBUILD BIN
branchpointer 1.15.0
Beth Signal
Snapshot Date: 2020-08-06 14:50:46 -0400 (Thu, 06 Aug 2020)
URL: https://git.bioconductor.org/packages/branchpointer
Branch: master
Last Commit: 3e7d7fa
Last Changed Date: 2020-04-27 15:06:12 -0400 (Mon, 27 Apr 2020)
malbec1 Linux (Ubuntu 18.04.4 LTS) / x86_64  OK  OK  OK UNNEEDED, same version exists in internal repository
tokay1 Windows Server 2012 R2 Standard / x64  OK  OK  OK  OK UNNEEDED, same version exists in internal repository
merida1 macOS 10.14.6 Mojave / x86_64  OK [ OK ] OK  OK UNNEEDED, same version exists in internal repository

Summary

Package: branchpointer
Version: 1.15.0
Command: /Library/Frameworks/R.framework/Versions/Current/Resources/bin/R CMD build --keep-empty-dirs --no-resave-data branchpointer
StartedAt: 2020-08-06 20:29:05 -0400 (Thu, 06 Aug 2020)
EndedAt: 2020-08-06 20:30:37 -0400 (Thu, 06 Aug 2020)
EllapsedTime: 92.8 seconds
RetCode: 0
Status:  OK 
PackageFile: branchpointer_1.15.0.tar.gz
PackageFileSize: 4.78 MiB

Command output

##############################################################################
##############################################################################
###
### Running command:
###
###   /Library/Frameworks/R.framework/Versions/Current/Resources/bin/R CMD build --keep-empty-dirs --no-resave-data branchpointer
###
##############################################################################
##############################################################################


* checking for file ‘branchpointer/DESCRIPTION’ ... OK
* preparing ‘branchpointer’:
* checking DESCRIPTION meta-information ... OK
* installing the package to build vignettes
* creating vignettes ... OK
* checking for LF line-endings in source and make files and shell scripts
* checking for empty or unneeded directories
* looking to see if a ‘data/datalist’ file should be added
* building ‘branchpointer_1.15.0.tar.gz’