Back to Multiple platform build/check report for BioC 3.12
AB[C]DEFGHIJKLMNOPQRSTUVWXYZ

INSTALL report for CHETAH on malbec1

This page was generated on 2020-08-12 11:23:02 -0400 (Wed, 12 Aug 2020).

TO THE DEVELOPERS/MAINTAINERS OF THE CHETAH PACKAGE: Please make sure to use the following settings in order to reproduce any error or warning you see on this page.
Package 265/1885HostnameOS / ArchINSTALLBUILDCHECKBUILD BIN
CHETAH 1.5.0
Jurrian de Kanter
Snapshot Date: 2020-08-11 14:50:16 -0400 (Tue, 11 Aug 2020)
URL: https://git.bioconductor.org/packages/CHETAH
Branch: master
Last Commit: f10a8b9
Last Changed Date: 2020-04-27 15:24:40 -0400 (Mon, 27 Apr 2020)
malbec1 Linux (Ubuntu 18.04.4 LTS) / x86_64 [ OK ] OK  OK UNNEEDED, same version exists in internal repository
nebbiolo1 Linux (Ubuntu 20.04.1 LTS) / x86_64  OK  OK  OK 
tokay1 Windows Server 2012 R2 Standard / x64  OK  OK  OK  OK UNNEEDED, same version exists in internal repository
merida1 macOS 10.14.6 Mojave / x86_64  OK  OK  OK  OK UNNEEDED, same version exists in internal repository

Summary

Package: CHETAH
Version: 1.5.0
Command: /home/biocbuild/bbs-3.12-bioc/R/bin/R CMD INSTALL CHETAH
StartedAt: 2020-08-11 16:23:20 -0400 (Tue, 11 Aug 2020)
EndedAt: 2020-08-11 16:23:55 -0400 (Tue, 11 Aug 2020)
EllapsedTime: 35.0 seconds
RetCode: 0
Status:  OK 

Command output

##############################################################################
##############################################################################
###
### Running command:
###
###   /home/biocbuild/bbs-3.12-bioc/R/bin/R CMD INSTALL CHETAH
###
##############################################################################
##############################################################################


* installing to library ‘/home/biocbuild/bbs-3.12-bioc/R/library’
* installing *source* package ‘CHETAH’ ...
** using staged installation
** R
** data
*** moving datasets to lazyload DB
** inst
** byte-compile and prepare package for lazy loading
** help
*** installing help indices
** building package indices
** installing vignettes
** testing if installed package can be loaded from temporary location
** testing if installed package can be loaded from final location
** testing if installed package keeps a record of temporary installation path
* DONE (CHETAH)