Back to Multiple platform build/check report for BioC 3.12
A[B]CDEFGHIJKLMNOPQRSTUVWXYZ

BUILD BIN report for BUS on merida1

This page was generated on 2020-08-09 12:24:06 -0400 (Sun, 09 Aug 2020).

TO THE DEVELOPERS/MAINTAINERS OF THE BUS PACKAGE: Please make sure to use the following settings in order to reproduce any error or warning you see on this page.
Package 209/1882HostnameOS / ArchINSTALLBUILDCHECKBUILD BIN
BUS 1.45.0
Yuanhua Liu
Snapshot Date: 2020-08-08 14:51:01 -0400 (Sat, 08 Aug 2020)
URL: https://git.bioconductor.org/packages/BUS
Branch: master
Last Commit: 91dd3f0
Last Changed Date: 2020-04-27 14:19:39 -0400 (Mon, 27 Apr 2020)
malbec1 Linux (Ubuntu 18.04.4 LTS) / x86_64  OK  OK  OK UNNEEDED, same version exists in internal repository
nebbiolo1 Linux (Ubuntu 20.04.1 LTS) / x86_64  OK  OK  OK 
tokay1 Windows Server 2012 R2 Standard / x64  OK  OK  OK  OK UNNEEDED, same version exists in internal repository
merida1 macOS 10.14.6 Mojave / x86_64  OK  OK  OK [ OK ]UNNEEDED, same version exists in internal repository

Summary

Package: BUS
Version: 1.45.0
Command: rm -rf BUS.buildbin-libdir && mkdir BUS.buildbin-libdir && /Users/biocbuild/BBS/utils/build-universal.sh BUS_1.45.0.tar.gz /Library/Frameworks/R.framework/Versions/Current/Resources/bin/R BUS.buildbin-libdir
StartedAt: 2020-08-09 06:05:29 -0400 (Sun, 09 Aug 2020)
EndedAt: 2020-08-09 06:06:32 -0400 (Sun, 09 Aug 2020)
EllapsedTime: 63.1 seconds
RetCode: 0
Status:  OK 
PackageFile: BUS_1.45.0.tgz
PackageFileSize: 1.821 MiB

Command output

##############################################################################
##############################################################################
###
### Running command:
###
###   rm -rf BUS.buildbin-libdir && mkdir BUS.buildbin-libdir && /Users/biocbuild/BBS/utils/build-universal.sh BUS_1.45.0.tar.gz /Library/Frameworks/R.framework/Versions/Current/Resources/bin/R BUS.buildbin-libdir
###
##############################################################################
##############################################################################


>>>>>>> 
>>>>>>> INSTALLATION WITH 'R CMD INSTALL --preclean --no-multiarch --library=BUS.buildbin-libdir BUS_1.45.0.tar.gz'
>>>>>>> 

* installing *source* package ‘BUS’ ...
** using staged installation
** libs
clang++ -mmacosx-version-min=10.13 -std=gnu++11 -I"/Library/Frameworks/R.framework/Resources/include" -DNDEBUG   -I/usr/local/include   -fPIC  -Wall -g -O2  -c BUS.cpp -o BUS.o
clang++ -mmacosx-version-min=10.13 -std=gnu++11 -dynamiclib -Wl,-headerpad_max_install_names -undefined dynamic_lookup -single_module -multiply_defined suppress -L/Library/Frameworks/R.framework/Resources/lib -L/usr/local/lib -o BUS.so BUS.o -F/Library/Frameworks/R.framework/.. -framework R -Wl,-framework -Wl,CoreFoundation
installing to /Users/biocbuild/bbs-3.12-bioc/meat/BUS.buildbin-libdir/00LOCK-BUS/00new/BUS/libs
** R
** data
** inst
** byte-compile and prepare package for lazy loading
** help
*** installing help indices
** building package indices
** installing vignettes
** testing if installed package can be loaded from temporary location
** checking absolute paths in shared objects and dynamic libraries
** testing if installed package can be loaded from final location
** testing if installed package keeps a record of temporary installation path
* DONE (BUS)


>>>>>>> 
>>>>>>> FIXING LINKS FOR BUS.buildbin-libdir/BUS/libs/BUS.so
>>>>>>> 

install_name_tool -change "/usr/local/lib/libgcc_s.1.dylib" "/Library/Frameworks/R.framework/Versions/4.0/Resources/lib/libgcc_s.1.dylib" "BUS.buildbin-libdir/BUS/libs/BUS.so"
install_name_tool -change "/usr/local/lib/libgfortran.5.dylib" "/Library/Frameworks/R.framework/Versions/4.0/Resources/lib/libgfortran.5.dylib" "BUS.buildbin-libdir/BUS/libs/BUS.so"
install_name_tool -change "/usr/local/lib/libquadmath.0.dylib" "/Library/Frameworks/R.framework/Versions/4.0/Resources/lib/libquadmath.0.dylib" "BUS.buildbin-libdir/BUS/libs/BUS.so"