Back to Multiple platform build/check report for BioC 3.12
A[B]CDEFGHIJKLMNOPQRSTUVWXYZ

BUILD BIN report for BiFET on tokay1

This page was generated on 2020-08-10 12:23:52 -0400 (Mon, 10 Aug 2020).

TO THE DEVELOPERS/MAINTAINERS OF THE BiFET PACKAGE: Please make sure to use the following settings in order to reproduce any error or warning you see on this page.
Package 138/1882HostnameOS / ArchINSTALLBUILDCHECKBUILD BIN
BiFET 1.9.0
Ahrim Youn
Snapshot Date: 2020-08-09 14:51:29 -0400 (Sun, 09 Aug 2020)
URL: https://git.bioconductor.org/packages/BiFET
Branch: master
Last Commit: a8b7789
Last Changed Date: 2020-04-27 15:13:03 -0400 (Mon, 27 Apr 2020)
malbec1 Linux (Ubuntu 18.04.4 LTS) / x86_64  OK  OK  OK UNNEEDED, same version exists in internal repository
nebbiolo1 Linux (Ubuntu 20.04.1 LTS) / x86_64  OK  OK  OK 
tokay1 Windows Server 2012 R2 Standard / x64  OK  OK  OK [ OK ]UNNEEDED, same version exists in internal repository
merida1 macOS 10.14.6 Mojave / x86_64  OK  OK  OK  OK UNNEEDED, same version exists in internal repository

Summary

Package: BiFET
Version: 1.9.0
Command: rm -rf BiFET.buildbin-libdir && mkdir BiFET.buildbin-libdir && C:\Users\biocbuild\bbs-3.12-bioc\R\bin\R.exe CMD INSTALL --merge-multiarch --build --library=BiFET.buildbin-libdir BiFET_1.9.0.tar.gz
StartedAt: 2020-08-10 08:21:39 -0400 (Mon, 10 Aug 2020)
EndedAt: 2020-08-10 08:22:02 -0400 (Mon, 10 Aug 2020)
EllapsedTime: 23.7 seconds
RetCode: 0
Status:  OK  
PackageFile: BiFET_1.9.0.zip
PackageFileSize: 755.4 KiB

Command output

##############################################################################
##############################################################################
###
### Running command:
###
###   rm -rf BiFET.buildbin-libdir && mkdir BiFET.buildbin-libdir && C:\Users\biocbuild\bbs-3.12-bioc\R\bin\R.exe CMD INSTALL --merge-multiarch --build --library=BiFET.buildbin-libdir BiFET_1.9.0.tar.gz
###
##############################################################################
##############################################################################



install for i386

* installing *source* package 'BiFET' ...
** using staged installation
** R
** inst
** byte-compile and prepare package for lazy loading
** help
*** installing help indices
  converting help for package 'BiFET'
    finding HTML links ... done
    calculate_enrich_p                      html  
** building package indices
** installing vignettes
** testing if installed package can be loaded from temporary location
** testing if installed package can be loaded from final location
** testing if installed package keeps a record of temporary installation path

install for x64

* installing *source* package 'BiFET' ...
** testing if installed package can be loaded
* MD5 sums
packaged installation of 'BiFET' as BiFET_1.9.0.zip
* DONE (BiFET)