Back to Multiple platform build/check report for BioC 3.12 |
|
This page was generated on 2021-05-06 12:30:06 -0400 (Thu, 06 May 2021).
To the developers/maintainers of the CAFE package: Please make sure to use the following settings in order to reproduce any error or warning you see on this page. |
Package 222/1974 | Hostname | OS / Arch | INSTALL | BUILD | CHECK | BUILD BIN | ||||||||
CAFE 1.26.0 (landing page) Sander Bollen
| malbec1 | Linux (Ubuntu 18.04.5 LTS) / x86_64 | OK | OK | WARNINGS | |||||||||
tokay1 | Windows Server 2012 R2 Standard / x64 | OK | OK | WARNINGS | OK | |||||||||
merida1 | macOS 10.14.6 Mojave / x86_64 | OK | OK | WARNINGS | OK | |||||||||
Package: CAFE |
Version: 1.26.0 |
Command: rm -rf CAFE.buildbin-libdir && mkdir CAFE.buildbin-libdir && C:\Users\biocbuild\bbs-3.12-bioc\R\bin\R.exe CMD INSTALL --merge-multiarch --build --library=CAFE.buildbin-libdir CAFE_1.26.0.tar.gz |
StartedAt: 2021-05-06 08:36:46 -0400 (Thu, 06 May 2021) |
EndedAt: 2021-05-06 08:38:15 -0400 (Thu, 06 May 2021) |
EllapsedTime: 89.3 seconds |
RetCode: 0 |
Status: OK |
PackageFile: CAFE_1.26.0.zip |
PackageFileSize: 4.381 MiB |
############################################################################## ############################################################################## ### ### Running command: ### ### rm -rf CAFE.buildbin-libdir && mkdir CAFE.buildbin-libdir && C:\Users\biocbuild\bbs-3.12-bioc\R\bin\R.exe CMD INSTALL --merge-multiarch --build --library=CAFE.buildbin-libdir CAFE_1.26.0.tar.gz ### ############################################################################## ############################################################################## install for i386 * installing *source* package 'CAFE' ... ** using staged installation ** R ** data ** inst ** byte-compile and prepare package for lazy loading ** help *** installing help indices converting help for package 'CAFE' finding HTML links ... done CAFE-package html CAFE html ProcessCels html armStats html bandStats html chromosomeStats html cliSubset html discontPlot html discontSmooth html facetPlot html fisher.method html guiSubset html rawPlot html slidPlot html slidSmooth html ** building package indices ** installing vignettes ** testing if installed package can be loaded from temporary location ** testing if installed package can be loaded from final location ** testing if installed package keeps a record of temporary installation path install for x64 * installing *source* package 'CAFE' ... ** testing if installed package can be loaded * MD5 sums packaged installation of 'CAFE' as CAFE_1.26.0.zip * DONE (CAFE)