Back to Multiple platform build/check report for BioC 3.12
A[B]CDEFGHIJKLMNOPQRSTUVWXYZ

BUILD report for BiocSklearn on malbec1

This page was generated on 2020-08-13 11:19:13 -0400 (Thu, 13 Aug 2020).

TO THE DEVELOPERS/MAINTAINERS OF THE BiocSklearn PACKAGE: Please make sure to use the following settings in order to reproduce any error or warning you see on this page.
Package 161/1885HostnameOS / ArchINSTALLBUILDCHECKBUILD BIN
BiocSklearn 1.11.5
VJ Carey
Snapshot Date: 2020-08-12 14:52:00 -0400 (Wed, 12 Aug 2020)
URL: https://git.bioconductor.org/packages/BiocSklearn
Branch: master
Last Commit: 5ced25f
Last Changed Date: 2020-07-21 12:30:19 -0400 (Tue, 21 Jul 2020)
malbec1 Linux (Ubuntu 18.04.4 LTS) / x86_64  OK [ OK ] OK UNNEEDED, same version exists in internal repository
nebbiolo1 Linux (Ubuntu 20.04.1 LTS) / x86_64  OK  OK  OK 
tokay1 Windows Server 2012 R2 Standard / x64  OK  OK  OK  OK UNNEEDED, same version exists in internal repository
merida1 macOS 10.14.6 Mojave / x86_64  OK  OK  OK  OK UNNEEDED, same version exists in internal repository

Summary

Package: BiocSklearn
Version: 1.11.5
Command: /home/biocbuild/bbs-3.12-bioc/R/bin/R CMD build --keep-empty-dirs --no-resave-data BiocSklearn
StartedAt: 2020-08-12 21:12:43 -0400 (Wed, 12 Aug 2020)
EndedAt: 2020-08-12 21:13:29 -0400 (Wed, 12 Aug 2020)
EllapsedTime: 45.8 seconds
RetCode: 0
Status:  OK 
PackageFile: BiocSklearn_1.11.5.tar.gz
PackageFileSize: 32.52 MiB

Command output

##############################################################################
##############################################################################
###
### Running command:
###
###   /home/biocbuild/bbs-3.12-bioc/R/bin/R CMD build --keep-empty-dirs --no-resave-data BiocSklearn
###
##############################################################################
##############################################################################


* checking for file ‘BiocSklearn/DESCRIPTION’ ... OK
* preparing ‘BiocSklearn’:
* checking DESCRIPTION meta-information ... OK
* installing the package to build vignettes
* creating vignettes ... OK
* checking for LF line-endings in source and make files and shell scripts
* checking for empty or unneeded directories
* building ‘BiocSklearn_1.11.5.tar.gz’