Back to Multiple platform build/check report for BioC 3.12
ABCDEFGH[I]JKLMNOPQRSTUVWXYZ

Multiple platform build/check report for BioC 3.12

Results for IsoformSwitchAnalyzeR

This page was generated on 2020-09-23 09:58:57 -0400 (Wed, 23 Sep 2020).

Package 899/1918HostnameOS / ArchINSTALLBUILDCHECKBUILD BIN
IsoformSwitchAnalyzeR 1.11.6
Kristoffer Vitting-Seerup
Snapshot Date: 2020-09-22 14:42:01 -0400 (Tue, 22 Sep 2020)
URL: https://git.bioconductor.org/packages/IsoformSwitchAnalyzeR
Branch: master
Last Commit: 94c2b43
Last Changed Date: 2020-09-17 02:38:45 -0400 (Thu, 17 Sep 2020)
malbec1 Linux (Ubuntu 18.04.4 LTS) / x86_64  OK  OK  WARNINGS UNNEEDED, same version exists in internal repository
nebbiolo1 Linux (Ubuntu 20.04.1 LTS) / x86_64  OK  OK  WARNINGS 
tokay1 Windows Server 2012 R2 Standard / x64  OK  OK  WARNINGS  OK UNNEEDED, same version exists in internal repository
riesling1 Windows Server 2019 Standard / x64  OK  OK  WARNINGS  OK 
merida1 macOS 10.14.6 Mojave / x86_64  OK  OK  WARNINGS  OK UNNEEDED, same version exists in internal repository