Back to Multiple platform build/check report for BioC 3.12
[A]BCDEFGHIJKLMNOPQRSTUVWXYZ

INSTALL report for AnnotationForge on merida1

This page was generated on 2020-08-12 11:55:13 -0400 (Wed, 12 Aug 2020).

TO THE DEVELOPERS/MAINTAINERS OF THE AnnotationForge PACKAGE: Please make sure to use the following settings in order to reproduce any error or warning you see on this page.
Package 60/1885HostnameOS / ArchINSTALLBUILDCHECKBUILD BIN
AnnotationForge 1.31.2
Bioconductor Package Maintainer
Snapshot Date: 2020-08-11 14:50:16 -0400 (Tue, 11 Aug 2020)
URL: https://git.bioconductor.org/packages/AnnotationForge
Branch: master
Last Commit: 7382b9a
Last Changed Date: 2020-06-01 17:00:58 -0400 (Mon, 01 Jun 2020)
malbec1 Linux (Ubuntu 18.04.4 LTS) / x86_64  OK  OK  OK UNNEEDED, same version exists in internal repository
nebbiolo1 Linux (Ubuntu 20.04.1 LTS) / x86_64  OK  OK  OK 
tokay1 Windows Server 2012 R2 Standard / x64  OK  OK  OK  OK UNNEEDED, same version exists in internal repository
merida1 macOS 10.14.6 Mojave / x86_64 [ OK ] OK  OK  OK UNNEEDED, same version exists in internal repository

Summary

Package: AnnotationForge
Version: 1.31.2
Command: /Library/Frameworks/R.framework/Versions/Current/Resources/bin/R CMD INSTALL AnnotationForge
StartedAt: 2020-08-11 16:32:01 -0400 (Tue, 11 Aug 2020)
EndedAt: 2020-08-11 16:32:39 -0400 (Tue, 11 Aug 2020)
EllapsedTime: 38.2 seconds
RetCode: 0
Status:  OK 

Command output

##############################################################################
##############################################################################
###
### Running command:
###
###   /Library/Frameworks/R.framework/Versions/Current/Resources/bin/R CMD INSTALL AnnotationForge
###
##############################################################################
##############################################################################


* installing to library ‘/Library/Frameworks/R.framework/Versions/4.0/Resources/library’
* installing *source* package ‘AnnotationForge’ ...
** using staged installation
** R
** inst
** byte-compile and prepare package for lazy loading
** help
*** installing help indices
** building package indices
** installing vignettes
** testing if installed package can be loaded from temporary location
** testing if installed package can be loaded from final location
** testing if installed package keeps a record of temporary installation path
* DONE (AnnotationForge)