Back to Multiple platform build/check report for BioC 3.12
[A]BCDEFGHIJKLMNOPQRSTUVWXYZ

BUILD BIN report for apComplex on tokay1

This page was generated on 2020-08-07 11:56:50 -0400 (Fri, 07 Aug 2020).

TO THE DEVELOPERS/MAINTAINERS OF THE apComplex PACKAGE: Please make sure to use the following settings in order to reproduce any error or warning you see on this page.
Package 71/1882HostnameOS / ArchINSTALLBUILDCHECKBUILD BIN
apComplex 2.55.0
Denise Scholtens
Snapshot Date: 2020-08-06 14:50:46 -0400 (Thu, 06 Aug 2020)
URL: https://git.bioconductor.org/packages/apComplex
Branch: master
Last Commit: f952b2e
Last Changed Date: 2020-04-27 14:10:49 -0400 (Mon, 27 Apr 2020)
malbec1 Linux (Ubuntu 18.04.4 LTS) / x86_64  OK  OK  OK UNNEEDED, same version exists in internal repository
tokay1 Windows Server 2012 R2 Standard / x64  OK  OK  OK [ OK ]UNNEEDED, same version exists in internal repository
merida1 macOS 10.14.6 Mojave / x86_64  OK  OK  OK  OK UNNEEDED, same version exists in internal repository

Summary

Package: apComplex
Version: 2.55.0
Command: rm -rf apComplex.buildbin-libdir && mkdir apComplex.buildbin-libdir && C:\Users\biocbuild\bbs-3.12-bioc\R\bin\R.exe CMD INSTALL --merge-multiarch --build --library=apComplex.buildbin-libdir apComplex_2.55.0.tar.gz
StartedAt: 2020-08-07 06:53:43 -0400 (Fri, 07 Aug 2020)
EndedAt: 2020-08-07 06:54:34 -0400 (Fri, 07 Aug 2020)
EllapsedTime: 51.4 seconds
RetCode: 0
Status:  OK  
PackageFile: apComplex_2.55.0.zip
PackageFileSize: 755.5 KiB

Command output

##############################################################################
##############################################################################
###
### Running command:
###
###   rm -rf apComplex.buildbin-libdir && mkdir apComplex.buildbin-libdir && C:\Users\biocbuild\bbs-3.12-bioc\R\bin\R.exe CMD INSTALL --merge-multiarch --build --library=apComplex.buildbin-libdir apComplex_2.55.0.tar.gz
###
##############################################################################
##############################################################################



install for i386

* installing *source* package 'apComplex' ...
** using staged installation
** R
** data
** inst
** byte-compile and prepare package for lazy loading
** help
*** installing help indices
  converting help for package 'apComplex'
    finding HTML links ... done
    FilteredEstimates                       html  
    HMSPCI                                  html  
    Krogan                                  html  
    LCjoin                                  html  
    MBMEcHMSPCI                             html  
    MBMEcKrogan                             html  
    MBMEcTAP                                html  
    TAP                                     html  
    apEX                                    html  
    bhmaxSubgraph                           html  
    findComplexes                           html  
    gavinBP2006                             html  
    kroganBPMat2006                         html  
    mergeComplexes                          html  
    plotComplex                             html  
    sortComplexes                           html  
    yNameTAP                                html  
    yTAP                                    html  
** building package indices
** installing vignettes
** testing if installed package can be loaded from temporary location
** testing if installed package can be loaded from final location
** testing if installed package keeps a record of temporary installation path

install for x64

* installing *source* package 'apComplex' ...
** testing if installed package can be loaded
* MD5 sums
packaged installation of 'apComplex' as apComplex_2.55.0.zip
* DONE (apComplex)