Back to Multiple platform build/check report for BioC 3.12
A[B]CDEFGHIJKLMNOPQRSTUVWXYZ

CHECK report for BicARE on tokay1

This page was generated on 2020-08-06 11:51:32 -0400 (Thu, 06 Aug 2020).

TO THE DEVELOPERS/MAINTAINERS OF THE BicARE PACKAGE: Please make sure to use the following settings in order to reproduce any error or warning you see on this page.
Package 137/1882HostnameOS / ArchINSTALLBUILDCHECKBUILD BIN
BicARE 1.47.0
Pierre Gestraud
Snapshot Date: 2020-08-05 14:50:59 -0400 (Wed, 05 Aug 2020)
URL: https://git.bioconductor.org/packages/BicARE
Branch: master
Last Commit: 45cb7bc
Last Changed Date: 2020-04-27 14:18:27 -0400 (Mon, 27 Apr 2020)
malbec1 Linux (Ubuntu 18.04.4 LTS) / x86_64  OK  OK  OK UNNEEDED, same version exists in internal repository
tokay1 Windows Server 2012 R2 Standard / x64  OK  OK [ OK ] OK UNNEEDED, same version exists in internal repository
merida1 macOS 10.14.6 Mojave / x86_64  OK  OK  OK  OK UNNEEDED, same version exists in internal repository

Summary

Package: BicARE
Version: 1.47.0
Command: C:\Users\biocbuild\bbs-3.12-bioc\R\bin\R.exe CMD check --force-multiarch --install=check:BicARE.install-out.txt --library=C:\Users\biocbuild\bbs-3.12-bioc\R\library --no-vignettes --timings BicARE_1.47.0.tar.gz
StartedAt: 2020-08-06 00:09:19 -0400 (Thu, 06 Aug 2020)
EndedAt: 2020-08-06 00:26:40 -0400 (Thu, 06 Aug 2020)
EllapsedTime: 1040.8 seconds
RetCode: 0
Status:  OK  
CheckDir: BicARE.Rcheck
Warnings: 0

Command output

##############################################################################
##############################################################################
###
### Running command:
###
###   C:\Users\biocbuild\bbs-3.12-bioc\R\bin\R.exe CMD check --force-multiarch --install=check:BicARE.install-out.txt --library=C:\Users\biocbuild\bbs-3.12-bioc\R\library --no-vignettes --timings BicARE_1.47.0.tar.gz
###
##############################################################################
##############################################################################


* using log directory 'C:/Users/biocbuild/bbs-3.12-bioc/meat/BicARE.Rcheck'
* using R version 4.0.2 (2020-06-22)
* using platform: x86_64-w64-mingw32 (64-bit)
* using session charset: ISO8859-1
* using option '--no-vignettes'
* checking for file 'BicARE/DESCRIPTION' ... OK
* this is package 'BicARE' version '1.47.0'
* checking package namespace information ... OK
* checking package dependencies ... OK
* checking if this is a source package ... OK
* checking if there is a namespace ... OK
* checking for hidden files and directories ... OK
* checking for portable file names ... OK
* checking whether package 'BicARE' can be installed ... OK
* checking installed package size ... OK
* checking package directory ... OK
* checking 'build' directory ... OK
* checking DESCRIPTION meta-information ... NOTE
Malformed Description field: should contain one or more complete sentences.
* checking top-level files ... OK
* checking for left-over files ... OK
* checking index information ... OK
* checking package subdirectories ... OK
* checking R files for non-ASCII characters ... OK
* checking R files for syntax errors ... OK
* loading checks for arch 'i386'
** checking whether the package can be loaded ... OK
** checking whether the package can be loaded with stated dependencies ... OK
** checking whether the package can be unloaded cleanly ... OK
** checking whether the namespace can be loaded with stated dependencies ... OK
** checking whether the namespace can be unloaded cleanly ... OK
* loading checks for arch 'x64'
** checking whether the package can be loaded ... OK
** checking whether the package can be loaded with stated dependencies ... OK
** checking whether the package can be unloaded cleanly ... OK
** checking whether the namespace can be loaded with stated dependencies ... OK
** checking whether the namespace can be unloaded cleanly ... OK
* checking dependencies in R code ... NOTE
Packages in Depends field not imported from:
  'Biobase' 'GSEABase' 'multtest'
  These packages need to be imported from (in the NAMESPACE file)
  for when this namespace is loaded but not attached.
* checking S3 generic/method consistency ... OK
* checking replacement functions ... OK
* checking foreign function calls ... OK
* checking R code for possible problems ... NOTE
FLOC: no visible global function definition for 'new'
FLOC: no visible global function definition for 'exprs'
FLOC: no visible global function definition for 'runif'
FLOC: no visible binding for global variable 'var'
bicluster: no visible global function definition for 'exprs'
bicluster: no visible global function definition for 'featureNames'
bicluster: no visible global function definition for 'sampleNames'
makeReport: no visible global function definition for 'annotation'
makeReport: no visible global function definition for 'png'
makeReport: no visible global function definition for 'dev.off'
makeReport: no visible global function definition for 'getSYMBOL'
makeReport: no visible global function definition for 'setName'
makeReport: no visible global function definition for 'browseURL'
plot.bicluster: no visible global function definition for 'par'
plot.bicluster: no visible global function definition for 'matplot'
plot.bicluster: no visible global function definition for 'axis'
residue: no visible global function definition for 'new'
residue: no visible global function definition for 'exprs'
testAnnot: no visible global function definition for 'pData'
testAnnot: no visible global function definition for 'phenoData'
testAnnot: no visible global function definition for 'chisq.test'
testAnnot: no visible global function definition for 'mt.rawp2adjp'
testSet: no visible global function definition for 'exprs'
testSet: no visible global function definition for 'GeneSet'
testSet: no visible global function definition for 'geneIdType'
testSet: no visible global function definition for 'geneIds'
testSet: no visible global function definition for 'mapIdentifiers'
testSet: no visible global function definition for 'phyper'
testSet: no visible global function definition for 'mt.rawp2adjp'
Undefined global functions or variables:
  GeneSet annotation axis browseURL chisq.test dev.off exprs
  featureNames geneIdType geneIds getSYMBOL mapIdentifiers matplot
  mt.rawp2adjp new pData par phenoData phyper png runif sampleNames
  setName var
Consider adding
  importFrom("grDevices", "dev.off", "png")
  importFrom("graphics", "axis", "matplot", "par")
  importFrom("methods", "new")
  importFrom("stats", "chisq.test", "phyper", "runif", "var")
  importFrom("utils", "browseURL")
to your NAMESPACE file (and ensure that your DESCRIPTION Imports field
contains 'methods').
* checking Rd files ... OK
* checking Rd metadata ... OK
* checking Rd cross-references ... OK
* checking for missing documentation entries ... OK
* checking for code/documentation mismatches ... OK
* checking Rd \usage sections ... OK
* checking Rd contents ... OK
* checking for unstated dependencies in examples ... OK
* checking contents of 'data' directory ... OK
* checking data for non-ASCII characters ... OK
* checking data for ASCII and uncompressed saves ... OK
* checking line endings in C/C++/Fortran sources/headers ... OK
* checking compiled code ... NOTE
Note: information on .o files for i386 is not available
Note: information on .o files for x64 is not available
File 'C:/Users/biocbuild/bbs-3.12-bioc/R/library/BicARE/libs/i386/BicARE.dll':
  Found 'abort', possibly from 'abort' (C), 'runtime' (Fortran)
  Found 'printf', possibly from 'printf' (C)
File 'C:/Users/biocbuild/bbs-3.12-bioc/R/library/BicARE/libs/x64/BicARE.dll':
  Found 'abort', possibly from 'abort' (C), 'runtime' (Fortran)
  Found 'printf', possibly from 'printf' (C)

Compiled code should not call entry points which might terminate R nor
write to stdout/stderr instead of to the console, nor use Fortran I/O
nor system RNGs. The detected symbols are linked into the code but
might come from libraries and not actually be called.

See 'Writing portable packages' in the 'Writing R Extensions' manual.
* checking files in 'vignettes' ... OK
* checking examples ...
** running examples for arch 'i386' ... OK
Examples with CPU (user + system) or elapsed time > 5s
          user system elapsed
testSet 381.24   0.34  382.07
FLOC     23.47   0.01   23.48
** running examples for arch 'x64' ... OK
Examples with CPU (user + system) or elapsed time > 5s
          user system elapsed
testSet 452.02   0.17  452.21
FLOC     25.41   0.00   25.40
* checking for unstated dependencies in vignettes ... OK
* checking package vignettes in 'inst/doc' ... OK
* checking running R code from vignettes ... SKIPPED
* checking re-building of vignette outputs ... SKIPPED
* checking PDF version of manual ... OK
* DONE

Status: 4 NOTEs
See
  'C:/Users/biocbuild/bbs-3.12-bioc/meat/BicARE.Rcheck/00check.log'
for details.



Installation output

BicARE.Rcheck/00install.out

##############################################################################
##############################################################################
###
### Running command:
###
###   C:\cygwin\bin\curl.exe -O https://malbec1.bioconductor.org/BBS/3.12/bioc/src/contrib/BicARE_1.47.0.tar.gz && rm -rf BicARE.buildbin-libdir && mkdir BicARE.buildbin-libdir && C:\Users\biocbuild\bbs-3.12-bioc\R\bin\R.exe CMD INSTALL --merge-multiarch --build --library=BicARE.buildbin-libdir BicARE_1.47.0.tar.gz && C:\Users\biocbuild\bbs-3.12-bioc\R\bin\R.exe CMD INSTALL BicARE_1.47.0.zip && rm BicARE_1.47.0.tar.gz BicARE_1.47.0.zip
###
##############################################################################
##############################################################################


  % Total    % Received % Xferd  Average Speed   Time    Time     Time  Current
                                 Dload  Upload   Total   Spent    Left  Speed

  0     0    0     0    0     0      0      0 --:--:-- --:--:-- --:--:--     0
100  200k  100  200k    0     0  3340k      0 --:--:-- --:--:-- --:--:-- 3576k

install for i386

* installing *source* package 'BicARE' ...
** using staged installation
** libs
"C:/rtools40/mingw32/bin/"gcc  -I"C:/Users/BIOCBU~1/BBS-3~1.12-/R/include" -DNDEBUG     -I"C:/extsoft/include"     -O2 -Wall  -std=gnu99 -mfpmath=sse -msse2 -mstackrealign -c BicARE.c -o BicARE.o
BicARE.c: In function 'floc':
BicARE.c:439:12: warning: unused variable 'invk' [-Wunused-variable]
     double invk = 1/(double)*k;
            ^~~~
C:/rtools40/mingw32/bin/gcc -shared -s -static-libgcc -o BicARE.dll tmp.def BicARE.o -LC:/extsoft/lib/i386 -LC:/extsoft/lib -LC:/Users/BIOCBU~1/BBS-3~1.12-/R/bin/i386 -lR
installing to C:/Users/biocbuild/bbs-3.12-bioc/meat/BicARE.buildbin-libdir/00LOCK-BicARE/00new/BicARE/libs/i386
** R
** data
** inst
** byte-compile and prepare package for lazy loading
** help
*** installing help indices
  converting help for package 'BicARE'
    finding HTML links ... done
    BicARE-package                          html  
    FLOC                                    html  
    bicluster                               html  
    makeReport                              html  
    residue                                 html  
    sample.bicData                          html  
    sample.biclustering                     html  
    testAnnot                               html  
    testSet                                 html  
** building package indices
** installing vignettes
** testing if installed package can be loaded from temporary location
** testing if installed package can be loaded from final location
** testing if installed package keeps a record of temporary installation path

install for x64

* installing *source* package 'BicARE' ...
** libs
"C:/rtools40/mingw64/bin/"gcc  -I"C:/Users/BIOCBU~1/BBS-3~1.12-/R/include" -DNDEBUG     -I"C:/extsoft/include"     -O2 -Wall  -std=gnu99 -mfpmath=sse -msse2 -mstackrealign -c BicARE.c -o BicARE.o
BicARE.c: In function 'floc':
BicARE.c:439:12: warning: unused variable 'invk' [-Wunused-variable]
     double invk = 1/(double)*k;
            ^~~~
C:/rtools40/mingw64/bin/gcc -shared -s -static-libgcc -o BicARE.dll tmp.def BicARE.o -LC:/extsoft/lib/x64 -LC:/extsoft/lib -LC:/Users/BIOCBU~1/BBS-3~1.12-/R/bin/x64 -lR
installing to C:/Users/biocbuild/bbs-3.12-bioc/meat/BicARE.buildbin-libdir/BicARE/libs/x64
** testing if installed package can be loaded
* MD5 sums
packaged installation of 'BicARE' as BicARE_1.47.0.zip
* DONE (BicARE)
* installing to library 'C:/Users/biocbuild/bbs-3.12-bioc/R/library'
package 'BicARE' successfully unpacked and MD5 sums checked

Tests output


Example timings

BicARE.Rcheck/examples_i386/BicARE-Ex.timings

nameusersystemelapsed
FLOC23.47 0.0123.48
bicluster0.270.020.28
makeReport1.830.194.72
residue0.000.010.02
testAnnot0.010.000.01
testSet381.24 0.34382.07

BicARE.Rcheck/examples_x64/BicARE-Ex.timings

nameusersystemelapsed
FLOC25.41 0.0025.40
bicluster0.420.000.43
makeReport2.840.363.20
residue000
testAnnot0.010.000.02
testSet452.02 0.17452.21