Back to Multiple platform build/check report for BioC 3.12
A[B]CDEFGHIJKLMNOPQRSTUVWXYZ

BUILD report for BPRMeth on tokay1

This page was generated on 2020-08-09 12:10:26 -0400 (Sun, 09 Aug 2020).

TO THE DEVELOPERS/MAINTAINERS OF THE BPRMeth PACKAGE: Please make sure to use the following settings in order to reproduce any error or warning you see on this page.
Package 190/1882HostnameOS / ArchINSTALLBUILDCHECKBUILD BIN
BPRMeth 1.15.3
Chantriolnt-Andreas Kapourani
Snapshot Date: 2020-08-08 14:51:01 -0400 (Sat, 08 Aug 2020)
URL: https://git.bioconductor.org/packages/BPRMeth
Branch: master
Last Commit: 39fa242
Last Changed Date: 2020-06-10 12:32:32 -0400 (Wed, 10 Jun 2020)
malbec1 Linux (Ubuntu 18.04.4 LTS) / x86_64  OK  OK  OK UNNEEDED, same version exists in internal repository
nebbiolo1 Linux (Ubuntu 20.04.1 LTS) / x86_64  OK  OK  OK 
tokay1 Windows Server 2012 R2 Standard / x64  OK [ OK ] OK  OK UNNEEDED, same version exists in internal repository
merida1 macOS 10.14.6 Mojave / x86_64  OK  OK  OK  OK UNNEEDED, same version exists in internal repository

Summary

Package: BPRMeth
Version: 1.15.3
Command: chmod a+r BPRMeth -R && C:\Users\biocbuild\bbs-3.12-bioc\R\bin\R.exe CMD build --keep-empty-dirs --no-resave-data BPRMeth
StartedAt: 2020-08-08 21:23:14 -0400 (Sat, 08 Aug 2020)
EndedAt: 2020-08-08 21:25:29 -0400 (Sat, 08 Aug 2020)
EllapsedTime: 134.7 seconds
RetCode: 0
Status:  OK  
PackageFile: BPRMeth_1.15.3.tar.gz
PackageFileSize: 2.461 MiB

Command output

##############################################################################
##############################################################################
###
### Running command:
###
###   chmod a+r BPRMeth -R && C:\Users\biocbuild\bbs-3.12-bioc\R\bin\R.exe CMD build --keep-empty-dirs --no-resave-data BPRMeth
###
##############################################################################
##############################################################################


* checking for file 'BPRMeth/DESCRIPTION' ... OK
* preparing 'BPRMeth':
* checking DESCRIPTION meta-information ... OK
* cleaning src
* installing the package to build vignettes
* creating vignettes ... OK
* cleaning src
* checking for LF line-endings in source and make files and shell scripts
* checking for empty or unneeded directories
* building 'BPRMeth_1.15.3.tar.gz'