Back to Multiple platform build/check report for BioC 3.12
AB[C]DEFGHIJKLMNOPQRSTUVWXYZ

BUILD report for chipseq on malbec1

This page was generated on 2021-01-19 11:51:31 -0500 (Tue, 19 Jan 2021).

TO THE DEVELOPERS/MAINTAINERS OF THE chipseq PACKAGE: Please make sure to use the following settings in order to reproduce any error or warning you see on this page.
Package 289/1974HostnameOS / ArchINSTALLBUILDCHECKBUILD BIN
chipseq 1.40.0
Bioconductor Package Maintainer
Snapshot Date: 2021-01-18 14:42:24 -0500 (Mon, 18 Jan 2021)
URL: https://git.bioconductor.org/packages/chipseq
Branch: RELEASE_3_12
Last Commit: 84bcbc0
Last Changed Date: 2020-10-27 10:35:54 -0500 (Tue, 27 Oct 2020)
malbec1 Linux (Ubuntu 18.04.5 LTS) / x86_64  OK [ OK ] WARNINGS UNNEEDED, same version exists in internal repository
nebbiolo1 Linux (Ubuntu 20.04.1 LTS) / x86_64  OK  OK  WARNINGS 
tokay1 Windows Server 2012 R2 Standard / x64  OK  OK  WARNINGS  OK UNNEEDED, same version exists in internal repository
merida1 macOS 10.14.6 Mojave / x86_64  OK  OK  WARNINGS  OK UNNEEDED, same version exists in internal repository

Summary

Package: chipseq
Version: 1.40.0
Command: /home/biocbuild/bbs-3.12-bioc/R/bin/R CMD build --keep-empty-dirs --no-resave-data chipseq
StartedAt: 2021-01-18 18:25:59 -0500 (Mon, 18 Jan 2021)
EndedAt: 2021-01-18 18:29:23 -0500 (Mon, 18 Jan 2021)
EllapsedTime: 203.7 seconds
RetCode: 0
Status:  OK 
PackageFile: chipseq_1.40.0.tar.gz
PackageFileSize: 2.142 MiB

Command output

##############################################################################
##############################################################################
###
### Running command:
###
###   /home/biocbuild/bbs-3.12-bioc/R/bin/R CMD build --keep-empty-dirs --no-resave-data chipseq
###
##############################################################################
##############################################################################


* checking for file ‘chipseq/DESCRIPTION’ ... OK
* preparing ‘chipseq’:
* checking DESCRIPTION meta-information ... OK
* cleaning src
* installing the package to build vignettes
* creating vignettes ... OK
* cleaning src
* checking for LF line-endings in source and make files and shell scripts
* checking for empty or unneeded directories
WARNING: directory ‘chipseq/inst/Scripts/figs’ is empty
* looking to see if a ‘data/datalist’ file should be added
* building ‘chipseq_1.40.0.tar.gz’