Back to Multiple platform build/check report for BioC 3.12
[A]BCDEFGHIJKLMNOPQRSTUVWXYZ

INSTALL report for affyPara on tokay1

This page was generated on 2020-08-10 12:11:43 -0400 (Mon, 10 Aug 2020).

TO THE DEVELOPERS/MAINTAINERS OF THE affyPara PACKAGE: Please make sure to use the following settings in order to reproduce any error or warning you see on this page.
Package 32/1882HostnameOS / ArchINSTALLBUILDCHECKBUILD BIN
affyPara 1.49.0
Markus Schmidberger
Snapshot Date: 2020-08-09 14:51:29 -0400 (Sun, 09 Aug 2020)
URL: https://git.bioconductor.org/packages/affyPara
Branch: master
Last Commit: 2af763a
Last Changed Date: 2020-04-27 14:16:46 -0400 (Mon, 27 Apr 2020)
malbec1 Linux (Ubuntu 18.04.4 LTS) / x86_64  OK  OK  OK UNNEEDED, same version exists in internal repository
nebbiolo1 Linux (Ubuntu 20.04.1 LTS) / x86_64  OK  OK  OK 
tokay1 Windows Server 2012 R2 Standard / x64 [ OK ] OK  OK  OK UNNEEDED, same version exists in internal repository
merida1 macOS 10.14.6 Mojave / x86_64  OK  OK  OK  OK UNNEEDED, same version exists in internal repository

Summary

Package: affyPara
Version: 1.49.0
Command: C:\cygwin\bin\curl.exe -O https://malbec1.bioconductor.org/BBS/3.12/bioc/src/contrib/affyPara_1.49.0.tar.gz && rm -rf affyPara.buildbin-libdir && mkdir affyPara.buildbin-libdir && C:\Users\biocbuild\bbs-3.12-bioc\R\bin\R.exe CMD INSTALL --merge-multiarch --build --library=affyPara.buildbin-libdir affyPara_1.49.0.tar.gz && C:\Users\biocbuild\bbs-3.12-bioc\R\bin\R.exe CMD INSTALL affyPara_1.49.0.zip && rm affyPara_1.49.0.tar.gz affyPara_1.49.0.zip
StartedAt: 2020-08-09 17:01:19 -0400 (Sun, 09 Aug 2020)
EndedAt: 2020-08-09 17:01:51 -0400 (Sun, 09 Aug 2020)
EllapsedTime: 32.5 seconds
RetCode: 0
Status:  OK  

Command output

##############################################################################
##############################################################################
###
### Running command:
###
###   C:\cygwin\bin\curl.exe -O https://malbec1.bioconductor.org/BBS/3.12/bioc/src/contrib/affyPara_1.49.0.tar.gz && rm -rf affyPara.buildbin-libdir && mkdir affyPara.buildbin-libdir && C:\Users\biocbuild\bbs-3.12-bioc\R\bin\R.exe CMD INSTALL --merge-multiarch --build --library=affyPara.buildbin-libdir affyPara_1.49.0.tar.gz && C:\Users\biocbuild\bbs-3.12-bioc\R\bin\R.exe CMD INSTALL affyPara_1.49.0.zip && rm affyPara_1.49.0.tar.gz affyPara_1.49.0.zip
###
##############################################################################
##############################################################################


  % Total    % Received % Xferd  Average Speed   Time    Time     Time  Current
                                 Dload  Upload   Total   Spent    Left  Speed

  0     0    0     0    0     0      0      0 --:--:-- --:--:-- --:--:--     0
100  261k  100  261k    0     0  3739k      0 --:--:-- --:--:-- --:--:-- 3956k

install for i386

* installing *source* package 'affyPara' ...
** using staged installation
** R
** byte-compile and prepare package for lazy loading
** help
*** installing help indices
  converting help for package 'affyPara'
    finding HTML links ... done
    MAplotPara                              html  
    bgcPara                                 html  
    boxplotPara                             html  
    class.vsnInputPara                      html  
    computeExprSetPara                      html  
    distributeFiles                         html  
    mergeSplitObjects                       html  
    normalizeAffyBatchConstantPara          html  
    normalizeAffyBatchInvariantsetPara      html  
    normalizeAffyBatchLoessPara             html  
    normalizeAffyBatchLoessParaIter         html  
    normalizeAffyBatchQuantilesPara         html  
    preproPara                              html  
    qa                                      html  
    readAffybatchPara                       html  
    removeDistributedFiles                  html  
    rmaPara                                 html  
    snowReplace                             html  
    split                                   html  
    vsnPara                                 html  
    finding level-2 HTML links ... done

** building package indices
** installing vignettes
** testing if installed package can be loaded from temporary location
** testing if installed package can be loaded from final location
** testing if installed package keeps a record of temporary installation path

install for x64

* installing *source* package 'affyPara' ...
** testing if installed package can be loaded
* MD5 sums
packaged installation of 'affyPara' as affyPara_1.49.0.zip
* DONE (affyPara)
* installing to library 'C:/Users/biocbuild/bbs-3.12-bioc/R/library'
package 'affyPara' successfully unpacked and MD5 sums checked