Back to Multiple platform build/check report for BioC 3.12
A[B]CDEFGHIJKLMNOPQRSTUVWXYZ

BUILD report for BiocGenerics on malbec1

This page was generated on 2020-08-10 11:35:49 -0400 (Mon, 10 Aug 2020).

TO THE DEVELOPERS/MAINTAINERS OF THE BiocGenerics PACKAGE: Please make sure to use the following settings in order to reproduce any error or warning you see on this page.
Package 152/1882HostnameOS / ArchINSTALLBUILDCHECKBUILD BIN
BiocGenerics 0.35.4
Bioconductor Package Maintainer
Snapshot Date: 2020-08-09 14:51:29 -0400 (Sun, 09 Aug 2020)
URL: https://git.bioconductor.org/packages/BiocGenerics
Branch: master
Last Commit: 59d6941
Last Changed Date: 2020-06-04 12:59:02 -0400 (Thu, 04 Jun 2020)
malbec1 Linux (Ubuntu 18.04.4 LTS) / x86_64  OK [ OK ] WARNINGS UNNEEDED, same version exists in internal repository
nebbiolo1 Linux (Ubuntu 20.04.1 LTS) / x86_64  OK  OK  WARNINGS 
tokay1 Windows Server 2012 R2 Standard / x64  OK  OK  WARNINGS  OK UNNEEDED, same version exists in internal repository
merida1 macOS 10.14.6 Mojave / x86_64  OK  OK  WARNINGS  OK UNNEEDED, same version exists in internal repository

Summary

Package: BiocGenerics
Version: 0.35.4
Command: /home/biocbuild/bbs-3.12-bioc/R/bin/R CMD build --keep-empty-dirs --no-resave-data BiocGenerics
StartedAt: 2020-08-09 18:14:20 -0400 (Sun, 09 Aug 2020)
EndedAt: 2020-08-09 18:14:21 -0400 (Sun, 09 Aug 2020)
EllapsedTime: 1.0 seconds
RetCode: 0
Status:  OK 
PackageFile: BiocGenerics_0.35.4.tar.gz
PackageFileSize: 46.39 KiB

Command output

##############################################################################
##############################################################################
###
### Running command:
###
###   /home/biocbuild/bbs-3.12-bioc/R/bin/R CMD build --keep-empty-dirs --no-resave-data BiocGenerics
###
##############################################################################
##############################################################################


* checking for file ‘BiocGenerics/DESCRIPTION’ ... OK
* preparing ‘BiocGenerics’:
* checking DESCRIPTION meta-information ... OK
* checking for LF line-endings in source and make files and shell scripts
* checking for empty or unneeded directories
* building ‘BiocGenerics_0.35.4.tar.gz’