Back to Multiple platform build/check report for BioC 3.12
AB[C]DEFGHIJKLMNOPQRSTUVWXYZ

CHECK report for CeTF on malbec1

This page was generated on 2021-01-22 11:51:02 -0500 (Fri, 22 Jan 2021).

TO THE DEVELOPERS/MAINTAINERS OF THE CeTF PACKAGE: Please make sure to use the following settings in order to reproduce any error or warning you see on this page.
Package 263/1974HostnameOS / ArchINSTALLBUILDCHECKBUILD BIN
CeTF 1.2.4
Carlos Alberto Oliveira de Biagi Junior
Snapshot Date: 2021-01-21 14:42:12 -0500 (Thu, 21 Jan 2021)
URL: https://git.bioconductor.org/packages/CeTF
Branch: RELEASE_3_12
Last Commit: 2896169
Last Changed Date: 2020-11-23 09:24:27 -0500 (Mon, 23 Nov 2020)
malbec1 Linux (Ubuntu 18.04.5 LTS) / x86_64  OK  OK [ OK ]UNNEEDED, same version exists in internal repository
nebbiolo1 Linux (Ubuntu 20.04.1 LTS) / x86_64  OK  OK  OK 
tokay1 Windows Server 2012 R2 Standard / x64  OK  OK  OK  OK UNNEEDED, same version exists in internal repository
merida1 macOS 10.14.6 Mojave / x86_64  OK  OK  OK  OK UNNEEDED, same version exists in internal repository

Summary

Package: CeTF
Version: 1.2.4
Command: /home/biocbuild/bbs-3.12-bioc/R/bin/R CMD check --install=check:CeTF.install-out.txt --library=/home/biocbuild/bbs-3.12-bioc/R/library --no-vignettes --timings CeTF_1.2.4.tar.gz
StartedAt: 2021-01-22 00:21:27 -0500 (Fri, 22 Jan 2021)
EndedAt: 2021-01-22 00:27:37 -0500 (Fri, 22 Jan 2021)
EllapsedTime: 370.1 seconds
RetCode: 0
Status:  OK 
CheckDir: CeTF.Rcheck
Warnings: 0

Command output

##############################################################################
##############################################################################
###
### Running command:
###
###   /home/biocbuild/bbs-3.12-bioc/R/bin/R CMD check --install=check:CeTF.install-out.txt --library=/home/biocbuild/bbs-3.12-bioc/R/library --no-vignettes --timings CeTF_1.2.4.tar.gz
###
##############################################################################
##############################################################################


* using log directory ‘/home/biocbuild/bbs-3.12-bioc/meat/CeTF.Rcheck’
* using R version 4.0.3 (2020-10-10)
* using platform: x86_64-pc-linux-gnu (64-bit)
* using session charset: UTF-8
* using option ‘--no-vignettes’
* checking for file ‘CeTF/DESCRIPTION’ ... OK
* checking extension type ... Package
* this is package ‘CeTF’ version ‘1.2.4’
* package encoding: UTF-8
* checking package namespace information ... OK
* checking package dependencies ... OK
* checking if this is a source package ... OK
* checking if there is a namespace ... OK
* checking for hidden files and directories ... OK
* checking for portable file names ... OK
* checking for sufficient/correct file permissions ... OK
* checking whether package ‘CeTF’ can be installed ... OK
* checking installed package size ... OK
* checking package directory ... OK
* checking ‘build’ directory ... OK
* checking DESCRIPTION meta-information ... OK
* checking top-level files ... OK
* checking for left-over files ... OK
* checking index information ... OK
* checking package subdirectories ... OK
* checking R files for non-ASCII characters ... OK
* checking R files for syntax errors ... OK
* checking whether the package can be loaded ... OK
* checking whether the package can be loaded with stated dependencies ... OK
* checking whether the package can be unloaded cleanly ... OK
* checking whether the namespace can be loaded with stated dependencies ... OK
* checking whether the namespace can be unloaded cleanly ... OK
* checking dependencies in R code ... OK
* checking S3 generic/method consistency ... OK
* checking replacement functions ... OK
* checking foreign function calls ... OK
* checking R code for possible problems ... OK
* checking Rd files ... OK
* checking Rd metadata ... OK
* checking Rd cross-references ... OK
* checking for missing documentation entries ... OK
* checking for code/documentation mismatches ... OK
* checking Rd \usage sections ... OK
* checking Rd contents ... OK
* checking for unstated dependencies in examples ... OK
* checking contents of ‘data’ directory ... OK
* checking data for non-ASCII characters ... OK
* checking data for ASCII and uncompressed saves ... OK
* checking line endings in C/C++/Fortran sources/headers ... OK
* checking compiled code ... NOTE
Note: information on .o files is not available
* checking files in ‘vignettes’ ... OK
* checking examples ... OK
* checking for unstated dependencies in ‘tests’ ... OK
* checking tests ...
  Running ‘testthat.R’
 OK
* checking for unstated dependencies in vignettes ... OK
* checking package vignettes in ‘inst/doc’ ... OK
* checking running R code from vignettes ... SKIPPED
* checking re-building of vignette outputs ... SKIPPED
* checking PDF version of manual ... OK
* DONE

Status: 1 NOTE
See
  ‘/home/biocbuild/bbs-3.12-bioc/meat/CeTF.Rcheck/00check.log’
for details.



Installation output

CeTF.Rcheck/00install.out

##############################################################################
##############################################################################
###
### Running command:
###
###   /home/biocbuild/bbs-3.12-bioc/R/bin/R CMD INSTALL CeTF
###
##############################################################################
##############################################################################


* installing to library ‘/home/biocbuild/bbs-3.12-bioc/R/library’
* installing *source* package ‘CeTF’ ...
** using staged installation
** libs
g++ -std=gnu++11 -I"/home/biocbuild/bbs-3.12-bioc/R/include" -DNDEBUG  -I'/home/biocbuild/bbs-3.12-bioc/R/library/Rcpp/include' -I'/home/biocbuild/bbs-3.12-bioc/R/library/RcppArmadillo/include' -I/usr/local/include   -fpic  -g -O2  -Wall -c PCIT.cpp -o PCIT.o
g++ -std=gnu++11 -I"/home/biocbuild/bbs-3.12-bioc/R/include" -DNDEBUG  -I'/home/biocbuild/bbs-3.12-bioc/R/library/Rcpp/include' -I'/home/biocbuild/bbs-3.12-bioc/R/library/RcppArmadillo/include' -I/usr/local/include   -fpic  -g -O2  -Wall -c RcppExports.cpp -o RcppExports.o
g++ -std=gnu++11 -shared -L/home/biocbuild/bbs-3.12-bioc/R/lib -L/usr/local/lib -o CeTF.so PCIT.o RcppExports.o -L/home/biocbuild/bbs-3.12-bioc/R/lib -lR
installing to /home/biocbuild/bbs-3.12-bioc/R/library/00LOCK-CeTF/00new/CeTF/libs
** R
** data
*** moving datasets to lazyload DB
** inst
** byte-compile and prepare package for lazy loading
** help
*** installing help indices
** building package indices
** installing vignettes
** testing if installed package can be loaded from temporary location
** checking absolute paths in shared objects and dynamic libraries
** testing if installed package can be loaded from final location
** testing if installed package keeps a record of temporary installation path
* DONE (CeTF)

Tests output

CeTF.Rcheck/tests/testthat.Rout


R version 4.0.3 (2020-10-10) -- "Bunny-Wunnies Freak Out"
Copyright (C) 2020 The R Foundation for Statistical Computing
Platform: x86_64-pc-linux-gnu (64-bit)

R is free software and comes with ABSOLUTELY NO WARRANTY.
You are welcome to redistribute it under certain conditions.
Type 'license()' or 'licence()' for distribution details.

R is a collaborative project with many contributors.
Type 'contributors()' for more information and
'citation()' on how to cite R or R packages in publications.

Type 'demo()' for some demos, 'help()' for on-line help, or
'help.start()' for an HTML browser interface to help.
Type 'q()' to quit R.

> library("testthat")
> library("CeTF")

========================================
CeTF version 1.2.4
Bioconductor page: http://bioconductor.org/packages/CeTF/
Github page: https://github.com/cbiagii/CeTF or https://cbiagii.github.io/CeTF/
Documentation: http://bioconductor.org/packages/CeTF/
If you use it in published research, please cite:

Carlos Alberto Oliveira de Biagi Junior, Ricardo Perecin Nociti, Breno Osvaldo 
Funicheli, Patricia de Cassia Ruy, Joao Paulo Bianchi Ximenez, Wilson A Silva Jr.
CeTF: an R package to Coexpression for Transcription Factors using Regulatory 
Impact Factors (RIF) and Partial Correlation and Information (PCIT) analysis.
bioRxiv. 2020, DOI: 10.1101/2020.03.30.015784
========================================

> test_check("CeTF")
[ FAIL 0 | WARN 0 | SKIP 0 | PASS 43 ]
> 
> proc.time()
   user  system elapsed 
 18.572   0.408  21.247 

Example timings

CeTF.Rcheck/CeTF-Ex.timings

nameusersystemelapsed
CeTFdemo0.0000.0000.002
CircosTargets0.0040.0000.001
InputData-methods0.0520.0080.059
NetworkData-methods0.0400.0040.043
OutputData-methods0.0600.0040.065
PCIT0.0200.0000.023
RIF0.0880.0040.089
RIFPlot1.4200.0001.425
RIF_input0.0000.0000.001
SmearPlot1.7200.0521.810
TFs0.0040.0000.002
bivar.awk0.0000.0000.002
clustCoef0.040.000.04
clustCoefPercentage0.0320.0000.035
densityPlot1.9520.0482.076
diffusion000
enrichPlot0.9400.0201.106
enrichdemo0.0000.0000.002
expDiff0.5080.0200.531
getDE-methods0.0480.0000.050
getData-methods0.0200.0080.030
getEnrich0.0000.0000.001
getGroupGO0.0000.0000.001
heatPlot1.5960.0121.631
histPlot0.4280.0000.429
netConditionsPlot2.3720.0082.414
netGOTFPlot0.0000.0000.001
normExp0.1120.0080.117
pcitC0.0240.0000.026
refGenes0.0000.0000.001
runAnalysis0.4400.0040.446
simCounts0.0040.0000.002
simNorm0.0000.0000.002
tolerance0.0000.0000.001