Back to Multiple platform build/check report for BioC 3.12
ABCDEF[G]HIJKLMNOPQRSTUVWXYZ

CHECK report for GraphPAC on tokay1

This page was generated on 2021-01-19 11:55:28 -0500 (Tue, 19 Jan 2021).

TO THE DEVELOPERS/MAINTAINERS OF THE GraphPAC PACKAGE: Please make sure to use the following settings in order to reproduce any error or warning you see on this page.
Package 784/1974HostnameOS / ArchINSTALLBUILDCHECKBUILD BIN
GraphPAC 1.32.0
Gregory Ryslik
Snapshot Date: 2021-01-18 14:42:24 -0500 (Mon, 18 Jan 2021)
URL: https://git.bioconductor.org/packages/GraphPAC
Branch: RELEASE_3_12
Last Commit: 8f7bfe2
Last Changed Date: 2020-10-27 10:48:33 -0500 (Tue, 27 Oct 2020)
malbec1 Linux (Ubuntu 18.04.5 LTS) / x86_64  OK  OK  OK UNNEEDED, same version exists in internal repository
nebbiolo1 Linux (Ubuntu 20.04.1 LTS) / x86_64  OK  OK  OK 
tokay1 Windows Server 2012 R2 Standard / x64  OK  OK [ OK ] OK UNNEEDED, same version exists in internal repository
merida1 macOS 10.14.6 Mojave / x86_64  OK  OK  OK  OK UNNEEDED, same version exists in internal repository

Summary

Package: GraphPAC
Version: 1.32.0
Command: C:\Users\biocbuild\bbs-3.12-bioc\R\bin\R.exe CMD check --force-multiarch --install=check:GraphPAC.install-out.txt --library=C:\Users\biocbuild\bbs-3.12-bioc\R\library --no-vignettes --timings GraphPAC_1.32.0.tar.gz
StartedAt: 2021-01-19 03:36:12 -0500 (Tue, 19 Jan 2021)
EndedAt: 2021-01-19 03:39:01 -0500 (Tue, 19 Jan 2021)
EllapsedTime: 168.8 seconds
RetCode: 0
Status:  OK  
CheckDir: GraphPAC.Rcheck
Warnings: 0

Command output

##############################################################################
##############################################################################
###
### Running command:
###
###   C:\Users\biocbuild\bbs-3.12-bioc\R\bin\R.exe CMD check --force-multiarch --install=check:GraphPAC.install-out.txt --library=C:\Users\biocbuild\bbs-3.12-bioc\R\library --no-vignettes --timings GraphPAC_1.32.0.tar.gz
###
##############################################################################
##############################################################################


* using log directory 'C:/Users/biocbuild/bbs-3.12-bioc/meat/GraphPAC.Rcheck'
* using R version 4.0.3 (2020-10-10)
* using platform: x86_64-w64-mingw32 (64-bit)
* using session charset: ISO8859-1
* using option '--no-vignettes'
* checking for file 'GraphPAC/DESCRIPTION' ... OK
* checking extension type ... Package
* this is package 'GraphPAC' version '1.32.0'
* checking package namespace information ... OK
* checking package dependencies ... OK
* checking if this is a source package ... OK
* checking if there is a namespace ... OK
* checking for hidden files and directories ... OK
* checking for portable file names ... OK
* checking whether package 'GraphPAC' can be installed ... OK
* checking installed package size ... OK
* checking package directory ... OK
* checking 'build' directory ... OK
* checking DESCRIPTION meta-information ... NOTE
Malformed Title field: should not end in a period.
* checking top-level files ... OK
* checking for left-over files ... OK
* checking index information ... OK
* checking package subdirectories ... OK
* checking R files for non-ASCII characters ... OK
* checking R files for syntax errors ... OK
* loading checks for arch 'i386'
** checking whether the package can be loaded ... OK
** checking whether the package can be loaded with stated dependencies ... OK
** checking whether the package can be unloaded cleanly ... OK
** checking whether the namespace can be loaded with stated dependencies ... OK
** checking whether the namespace can be unloaded cleanly ... OK
* loading checks for arch 'x64'
** checking whether the package can be loaded ... OK
** checking whether the package can be loaded with stated dependencies ... OK
** checking whether the package can be unloaded cleanly ... OK
** checking whether the namespace can be loaded with stated dependencies ... OK
** checking whether the namespace can be unloaded cleanly ... OK
* checking dependencies in R code ... NOTE
Packages in Depends field not imported from:
  'RMallow' 'TSP' 'iPAC' 'igraph'
  These packages need to be imported from (in the NAMESPACE file)
  for when this namespace is loaded but not attached.
* checking S3 generic/method consistency ... OK
* checking replacement functions ... OK
* checking foreign function calls ... OK
* checking R code for possible problems ... NOTE
Find.TSP.Path: no visible global function definition for 'dist'
Find.TSP.Path: no visible global function definition for 'ATSP'
Find.TSP.Path: no visible global function definition for 'insert_dummy'
Find.TSP.Path: no visible global function definition for 'solve_TSP'
Find.TSP.Path: no visible global function definition for 'cut_tour'
GraphClust: no visible global function definition for 'graph.empty'
GraphClust: no visible global function definition for 'V'
GraphClust: no visible global function definition for 'V<-'
GraphClust: no visible global function definition for 'add.edges'
GraphClust: no visible global function definition for 'nmc'
Plot.Protein: no visible global function definition for 'heat.colors'
Plot.Protein: no visible global function definition for 'vcount'
Plot.Protein: no visible global function definition for 'gray'
Plot.Protein: no visible global function definition for 'topo.colors'
Plot.Protein: no visible global function definition for 'cm.colors'
Plot.Protein: no visible global function definition for 'V'
Plot.Protein: no visible global function definition for 'tkplot'
Plot.Protein: no visible binding for global variable 'layout.circle'
Undefined global functions or variables:
  ATSP V V<- add.edges cm.colors cut_tour dist graph.empty gray
  heat.colors insert_dummy layout.circle nmc solve_TSP tkplot
  topo.colors vcount
Consider adding
  importFrom("grDevices", "cm.colors", "gray", "heat.colors",
             "topo.colors")
  importFrom("stats", "dist")
to your NAMESPACE file.
* checking Rd files ... OK
* checking Rd metadata ... OK
* checking Rd cross-references ... OK
* checking for missing documentation entries ... OK
* checking for code/documentation mismatches ... OK
* checking Rd \usage sections ... OK
* checking Rd contents ... OK
* checking for unstated dependencies in examples ... OK
* checking files in 'vignettes' ... OK
* checking examples ...
** running examples for arch 'i386' ... OK
** running examples for arch 'x64' ... OK
Examples with CPU (user + system) or elapsed time > 5s
              user system elapsed
Find.TSP.Path 4.31   0.74    6.23
* checking for unstated dependencies in 'tests' ... OK
* checking tests ...
** running tests for arch 'i386' ...
  Running 'runTests.R'
 OK
** running tests for arch 'x64' ...
  Running 'runTests.R'
 OK
* checking for unstated dependencies in vignettes ... OK
* checking package vignettes in 'inst/doc' ... OK
* checking running R code from vignettes ... SKIPPED
* checking re-building of vignette outputs ... SKIPPED
* checking PDF version of manual ... OK
* DONE

Status: 3 NOTEs
See
  'C:/Users/biocbuild/bbs-3.12-bioc/meat/GraphPAC.Rcheck/00check.log'
for details.



Installation output

GraphPAC.Rcheck/00install.out

##############################################################################
##############################################################################
###
### Running command:
###
###   C:\cygwin\bin\curl.exe -O https://malbec1.bioconductor.org/BBS/3.12/bioc/src/contrib/GraphPAC_1.32.0.tar.gz && rm -rf GraphPAC.buildbin-libdir && mkdir GraphPAC.buildbin-libdir && C:\Users\biocbuild\bbs-3.12-bioc\R\bin\R.exe CMD INSTALL --merge-multiarch --build --library=GraphPAC.buildbin-libdir GraphPAC_1.32.0.tar.gz && C:\Users\biocbuild\bbs-3.12-bioc\R\bin\R.exe CMD INSTALL GraphPAC_1.32.0.zip && rm GraphPAC_1.32.0.tar.gz GraphPAC_1.32.0.zip
###
##############################################################################
##############################################################################


  % Total    % Received % Xferd  Average Speed   Time    Time     Time  Current
                                 Dload  Upload   Total   Spent    Left  Speed

  0     0    0     0    0     0      0      0 --:--:-- --:--:-- --:--:--     0
100  223k  100  223k    0     0  2416k      0 --:--:-- --:--:-- --:--:-- 2534k

install for i386

* installing *source* package 'GraphPAC' ...
** using staged installation
** R
** inst
** byte-compile and prepare package for lazy loading
** help
*** installing help indices
  converting help for package 'GraphPAC'
    finding HTML links ... done
    Find.TSP.Path                           html  
    GraphClust                              html  
    Plot.Protein                            html  
    graphPAC-package                        html  
** building package indices
** installing vignettes
** testing if installed package can be loaded from temporary location
** testing if installed package can be loaded from final location
** testing if installed package keeps a record of temporary installation path

install for x64

* installing *source* package 'GraphPAC' ...
** testing if installed package can be loaded
* MD5 sums
packaged installation of 'GraphPAC' as GraphPAC_1.32.0.zip
* DONE (GraphPAC)
* installing to library 'C:/Users/biocbuild/bbs-3.12-bioc/R/library'
package 'GraphPAC' successfully unpacked and MD5 sums checked

Tests output

GraphPAC.Rcheck/tests_i386/runTests.Rout


R version 4.0.3 (2020-10-10) -- "Bunny-Wunnies Freak Out"
Copyright (C) 2020 The R Foundation for Statistical Computing
Platform: i386-w64-mingw32/i386 (32-bit)

R is free software and comes with ABSOLUTELY NO WARRANTY.
You are welcome to redistribute it under certain conditions.
Type 'license()' or 'licence()' for distribution details.

R is a collaborative project with many contributors.
Type 'contributors()' for more information and
'citation()' on how to cite R or R packages in publications.

Type 'demo()' for some demos, 'help()' for on-line help, or
'help.start()' for an HTML browser interface to help.
Type 'q()' to quit R.

> BiocGenerics:::testPackage("GraphPAC")
gdata: read.xls support for 'XLS' (Excel 97-2004) files ENABLED.

gdata: read.xls support for 'XLSX' (Excel 2007+) files ENABLED.

Attaching package: 'gdata'

The following object is masked from 'package:stats':

    nobs

The following object is masked from 'package:utils':

    object.size

The following object is masked from 'package:base':

    startsWith


Attaching package: 'BiocGenerics'

The following objects are masked from 'package:parallel':

    clusterApply, clusterApplyLB, clusterCall, clusterEvalQ,
    clusterExport, clusterMap, parApply, parCapply, parLapply,
    parLapplyLB, parRapply, parSapply, parSapplyLB

The following object is masked from 'package:gdata':

    combine

The following objects are masked from 'package:stats':

    IQR, mad, sd, var, xtabs

The following objects are masked from 'package:base':

    Filter, Find, Map, Position, Reduce, anyDuplicated, append,
    as.data.frame, basename, cbind, colnames, dirname, do.call,
    duplicated, eval, evalq, get, grep, grepl, intersect, is.unsorted,
    lapply, mapply, match, mget, order, paste, pmax, pmax.int, pmin,
    pmin.int, rank, rbind, rownames, sapply, setdiff, sort, table,
    tapply, union, unique, unsplit, which.max, which.min


Attaching package: 'S4Vectors'

The following objects are masked from 'package:gdata':

    first, first<-

The following object is masked from 'package:base':

    expand.grid


Attaching package: 'IRanges'

The following object is masked from 'package:gdata':

    trim

The following object is masked from 'package:grDevices':

    windows


Attaching package: 'Biostrings'

The following object is masked from 'package:base':

    strsplit

Welcome to Bioconductor

    Vignettes contain introductory material; view with
    'browseVignettes()'. To cite Bioconductor, see
    'citation("Biobase")', and for packages 'citation("pkgname")'.


Attaching package: 'igraph'

The following object is masked from 'package:Biostrings':

    union

The following object is masked from 'package:XVector':

    path

The following object is masked from 'package:IRanges':

    union

The following object is masked from 'package:S4Vectors':

    union

The following objects are masked from 'package:BiocGenerics':

    normalize, path, union

The following objects are masked from 'package:stats':

    decompose, spectrum

The following object is masked from 'package:base':

    union


Attaching package: 'combinat'

The following object is masked from 'package:utils':

    combn

Calculating Remapped Clusters.Calculating Culled Clusters.Calculating Full Clusters.Calculating Remapped Clusters.Calculating Culled Clusters.Calculating Full Clusters.Calculating Remapped Clusters.Calculating Culled Clusters.Calculating Full Clusters.Calculating Remapped Clusters.Calculating Culled Clusters.Calculating Full Clusters.Calculating Remapped Clusters.Calculating Culled Clusters.Calculating Full Clusters.

RUNIT TEST PROTOCOL -- Tue Jan 19 03:38:41 2021 
*********************************************** 
Number of test functions: 3 
Number of errors: 0 
Number of failures: 0 

 
1 Test Suite : 
GraphPAC RUnit Tests - 3 test functions, 0 errors, 0 failures
Number of test functions: 3 
Number of errors: 0 
Number of failures: 0 
> 
> proc.time()
   user  system elapsed 
   5.45    0.25    6.67 

GraphPAC.Rcheck/tests_x64/runTests.Rout


R version 4.0.3 (2020-10-10) -- "Bunny-Wunnies Freak Out"
Copyright (C) 2020 The R Foundation for Statistical Computing
Platform: x86_64-w64-mingw32/x64 (64-bit)

R is free software and comes with ABSOLUTELY NO WARRANTY.
You are welcome to redistribute it under certain conditions.
Type 'license()' or 'licence()' for distribution details.

R is a collaborative project with many contributors.
Type 'contributors()' for more information and
'citation()' on how to cite R or R packages in publications.

Type 'demo()' for some demos, 'help()' for on-line help, or
'help.start()' for an HTML browser interface to help.
Type 'q()' to quit R.

> BiocGenerics:::testPackage("GraphPAC")
gdata: read.xls support for 'XLS' (Excel 97-2004) files ENABLED.

gdata: read.xls support for 'XLSX' (Excel 2007+) files ENABLED.

Attaching package: 'gdata'

The following object is masked from 'package:stats':

    nobs

The following object is masked from 'package:utils':

    object.size

The following object is masked from 'package:base':

    startsWith


Attaching package: 'BiocGenerics'

The following objects are masked from 'package:parallel':

    clusterApply, clusterApplyLB, clusterCall, clusterEvalQ,
    clusterExport, clusterMap, parApply, parCapply, parLapply,
    parLapplyLB, parRapply, parSapply, parSapplyLB

The following object is masked from 'package:gdata':

    combine

The following objects are masked from 'package:stats':

    IQR, mad, sd, var, xtabs

The following objects are masked from 'package:base':

    Filter, Find, Map, Position, Reduce, anyDuplicated, append,
    as.data.frame, basename, cbind, colnames, dirname, do.call,
    duplicated, eval, evalq, get, grep, grepl, intersect, is.unsorted,
    lapply, mapply, match, mget, order, paste, pmax, pmax.int, pmin,
    pmin.int, rank, rbind, rownames, sapply, setdiff, sort, table,
    tapply, union, unique, unsplit, which.max, which.min


Attaching package: 'S4Vectors'

The following objects are masked from 'package:gdata':

    first, first<-

The following object is masked from 'package:base':

    expand.grid


Attaching package: 'IRanges'

The following object is masked from 'package:gdata':

    trim

The following object is masked from 'package:grDevices':

    windows


Attaching package: 'Biostrings'

The following object is masked from 'package:base':

    strsplit

Welcome to Bioconductor

    Vignettes contain introductory material; view with
    'browseVignettes()'. To cite Bioconductor, see
    'citation("Biobase")', and for packages 'citation("pkgname")'.


Attaching package: 'igraph'

The following object is masked from 'package:Biostrings':

    union

The following object is masked from 'package:XVector':

    path

The following object is masked from 'package:IRanges':

    union

The following object is masked from 'package:S4Vectors':

    union

The following objects are masked from 'package:BiocGenerics':

    normalize, path, union

The following objects are masked from 'package:stats':

    decompose, spectrum

The following object is masked from 'package:base':

    union


Attaching package: 'combinat'

The following object is masked from 'package:utils':

    combn

Calculating Remapped Clusters.Calculating Culled Clusters.Calculating Full Clusters.Calculating Remapped Clusters.Calculating Culled Clusters.Calculating Full Clusters.Calculating Remapped Clusters.Calculating Culled Clusters.Calculating Full Clusters.Calculating Remapped Clusters.Calculating Culled Clusters.Calculating Full Clusters.Calculating Remapped Clusters.Calculating Culled Clusters.Calculating Full Clusters.

RUNIT TEST PROTOCOL -- Tue Jan 19 03:38:47 2021 
*********************************************** 
Number of test functions: 3 
Number of errors: 0 
Number of failures: 0 

 
1 Test Suite : 
GraphPAC RUnit Tests - 3 test functions, 0 errors, 0 failures
Number of test functions: 3 
Number of errors: 0 
Number of failures: 0 
> 
> proc.time()
   user  system elapsed 
   4.04    0.40    5.35 

Example timings

GraphPAC.Rcheck/examples_i386/GraphPAC-Ex.timings

nameusersystemelapsed
Find.TSP.Path4.100.474.89
GraphClust000
Plot.Protein000
graphPAC-package000

GraphPAC.Rcheck/examples_x64/GraphPAC-Ex.timings

nameusersystemelapsed
Find.TSP.Path4.310.746.23
GraphClust000
Plot.Protein000
graphPAC-package000