Back to Multiple platform build/check report for BioC 3.12
[A]BCDEFGHIJKLMNOPQRSTUVWXYZ

BUILD report for AffyRNADegradation on malbec1

This page was generated on 2020-08-07 11:18:30 -0400 (Fri, 07 Aug 2020).

TO THE DEVELOPERS/MAINTAINERS OF THE AffyRNADegradation PACKAGE: Please make sure to use the following settings in order to reproduce any error or warning you see on this page.
Package 35/1882HostnameOS / ArchINSTALLBUILDCHECKBUILD BIN
AffyRNADegradation 1.35.0
Mario Fasold
Snapshot Date: 2020-08-06 14:50:46 -0400 (Thu, 06 Aug 2020)
URL: https://git.bioconductor.org/packages/AffyRNADegradation
Branch: master
Last Commit: a30a663
Last Changed Date: 2020-04-27 14:28:04 -0400 (Mon, 27 Apr 2020)
malbec1 Linux (Ubuntu 18.04.4 LTS) / x86_64  OK [ OK ] OK UNNEEDED, same version exists in internal repository
tokay1 Windows Server 2012 R2 Standard / x64  OK  OK  OK  OK UNNEEDED, same version exists in internal repository
merida1 macOS 10.14.6 Mojave / x86_64  OK  OK  OK  OK UNNEEDED, same version exists in internal repository

Summary

Package: AffyRNADegradation
Version: 1.35.0
Command: /home/biocbuild/bbs-3.12-bioc/R/bin/R CMD build --keep-empty-dirs --no-resave-data AffyRNADegradation
StartedAt: 2020-08-06 18:13:37 -0400 (Thu, 06 Aug 2020)
EndedAt: 2020-08-06 18:15:11 -0400 (Thu, 06 Aug 2020)
EllapsedTime: 93.9 seconds
RetCode: 0
Status:  OK 
PackageFile: AffyRNADegradation_1.35.0.tar.gz
PackageFileSize: 308.3 KiB

Command output

##############################################################################
##############################################################################
###
### Running command:
###
###   /home/biocbuild/bbs-3.12-bioc/R/bin/R CMD build --keep-empty-dirs --no-resave-data AffyRNADegradation
###
##############################################################################
##############################################################################


* checking for file ‘AffyRNADegradation/DESCRIPTION’ ... OK
* preparing ‘AffyRNADegradation’:
* checking DESCRIPTION meta-information ... OK
* installing the package to build vignettes
* creating vignettes ... OK
* checking for LF line-endings in source and make files and shell scripts
* checking for empty or unneeded directories
* building ‘AffyRNADegradation_1.35.0.tar.gz’