Back to Multiple platform build/check report for BioC 3.12
A[B]CDEFGHIJKLMNOPQRSTUVWXYZ

BUILD BIN report for BadRegionFinder on tokay1

This page was generated on 2021-01-25 11:52:14 -0500 (Mon, 25 Jan 2021).

TO THE DEVELOPERS/MAINTAINERS OF THE BadRegionFinder PACKAGE: Please make sure to use the following settings in order to reproduce any error or warning you see on this page.
Package 109/1974HostnameOS / ArchINSTALLBUILDCHECKBUILD BIN
BadRegionFinder 1.18.0
Sarah Sandmann
Snapshot Date: 2021-01-24 14:40:16 -0500 (Sun, 24 Jan 2021)
URL: https://git.bioconductor.org/packages/BadRegionFinder
Branch: RELEASE_3_12
Last Commit: 54deba4
Last Changed Date: 2020-10-27 11:13:27 -0500 (Tue, 27 Oct 2020)
malbec1 Linux (Ubuntu 18.04.5 LTS) / x86_64  OK  OK  OK UNNEEDED, same version exists in internal repository
nebbiolo1 Linux (Ubuntu 20.04.1 LTS) / x86_64  OK  OK  OK 
tokay1 Windows Server 2012 R2 Standard / x64  OK  OK  OK [ OK ]UNNEEDED, same version exists in internal repository
merida1 macOS 10.14.6 Mojave / x86_64  ERROR  OK  ERROR  OK 

Summary

Package: BadRegionFinder
Version: 1.18.0
Command: rm -rf BadRegionFinder.buildbin-libdir && mkdir BadRegionFinder.buildbin-libdir && C:\Users\biocbuild\bbs-3.12-bioc\R\bin\R.exe CMD INSTALL --merge-multiarch --build --library=BadRegionFinder.buildbin-libdir BadRegionFinder_1.18.0.tar.gz
StartedAt: 2021-01-25 08:41:55 -0500 (Mon, 25 Jan 2021)
EndedAt: 2021-01-25 08:43:01 -0500 (Mon, 25 Jan 2021)
EllapsedTime: 65.7 seconds
RetCode: 0
Status:  OK  
PackageFile: BadRegionFinder_1.18.0.zip
PackageFileSize: 886.5 KiB

Command output

##############################################################################
##############################################################################
###
### Running command:
###
###   rm -rf BadRegionFinder.buildbin-libdir && mkdir BadRegionFinder.buildbin-libdir && C:\Users\biocbuild\bbs-3.12-bioc\R\bin\R.exe CMD INSTALL --merge-multiarch --build --library=BadRegionFinder.buildbin-libdir BadRegionFinder_1.18.0.tar.gz
###
##############################################################################
##############################################################################



install for i386

* installing *source* package 'BadRegionFinder' ...
** using staged installation
** R
** inst
** byte-compile and prepare package for lazy loading
** help
*** installing help indices
  converting help for package 'BadRegionFinder'
    finding HTML links ... done
    BadRegionFinder-package                 html  
    determineCoverage                       html  
    determineCoverageQuality                html  
    determineQuantiles                      html  
    determineRegionsOfInterest              html  
    plotDetailed                            html  
    plotSummary                             html  
    plotSummaryGenes                        html  
    reportBadRegionsDetailed                html  
    reportBadRegionsGenes                   html  
    reportBadRegionsSummary                 html  
** building package indices
** installing vignettes
** testing if installed package can be loaded from temporary location
** testing if installed package can be loaded from final location
** testing if installed package keeps a record of temporary installation path

install for x64

* installing *source* package 'BadRegionFinder' ...
** testing if installed package can be loaded
* MD5 sums
packaged installation of 'BadRegionFinder' as BadRegionFinder_1.18.0.zip
* DONE (BadRegionFinder)