Back to Multiple platform build/check report for BioC 3.12
AB[C]DEFGHIJKLMNOPQRSTUVWXYZ

BUILD report for ChAMP on tokay1

This page was generated on 2020-08-07 12:03:11 -0400 (Fri, 07 Aug 2020).

TO THE DEVELOPERS/MAINTAINERS OF THE ChAMP PACKAGE: Please make sure to use the following settings in order to reproduce any error or warning you see on this page.
Package 261/1882HostnameOS / ArchINSTALLBUILDCHECKBUILD BIN
ChAMP 2.19.3
Yuan Tian
Snapshot Date: 2020-08-06 14:50:46 -0400 (Thu, 06 Aug 2020)
URL: https://git.bioconductor.org/packages/ChAMP
Branch: master
Last Commit: d524139
Last Changed Date: 2020-05-28 07:35:49 -0400 (Thu, 28 May 2020)
malbec1 Linux (Ubuntu 18.04.4 LTS) / x86_64  ERROR  ERROR  skipped 
tokay1 Windows Server 2012 R2 Standard / x64  ERROR [ ERROR ] skipped  skipped 
merida1 macOS 10.14.6 Mojave / x86_64  ERROR  ERROR  skipped  skipped 

Summary

Package: ChAMP
Version: 2.19.3
Command: chmod a+r ChAMP -R && C:\Users\biocbuild\bbs-3.12-bioc\R\bin\R.exe CMD build --keep-empty-dirs --no-resave-data ChAMP
StartedAt: 2020-08-06 20:04:39 -0400 (Thu, 06 Aug 2020)
EndedAt: 2020-08-06 20:05:37 -0400 (Thu, 06 Aug 2020)
EllapsedTime: 58.0 seconds
RetCode: 1
Status:  ERROR  
PackageFile: ChAMP_2.19.3.tar.gz
PackageFileSize: 5.808 MiB

Command output

##############################################################################
##############################################################################
###
### Running command:
###
###   chmod a+r ChAMP -R && C:\Users\biocbuild\bbs-3.12-bioc\R\bin\R.exe CMD build --keep-empty-dirs --no-resave-data ChAMP
###
##############################################################################
##############################################################################


* checking for file 'ChAMP/DESCRIPTION' ... OK
* preparing 'ChAMP':
* checking DESCRIPTION meta-information ... OK
* installing the package to build vignettes
      -----------------------------------
ERROR: dependency 'FEM' is not available for package 'ChAMP'
* removing 'C:/Users/biocbuild/bbs-3.12-bioc/tmpdir/RtmpWS48RC/Rinst19c863867c13/ChAMP'
      -----------------------------------
ERROR: package installation failed