Back to Multiple platform build/check report for BioC 3.12
A[B]CDEFGHIJKLMNOPQRSTUVWXYZ

INSTALL report for biobtreeR on malbec1

This page was generated on 2020-08-10 11:50:23 -0400 (Mon, 10 Aug 2020).

TO THE DEVELOPERS/MAINTAINERS OF THE biobtreeR PACKAGE: Please make sure to use the following settings in order to reproduce any error or warning you see on this page.
Package 146/1882HostnameOS / ArchINSTALLBUILDCHECKBUILD BIN
biobtreeR 1.1.0
Tamer Gur
Snapshot Date: 2020-08-09 14:51:29 -0400 (Sun, 09 Aug 2020)
URL: https://git.bioconductor.org/packages/biobtreeR
Branch: master
Last Commit: aa78b02
Last Changed Date: 2020-05-19 07:05:00 -0400 (Tue, 19 May 2020)
malbec1 Linux (Ubuntu 18.04.4 LTS) / x86_64 [ OK ] OK  OK UNNEEDED, same version exists in internal repository
nebbiolo1 Linux (Ubuntu 20.04.1 LTS) / x86_64  OK  OK  OK 
tokay1 Windows Server 2012 R2 Standard / x64  OK  OK  OK  OK UNNEEDED, same version exists in internal repository
merida1 macOS 10.14.6 Mojave / x86_64  OK  OK  OK  OK UNNEEDED, same version exists in internal repository

Summary

Package: biobtreeR
Version: 1.1.0
Command: /home/biocbuild/bbs-3.12-bioc/R/bin/R CMD INSTALL biobtreeR
StartedAt: 2020-08-09 16:06:47 -0400 (Sun, 09 Aug 2020)
EndedAt: 2020-08-09 16:06:50 -0400 (Sun, 09 Aug 2020)
EllapsedTime: 3.0 seconds
RetCode: 0
Status:  OK 

Command output

##############################################################################
##############################################################################
###
### Running command:
###
###   /home/biocbuild/bbs-3.12-bioc/R/bin/R CMD INSTALL biobtreeR
###
##############################################################################
##############################################################################


* installing to library ‘/home/biocbuild/bbs-3.12-bioc/R/library’
* installing *source* package ‘biobtreeR’ ...
** using staged installation
** R
** inst
** byte-compile and prepare package for lazy loading
** help
*** installing help indices
** building package indices
** installing vignettes
** testing if installed package can be loaded from temporary location
** testing if installed package can be loaded from final location
** testing if installed package keeps a record of temporary installation path
* DONE (biobtreeR)